BEGIN:VCALENDAR
VERSION:2.0
PRODID:-//Seniorocity - Seniors / Over 55&#039;s Guide to Perth - ECPv6.15.11//NONSGML v1.0//EN
CALSCALE:GREGORIAN
METHOD:PUBLISH
X-WR-CALNAME:Seniorocity - Seniors / Over 55&#039;s Guide to Perth
X-ORIGINAL-URL:https://seniorocity.com.au
X-WR-CALDESC:Events for Seniorocity - Seniors / Over 55&#039;s Guide to Perth
REFRESH-INTERVAL;VALUE=DURATION:PT1H
X-Robots-Tag:noindex
X-PUBLISHED-TTL:PT1H
BEGIN:VTIMEZONE
TZID:Australia/Perth
BEGIN:STANDARD
TZOFFSETFROM:+0800
TZOFFSETTO:+0800
TZNAME:AWST
DTSTART:20250101T000000
END:STANDARD
END:VTIMEZONE
BEGIN:VEVENT
DTSTART;TZID=Australia/Perth:20260415T191500
DTEND;TZID=Australia/Perth:20260415T201500
DTSTAMP:20260422T051322
CREATED:20250713T072936Z
LAST-MODIFIED:20260102T081026Z
UID:10791364-1776280500-1776284100@seniorocity.com.au
SUMMARY:FREE Community Yoga
DESCRIPTION:A class taught by teachers in training. Free of charge.
URL:https://seniorocity.com.au/whats-on-perth/free-community-yoga-40/
LOCATION:The Yoga Space\, 79 Colin Street\, #6\, West Perth\, WA\, 6005\, Australia
CATEGORIES:Free
ATTACH;FMTTYPE=image/jpeg:https://seniorocity.com.au/wp-content/uploads/2025/07/620679d6cce180570dcf21a88ec64011.jpg
END:VEVENT
BEGIN:VEVENT
DTSTART;TZID=Australia/Perth:20260408T191500
DTEND;TZID=Australia/Perth:20260408T201500
DTSTAMP:20260422T051322
CREATED:20250713T072936Z
LAST-MODIFIED:20260102T081025Z
UID:10791363-1775675700-1775679300@seniorocity.com.au
SUMMARY:FREE Community Yoga
DESCRIPTION:A class taught by teachers in training. Free of charge.
URL:https://seniorocity.com.au/whats-on-perth/free-community-yoga-39/
LOCATION:The Yoga Space\, 79 Colin Street\, #6\, West Perth\, WA\, 6005\, Australia
CATEGORIES:Free
ATTACH;FMTTYPE=image/jpeg:https://seniorocity.com.au/wp-content/uploads/2025/07/620679d6cce180570dcf21a88ec64011.jpg
END:VEVENT
BEGIN:VEVENT
DTSTART;TZID=Australia/Perth:20260401T191500
DTEND;TZID=Australia/Perth:20260401T201500
DTSTAMP:20260422T051322
CREATED:20250713T072936Z
LAST-MODIFIED:20260102T081024Z
UID:10791362-1775070900-1775074500@seniorocity.com.au
SUMMARY:FREE Community Yoga
DESCRIPTION:A class taught by teachers in training. Free of charge.
URL:https://seniorocity.com.au/whats-on-perth/free-community-yoga-38/
LOCATION:The Yoga Space\, 79 Colin Street\, #6\, West Perth\, WA\, 6005\, Australia
CATEGORIES:Free
ATTACH;FMTTYPE=image/jpeg:https://seniorocity.com.au/wp-content/uploads/2025/07/620679d6cce180570dcf21a88ec64011.jpg
END:VEVENT
BEGIN:VEVENT
DTSTART;TZID=Australia/Perth:20260325T191500
DTEND;TZID=Australia/Perth:20260325T201500
DTSTAMP:20260422T051322
CREATED:20250713T072935Z
LAST-MODIFIED:20260102T081023Z
UID:10791361-1774466100-1774469700@seniorocity.com.au
SUMMARY:FREE Community Yoga
DESCRIPTION:A class taught by teachers in training. Free of charge.
URL:https://seniorocity.com.au/whats-on-perth/free-community-yoga-37/
LOCATION:The Yoga Space\, 79 Colin Street\, #6\, West Perth\, WA\, 6005\, Australia
CATEGORIES:Free
ATTACH;FMTTYPE=image/jpeg:https://seniorocity.com.au/wp-content/uploads/2025/07/620679d6cce180570dcf21a88ec64011.jpg
END:VEVENT
BEGIN:VEVENT
DTSTART;TZID=Australia/Perth:20260318T191500
DTEND;TZID=Australia/Perth:20260318T201500
DTSTAMP:20260422T051322
CREATED:20250713T072935Z
LAST-MODIFIED:20260102T081022Z
UID:10791360-1773861300-1773864900@seniorocity.com.au
SUMMARY:FREE Community Yoga
DESCRIPTION:A class taught by teachers in training. Free of charge.
URL:https://seniorocity.com.au/whats-on-perth/free-community-yoga-36/
LOCATION:The Yoga Space\, 79 Colin Street\, #6\, West Perth\, WA\, 6005\, Australia
CATEGORIES:Free
ATTACH;FMTTYPE=image/jpeg:https://seniorocity.com.au/wp-content/uploads/2025/07/620679d6cce180570dcf21a88ec64011.jpg
END:VEVENT
BEGIN:VEVENT
DTSTART;TZID=Australia/Perth:20260311T191500
DTEND;TZID=Australia/Perth:20260311T201500
DTSTAMP:20260422T051322
CREATED:20250713T072935Z
LAST-MODIFIED:20260102T081008Z
UID:10791359-1773256500-1773260100@seniorocity.com.au
SUMMARY:FREE Community Yoga
DESCRIPTION:A class taught by teachers in training. Free of charge.
URL:https://seniorocity.com.au/whats-on-perth/free-community-yoga-35/
LOCATION:The Yoga Space\, 79 Colin Street\, #6\, West Perth\, WA\, 6005\, Australia
CATEGORIES:Free
ATTACH;FMTTYPE=image/jpeg:https://seniorocity.com.au/wp-content/uploads/2025/07/620679d6cce180570dcf21a88ec64011.jpg
END:VEVENT
BEGIN:VEVENT
DTSTART;TZID=Australia/Perth:20260304T191500
DTEND;TZID=Australia/Perth:20260304T201500
DTSTAMP:20260422T051322
CREATED:20250713T072934Z
LAST-MODIFIED:20260102T081007Z
UID:10791358-1772651700-1772655300@seniorocity.com.au
SUMMARY:FREE Community Yoga
DESCRIPTION:A class taught by teachers in training. Free of charge.
URL:https://seniorocity.com.au/whats-on-perth/free-community-yoga-34/
LOCATION:The Yoga Space\, 79 Colin Street\, #6\, West Perth\, WA\, 6005\, Australia
CATEGORIES:Free
ATTACH;FMTTYPE=image/jpeg:https://seniorocity.com.au/wp-content/uploads/2025/07/620679d6cce180570dcf21a88ec64011.jpg
END:VEVENT
BEGIN:VEVENT
DTSTART;TZID=Australia/Perth:20260225T191500
DTEND;TZID=Australia/Perth:20260225T201500
DTSTAMP:20260422T051322
CREATED:20250713T072934Z
LAST-MODIFIED:20260102T081005Z
UID:10791357-1772046900-1772050500@seniorocity.com.au
SUMMARY:FREE Community Yoga
DESCRIPTION:A class taught by teachers in training. Free of charge.
URL:https://seniorocity.com.au/whats-on-perth/free-community-yoga-33/
LOCATION:The Yoga Space\, 79 Colin Street\, #6\, West Perth\, WA\, 6005\, Australia
CATEGORIES:Free
ATTACH;FMTTYPE=image/jpeg:https://seniorocity.com.au/wp-content/uploads/2025/07/620679d6cce180570dcf21a88ec64011.jpg
END:VEVENT
BEGIN:VEVENT
DTSTART;TZID=Australia/Perth:20260218T191500
DTEND;TZID=Australia/Perth:20260218T201500
DTSTAMP:20260422T051322
CREATED:20250713T072934Z
LAST-MODIFIED:20260102T081004Z
UID:10791356-1771442100-1771445700@seniorocity.com.au
SUMMARY:FREE Community Yoga
DESCRIPTION:A class taught by teachers in training. Free of charge.
URL:https://seniorocity.com.au/whats-on-perth/free-community-yoga-32/
LOCATION:The Yoga Space\, 79 Colin Street\, #6\, West Perth\, WA\, 6005\, Australia
CATEGORIES:Free
ATTACH;FMTTYPE=image/jpeg:https://seniorocity.com.au/wp-content/uploads/2025/07/620679d6cce180570dcf21a88ec64011.jpg
END:VEVENT
BEGIN:VEVENT
DTSTART;TZID=Australia/Perth:20260211T191500
DTEND;TZID=Australia/Perth:20260211T201500
DTSTAMP:20260422T051322
CREATED:20250713T072934Z
LAST-MODIFIED:20260102T081003Z
UID:10791355-1770837300-1770840900@seniorocity.com.au
SUMMARY:FREE Community Yoga
DESCRIPTION:A class taught by teachers in training. Free of charge.
URL:https://seniorocity.com.au/whats-on-perth/free-community-yoga-31/
LOCATION:The Yoga Space\, 79 Colin Street\, #6\, West Perth\, WA\, 6005\, Australia
CATEGORIES:Free
ATTACH;FMTTYPE=image/jpeg:https://seniorocity.com.au/wp-content/uploads/2025/07/620679d6cce180570dcf21a88ec64011.jpg
END:VEVENT
BEGIN:VEVENT
DTSTART;TZID=Australia/Perth:20260204T191500
DTEND;TZID=Australia/Perth:20260204T201500
DTSTAMP:20260422T051322
CREATED:20250713T072933Z
LAST-MODIFIED:20260102T081001Z
UID:10791354-1770232500-1770236100@seniorocity.com.au
SUMMARY:FREE Community Yoga
DESCRIPTION:A class taught by teachers in training. Free of charge.
URL:https://seniorocity.com.au/whats-on-perth/free-community-yoga-30/
LOCATION:The Yoga Space\, 79 Colin Street\, #6\, West Perth\, WA\, 6005\, Australia
CATEGORIES:Free
ATTACH;FMTTYPE=image/jpeg:https://seniorocity.com.au/wp-content/uploads/2025/07/620679d6cce180570dcf21a88ec64011.jpg
END:VEVENT
BEGIN:VEVENT
DTSTART;TZID=Australia/Perth:20260128T191500
DTEND;TZID=Australia/Perth:20260128T201500
DTSTAMP:20260422T051322
CREATED:20250713T072933Z
LAST-MODIFIED:20260102T081000Z
UID:10791353-1769627700-1769631300@seniorocity.com.au
SUMMARY:FREE Community Yoga
DESCRIPTION:A class taught by teachers in training. Free of charge.
URL:https://seniorocity.com.au/whats-on-perth/free-community-yoga-29/
LOCATION:The Yoga Space\, 79 Colin Street\, #6\, West Perth\, WA\, 6005\, Australia
CATEGORIES:Free
ATTACH;FMTTYPE=image/jpeg:https://seniorocity.com.au/wp-content/uploads/2025/07/620679d6cce180570dcf21a88ec64011.jpg
END:VEVENT
BEGIN:VEVENT
DTSTART;TZID=Australia/Perth:20260121T191500
DTEND;TZID=Australia/Perth:20260121T201500
DTSTAMP:20260422T051322
CREATED:20250713T072932Z
LAST-MODIFIED:20260102T080959Z
UID:10791352-1769022900-1769026500@seniorocity.com.au
SUMMARY:FREE Community Yoga
DESCRIPTION:A class taught by teachers in training. Free of charge.
URL:https://seniorocity.com.au/whats-on-perth/free-community-yoga-28/
LOCATION:The Yoga Space\, 79 Colin Street\, #6\, West Perth\, WA\, 6005\, Australia
CATEGORIES:Free
ATTACH;FMTTYPE=image/jpeg:https://seniorocity.com.au/wp-content/uploads/2025/07/620679d6cce180570dcf21a88ec64011.jpg
END:VEVENT
END:VCALENDAR