BEGIN:VCALENDAR
VERSION:2.0
PRODID:-//Seniorocity - Seniors / Over 55&#039;s Guide to Perth - ECPv6.15.11//NONSGML v1.0//EN
CALSCALE:GREGORIAN
METHOD:PUBLISH
X-ORIGINAL-URL:https://seniorocity.com.au
X-WR-CALDESC:Events for Seniorocity - Seniors / Over 55&#039;s Guide to Perth
REFRESH-INTERVAL;VALUE=DURATION:PT1H
X-Robots-Tag:noindex
X-PUBLISHED-TTL:PT1H
BEGIN:VTIMEZONE
TZID:Australia/Perth
BEGIN:STANDARD
TZOFFSETFROM:+0800
TZOFFSETTO:+0800
TZNAME:AWST
DTSTART:20250101T000000
END:STANDARD
END:VTIMEZONE
BEGIN:VEVENT
DTSTART;TZID=Australia/Perth:20260402T130000
DTEND;TZID=Australia/Perth:20260402T150000
DTSTAMP:20260421T101957
CREATED:20260222T131850Z
LAST-MODIFIED:20260222T131850Z
UID:10863819-1775134800-1775142000@seniorocity.com.au
SUMMARY:Sit and Knit at Thornlie Library
DESCRIPTION:Knit while enjoying the company of other like-minded people.\nBring in your latest knitting or crochet project and join in the fun with this friendly group\, and get to know others with the same interests. Free help is available\, but the main focus is on fun and socialising. \nBring your own needles\, wool and half-finished projects to complete in company. \nFor adults. \nProgram days and times\nThursdays\, 1pm to 3pm
URL:https://seniorocity.com.au/whats-on-perth/sit-and-knit-at-thornlie-library/2026-04-02/
LOCATION:Thornlie Library\, 1 Culross Avenue\, Thornlie\, WA\, 6108\, Australia
CATEGORIES:Craft,Free,Knitting,Library Events
ATTACH;FMTTYPE=image/jpeg:https://seniorocity.com.au/wp-content/uploads/2026/02/Sit-and-Knit-at-Thornlie-Library.jpg
GEO:-32.0545779;115.9647226
X-APPLE-STRUCTURED-LOCATION;VALUE=URI;X-ADDRESS=Thornlie Library 1 Culross Avenue Thornlie WA 6108 Australia;X-APPLE-RADIUS=500;X-TITLE=1 Culross Avenue:geo:115.9647226,-32.0545779
END:VEVENT
BEGIN:VEVENT
DTSTART;TZID=Australia/Perth:20260402T110000
DTEND;TZID=Australia/Perth:20260402T123000
DTSTAMP:20260421T101957
CREATED:20260222T130618Z
LAST-MODIFIED:20260222T130618Z
UID:10863807-1775127600-1775133000@seniorocity.com.au
SUMMARY:Everyday English at Thornlie Library – Women's Class
DESCRIPTION:Everyday English classes are a great way for people to improve their English language skills and meet new people. Although the format mainly caters for migrants\, anyone interested in gaining confidence in speaking English is welcome to attend. This class is for women only. \nThe City’s libraries have literacy and language resources that may also assist you. \nFor adults. \nBookings are not required. \nProgram days and times\nThursdays during school term\, 11am – 12.30pm
URL:https://seniorocity.com.au/whats-on-perth/everyday-english-at-thornlie-library-womens-class/2026-04-02/
LOCATION:Thornlie Library\, 1 Culross Avenue\, Thornlie\, WA\, 6108\, Australia
CATEGORIES:Free,Language Class,Library Events
ATTACH;FMTTYPE=image/jpeg:https://seniorocity.com.au/wp-content/uploads/2026/02/Everyday-English-at-Thornlie-Library-–-Womens-Class.jpg
GEO:-32.0545779;115.9647226
X-APPLE-STRUCTURED-LOCATION;VALUE=URI;X-ADDRESS=Thornlie Library 1 Culross Avenue Thornlie WA 6108 Australia;X-APPLE-RADIUS=500;X-TITLE=1 Culross Avenue:geo:115.9647226,-32.0545779
END:VEVENT
BEGIN:VEVENT
DTSTART;TZID=Australia/Perth:20260327T103000
DTEND;TZID=Australia/Perth:20260327T120000
DTSTAMP:20260421T101957
CREATED:20260222T133956Z
LAST-MODIFIED:20260222T133956Z
UID:10863824-1774607400-1774612800@seniorocity.com.au
SUMMARY:Everyday English at Thornlie Library - Mixed Group
DESCRIPTION:Everyday English classes are a great way for people to improve their English language skills and meet new people. Although the format mainly caters for migrants\, anyone interested in gaining confidence in speaking English is welcome to attend. Friday classes are a mixed-gender class and a women-only class is available on Thursdays. \nThe City’s libraries have literacy and language learning resources that may also assist you. \nFor adults. \nBookings are not required. \nProgram days and times\nFridays during school term\, 10.30am – 12pm
URL:https://seniorocity.com.au/whats-on-perth/everyday-english-at-thornlie-library-mixed-group/2026-03-27/
LOCATION:Thornlie Library\, 1 Culross Avenue\, Thornlie\, WA\, 6108\, Australia
CATEGORIES:Free,Language Class,Library Events
ATTACH;FMTTYPE=image/jpeg:https://seniorocity.com.au/wp-content/uploads/2026/02/Everyday-English-at-Thornlie-Library-Mixed-Group.jpg
GEO:-32.0545779;115.9647226
X-APPLE-STRUCTURED-LOCATION;VALUE=URI;X-ADDRESS=Thornlie Library 1 Culross Avenue Thornlie WA 6108 Australia;X-APPLE-RADIUS=500;X-TITLE=1 Culross Avenue:geo:115.9647226,-32.0545779
END:VEVENT
END:VCALENDAR