BEGIN:VCALENDAR
VERSION:2.0
PRODID:-//Seniorocity - Seniors / Over 55&#039;s Guide to Perth - ECPv6.15.11//NONSGML v1.0//EN
CALSCALE:GREGORIAN
METHOD:PUBLISH
X-WR-CALNAME:Seniorocity - Seniors / Over 55&#039;s Guide to Perth
X-ORIGINAL-URL:https://seniorocity.com.au
X-WR-CALDESC:Events for Seniorocity - Seniors / Over 55&#039;s Guide to Perth
REFRESH-INTERVAL;VALUE=DURATION:PT1H
X-Robots-Tag:noindex
X-PUBLISHED-TTL:PT1H
BEGIN:VTIMEZONE
TZID:Australia/Perth
BEGIN:STANDARD
TZOFFSETFROM:+0800
TZOFFSETTO:+0800
TZNAME:AWST
DTSTART:20250101T000000
END:STANDARD
END:VTIMEZONE
BEGIN:VEVENT
DTSTART;TZID=Australia/Perth:20260418T090000
DTEND;TZID=Australia/Perth:20260418T120000
DTSTAMP:20260423T014615
CREATED:20260324T132029Z
LAST-MODIFIED:20260324T132029Z
UID:10865110-1776502800-1776513600@seniorocity.com.au
SUMMARY:Nexus Toy & Collectors Fair
DESCRIPTION:Back for the 18th APRIL 2026\, Nexus Toy Fair is one of WA’s longest running exhibitions of new and vintage collectables\, spanning almost every taste\, from Action Figures and Comic Books\, through Lego\, Model cars\, Video Games\, Trading cards\, Books\, Art\, Magazines\, Dolls\, Coins\, Movies & so much more!\nLocated at Leisurelife Centre\, East Vic Park\, this family friendly event is a cheap fun visit at only $5 per person\, with kids 7 & under\, Free!
URL:https://seniorocity.com.au/whats-on-perth/nexus-toy-collectors-fair/
LOCATION:Victoria Park Leisurelife Centre\, 34 Kent St\, Victoria Park\, WA\, 6101\, Australia
CATEGORIES:Fair,Markets
ATTACH;FMTTYPE=image/jpeg:https://seniorocity.com.au/wp-content/uploads/2026/03/Nexus-Toy-Collectors-Fair.jpg
END:VEVENT
END:VCALENDAR