BEGIN:VCALENDAR
VERSION:2.0
PRODID:-//Seniorocity - Seniors / Over 55&#039;s Guide to Perth - ECPv6.15.11//NONSGML v1.0//EN
CALSCALE:GREGORIAN
METHOD:PUBLISH
X-WR-CALNAME:Seniorocity - Seniors / Over 55&#039;s Guide to Perth
X-ORIGINAL-URL:https://seniorocity.com.au
X-WR-CALDESC:Events for Seniorocity - Seniors / Over 55&#039;s Guide to Perth
REFRESH-INTERVAL;VALUE=DURATION:PT1H
X-Robots-Tag:noindex
X-PUBLISHED-TTL:PT1H
BEGIN:VTIMEZONE
TZID:Australia/Perth
BEGIN:STANDARD
TZOFFSETFROM:+0800
TZOFFSETTO:+0800
TZNAME:AWST
DTSTART:20250101T000000
END:STANDARD
END:VTIMEZONE
BEGIN:VEVENT
DTSTART;TZID=Australia/Perth:20260427T093000
DTEND;TZID=Australia/Perth:20260427T103000
DTSTAMP:20260421T090905
CREATED:20260104T135102Z
LAST-MODIFIED:20260104T135102Z
UID:10860446-1777282200-1777285800@seniorocity.com.au
SUMMARY:Keep Fit ~ over 55s
DESCRIPTION:A progressive workout including a range of exercises that are performed seated in a chair – no need to get on the floor. \nWear light exercise clothing\, wear sports shoes and bring water. \nMardoo room | Bookings essential \nPlease email your interest to CD_Admin@fremantle.wa.gov.au.
URL:https://seniorocity.com.au/whats-on-perth/keep-fit-over-55s/2026-04-27/
LOCATION:Walyalup Civic Centre – Fremantle Library\, Mardoo room\, 151 High Street\, Fremantle\, WA\, 6160\, Australia
CATEGORIES:Health,Sport Activities
ATTACH;FMTTYPE=image/jpeg:https://seniorocity.com.au/wp-content/uploads/2026/01/Keep-Fit-over-55s.jpg
END:VEVENT
END:VCALENDAR