BEGIN:VCALENDAR
VERSION:2.0
PRODID:-//Seniorocity - Seniors / Over 55&#039;s Guide to Perth - ECPv6.15.11//NONSGML v1.0//EN
CALSCALE:GREGORIAN
METHOD:PUBLISH
X-ORIGINAL-URL:https://seniorocity.com.au
X-WR-CALDESC:Events for Seniorocity - Seniors / Over 55&#039;s Guide to Perth
REFRESH-INTERVAL;VALUE=DURATION:PT1H
X-Robots-Tag:noindex
X-PUBLISHED-TTL:PT1H
BEGIN:VTIMEZONE
TZID:Australia/Perth
BEGIN:STANDARD
TZOFFSETFROM:+0800
TZOFFSETTO:+0800
TZNAME:AWST
DTSTART:20250101T000000
END:STANDARD
END:VTIMEZONE
BEGIN:VEVENT
DTSTART;TZID=Australia/Perth:20260413T100000
DTEND;TZID=Australia/Perth:20260413T113000
DTSTAMP:20260421T082603
CREATED:20260204T090310Z
LAST-MODIFIED:20260204T090343Z
UID:10862731-1776074400-1776079800@seniorocity.com.au
SUMMARY:Mandarin Conversation Group for Seniors
DESCRIPTION:我们是一个为年长者提供的中文会话小组，让您可以练习和提高您的普通话水平和可以社交互动，欢迎加入我们！
URL:https://seniorocity.com.au/whats-on-perth/mandarin-conversation-group-for-seniors-8/
LOCATION:Willetton Library\, 37 Burrendah Boulevard\, Willetton\, WA\, 6155\, Australia
CATEGORIES:Language Class
ATTACH;FMTTYPE=image/jpeg:https://seniorocity.com.au/wp-content/uploads/2026/02/4e7b5071f7538329f8c4d7cdbe265400.jpg
GEO:-32.0576661;115.8795741
X-APPLE-STRUCTURED-LOCATION;VALUE=URI;X-ADDRESS=Willetton Library 37 Burrendah Boulevard Willetton WA 6155 Australia;X-APPLE-RADIUS=500;X-TITLE=37 Burrendah Boulevard:geo:115.8795741,-32.0576661
END:VEVENT
BEGIN:VEVENT
DTSTART;TZID=Australia/Perth:20260309T100000
DTEND;TZID=Australia/Perth:20260309T113000
DTSTAMP:20260421T082603
CREATED:20260204T090310Z
LAST-MODIFIED:20260204T090332Z
UID:10862730-1773050400-1773055800@seniorocity.com.au
SUMMARY:Mandarin Conversation Group for Seniors
DESCRIPTION:我们是一个为年长者提供的中文会话小组，让您可以练习和提高您的普通话水平和可以社交互动，欢迎加入我们！
URL:https://seniorocity.com.au/whats-on-perth/mandarin-conversation-group-for-seniors-7/
LOCATION:Willetton Library\, 37 Burrendah Boulevard\, Willetton\, WA\, 6155\, Australia
CATEGORIES:Language Class
ATTACH;FMTTYPE=image/jpeg:https://seniorocity.com.au/wp-content/uploads/2026/02/4e7b5071f7538329f8c4d7cdbe265400.jpg
GEO:-32.0576661;115.8795741
X-APPLE-STRUCTURED-LOCATION;VALUE=URI;X-ADDRESS=Willetton Library 37 Burrendah Boulevard Willetton WA 6155 Australia;X-APPLE-RADIUS=500;X-TITLE=37 Burrendah Boulevard:geo:115.8795741,-32.0576661
END:VEVENT
BEGIN:VEVENT
DTSTART;TZID=Australia/Perth:20260209T100000
DTEND;TZID=Australia/Perth:20260209T113000
DTSTAMP:20260421T082603
CREATED:20260204T090307Z
LAST-MODIFIED:20260204T090320Z
UID:10862729-1770631200-1770636600@seniorocity.com.au
SUMMARY:Mandarin Conversation Group for Seniors
DESCRIPTION:我们是一个为年长者提供的中文会话小组，让您可以练习和提高您的普通话水平和可以社交互动，欢迎加入我们！
URL:https://seniorocity.com.au/whats-on-perth/mandarin-conversation-group-for-seniors-6/
LOCATION:Willetton Library\, 37 Burrendah Boulevard\, Willetton\, WA\, 6155\, Australia
CATEGORIES:Language Class
ATTACH;FMTTYPE=image/jpeg:https://seniorocity.com.au/wp-content/uploads/2026/02/4e7b5071f7538329f8c4d7cdbe265400.jpg
GEO:-32.0576661;115.8795741
X-APPLE-STRUCTURED-LOCATION;VALUE=URI;X-ADDRESS=Willetton Library 37 Burrendah Boulevard Willetton WA 6155 Australia;X-APPLE-RADIUS=500;X-TITLE=37 Burrendah Boulevard:geo:115.8795741,-32.0576661
END:VEVENT
BEGIN:VEVENT
DTSTART;TZID=Australia/Perth:20260129T113000
DTEND;TZID=Australia/Perth:20260129T120000
DTSTAMP:20260421T082603
CREATED:20260102T075520Z
LAST-MODIFIED:20260102T081008Z
UID:10858002-1769686200-1769688000@seniorocity.com.au
SUMMARY:Longevitology
DESCRIPTION:Energy healing adjustments performed by experienced volunteers.
URL:https://seniorocity.com.au/whats-on-perth/longevitology-8/
LOCATION:Willetton Library\, 37 Burrendah Boulevard\, Willetton\, WA\, 6155\, Australia
CATEGORIES:Library Events
ATTACH;FMTTYPE=image/jpeg:https://seniorocity.com.au/wp-content/uploads/2026/01/e3c92885e8859b29c3e174a2a2df5fa9.jpg
GEO:-32.0576661;115.8795741
X-APPLE-STRUCTURED-LOCATION;VALUE=URI;X-ADDRESS=Willetton Library 37 Burrendah Boulevard Willetton WA 6155 Australia;X-APPLE-RADIUS=500;X-TITLE=37 Burrendah Boulevard:geo:115.8795741,-32.0576661
END:VEVENT
BEGIN:VEVENT
DTSTART;TZID=Australia/Perth:20260129T110000
DTEND;TZID=Australia/Perth:20260129T113000
DTSTAMP:20260421T082603
CREATED:20260102T075519Z
LAST-MODIFIED:20260102T080953Z
UID:10858001-1769684400-1769686200@seniorocity.com.au
SUMMARY:Longevitology
DESCRIPTION:Energy healing adjustments performed by experienced volunteers.
URL:https://seniorocity.com.au/whats-on-perth/longevitology-7/
LOCATION:Willetton Library\, 37 Burrendah Boulevard\, Willetton\, WA\, 6155\, Australia
CATEGORIES:Library Events
ATTACH;FMTTYPE=image/jpeg:https://seniorocity.com.au/wp-content/uploads/2026/01/e3c92885e8859b29c3e174a2a2df5fa9.jpg
GEO:-32.0576661;115.8795741
X-APPLE-STRUCTURED-LOCATION;VALUE=URI;X-ADDRESS=Willetton Library 37 Burrendah Boulevard Willetton WA 6155 Australia;X-APPLE-RADIUS=500;X-TITLE=37 Burrendah Boulevard:geo:115.8795741,-32.0576661
END:VEVENT
BEGIN:VEVENT
DTSTART;TZID=Australia/Perth:20260129T103000
DTEND;TZID=Australia/Perth:20260129T110000
DTSTAMP:20260421T082603
CREATED:20260102T075519Z
LAST-MODIFIED:20260102T080943Z
UID:10858000-1769682600-1769684400@seniorocity.com.au
SUMMARY:Longevitology
DESCRIPTION:Energy healing adjustments performed by experienced volunteers.
URL:https://seniorocity.com.au/whats-on-perth/longevitology-6/
LOCATION:Willetton Library\, 37 Burrendah Boulevard\, Willetton\, WA\, 6155\, Australia
CATEGORIES:Library Events
ATTACH;FMTTYPE=image/jpeg:https://seniorocity.com.au/wp-content/uploads/2026/01/e3c92885e8859b29c3e174a2a2df5fa9.jpg
GEO:-32.0576661;115.8795741
X-APPLE-STRUCTURED-LOCATION;VALUE=URI;X-ADDRESS=Willetton Library 37 Burrendah Boulevard Willetton WA 6155 Australia;X-APPLE-RADIUS=500;X-TITLE=37 Burrendah Boulevard:geo:115.8795741,-32.0576661
END:VEVENT
BEGIN:VEVENT
DTSTART;TZID=Australia/Perth:20260129T100000
DTEND;TZID=Australia/Perth:20260129T103000
DTSTAMP:20260421T082603
CREATED:20260102T075518Z
LAST-MODIFIED:20260102T080931Z
UID:10857999-1769680800-1769682600@seniorocity.com.au
SUMMARY:Longevitology
DESCRIPTION:Energy healing adjustments performed by experienced volunteers.
URL:https://seniorocity.com.au/whats-on-perth/longevitology-5/
LOCATION:Willetton Library\, 37 Burrendah Boulevard\, Willetton\, WA\, 6155\, Australia
CATEGORIES:Library Events
ATTACH;FMTTYPE=image/jpeg:https://seniorocity.com.au/wp-content/uploads/2026/01/e3c92885e8859b29c3e174a2a2df5fa9.jpg
GEO:-32.0576661;115.8795741
X-APPLE-STRUCTURED-LOCATION;VALUE=URI;X-ADDRESS=Willetton Library 37 Burrendah Boulevard Willetton WA 6155 Australia;X-APPLE-RADIUS=500;X-TITLE=37 Burrendah Boulevard:geo:115.8795741,-32.0576661
END:VEVENT
BEGIN:VEVENT
DTSTART;TZID=Australia/Perth:20260115T113000
DTEND;TZID=Australia/Perth:20260115T120000
DTSTAMP:20260421T082603
CREATED:20260102T075518Z
LAST-MODIFIED:20260102T080917Z
UID:10857998-1768476600-1768478400@seniorocity.com.au
SUMMARY:Longevitology
DESCRIPTION:Energy healing adjustments performed by experienced volunteers.
URL:https://seniorocity.com.au/whats-on-perth/longevitology-4/
LOCATION:Willetton Library\, 37 Burrendah Boulevard\, Willetton\, WA\, 6155\, Australia
CATEGORIES:Library Events
ATTACH;FMTTYPE=image/jpeg:https://seniorocity.com.au/wp-content/uploads/2026/01/e3c92885e8859b29c3e174a2a2df5fa9.jpg
GEO:-32.0576661;115.8795741
X-APPLE-STRUCTURED-LOCATION;VALUE=URI;X-ADDRESS=Willetton Library 37 Burrendah Boulevard Willetton WA 6155 Australia;X-APPLE-RADIUS=500;X-TITLE=37 Burrendah Boulevard:geo:115.8795741,-32.0576661
END:VEVENT
BEGIN:VEVENT
DTSTART;TZID=Australia/Perth:20260115T110000
DTEND;TZID=Australia/Perth:20260115T113000
DTSTAMP:20260421T082603
CREATED:20260102T075517Z
LAST-MODIFIED:20260102T080906Z
UID:10857997-1768474800-1768476600@seniorocity.com.au
SUMMARY:Longevitology
DESCRIPTION:Energy healing adjustments performed by experienced volunteers.
URL:https://seniorocity.com.au/whats-on-perth/longevitology-3/
LOCATION:Willetton Library\, 37 Burrendah Boulevard\, Willetton\, WA\, 6155\, Australia
CATEGORIES:Library Events
ATTACH;FMTTYPE=image/jpeg:https://seniorocity.com.au/wp-content/uploads/2026/01/e3c92885e8859b29c3e174a2a2df5fa9.jpg
GEO:-32.0576661;115.8795741
X-APPLE-STRUCTURED-LOCATION;VALUE=URI;X-ADDRESS=Willetton Library 37 Burrendah Boulevard Willetton WA 6155 Australia;X-APPLE-RADIUS=500;X-TITLE=37 Burrendah Boulevard:geo:115.8795741,-32.0576661
END:VEVENT
BEGIN:VEVENT
DTSTART;TZID=Australia/Perth:20260115T103000
DTEND;TZID=Australia/Perth:20260115T110000
DTSTAMP:20260421T082603
CREATED:20260102T075516Z
LAST-MODIFIED:20260102T080851Z
UID:10857996-1768473000-1768474800@seniorocity.com.au
SUMMARY:Longevitology
DESCRIPTION:Energy healing adjustments performed by experienced volunteers.
URL:https://seniorocity.com.au/whats-on-perth/longevitology-2/
LOCATION:Willetton Library\, 37 Burrendah Boulevard\, Willetton\, WA\, 6155\, Australia
CATEGORIES:Library Events
ATTACH;FMTTYPE=image/jpeg:https://seniorocity.com.au/wp-content/uploads/2026/01/e3c92885e8859b29c3e174a2a2df5fa9.jpg
GEO:-32.0576661;115.8795741
X-APPLE-STRUCTURED-LOCATION;VALUE=URI;X-ADDRESS=Willetton Library 37 Burrendah Boulevard Willetton WA 6155 Australia;X-APPLE-RADIUS=500;X-TITLE=37 Burrendah Boulevard:geo:115.8795741,-32.0576661
END:VEVENT
BEGIN:VEVENT
DTSTART;TZID=Australia/Perth:20260115T100000
DTEND;TZID=Australia/Perth:20260115T103000
DTSTAMP:20260421T082603
CREATED:20260102T075513Z
LAST-MODIFIED:20260102T080842Z
UID:10857995-1768471200-1768473000@seniorocity.com.au
SUMMARY:Longevitology
DESCRIPTION:Energy healing adjustments performed by experienced volunteers.
URL:https://seniorocity.com.au/whats-on-perth/longevitology/
LOCATION:Willetton Library\, 37 Burrendah Boulevard\, Willetton\, WA\, 6155\, Australia
CATEGORIES:Library Events
ATTACH;FMTTYPE=image/jpeg:https://seniorocity.com.au/wp-content/uploads/2026/01/e3c92885e8859b29c3e174a2a2df5fa9.jpg
GEO:-32.0576661;115.8795741
X-APPLE-STRUCTURED-LOCATION;VALUE=URI;X-ADDRESS=Willetton Library 37 Burrendah Boulevard Willetton WA 6155 Australia;X-APPLE-RADIUS=500;X-TITLE=37 Burrendah Boulevard:geo:115.8795741,-32.0576661
END:VEVENT
END:VCALENDAR