BEGIN:VCALENDAR
VERSION:2.0
PRODID:-//Seniorocity - Seniors / Over 55&#039;s Guide to Perth - ECPv6.15.11//NONSGML v1.0//EN
CALSCALE:GREGORIAN
METHOD:PUBLISH
X-ORIGINAL-URL:https://seniorocity.com.au
X-WR-CALDESC:Events for Seniorocity - Seniors / Over 55&#039;s Guide to Perth
REFRESH-INTERVAL;VALUE=DURATION:PT1H
X-Robots-Tag:noindex
X-PUBLISHED-TTL:PT1H
BEGIN:VTIMEZONE
TZID:Australia/Perth
BEGIN:STANDARD
TZOFFSETFROM:+0800
TZOFFSETTO:+0800
TZNAME:AWST
DTSTART:20250101T000000
END:STANDARD
END:VTIMEZONE
BEGIN:VEVENT
DTSTART;TZID=Australia/Perth:20260510T110000
DTEND;TZID=Australia/Perth:20260510T200000
DTSTAMP:20260423T141446
CREATED:20260422T143421Z
LAST-MODIFIED:20260422T143421Z
UID:10866099-1778410800-1778443200@seniorocity.com.au
SUMMARY:Mother's Day at The Woody
DESCRIPTION:Have a casual lunch in the bistro or grab a drink and enjoy the live music.\nOpen from 11am with food from 11:30am\, we’ll be serving up some beautiful chef specials and every mum (or mother figure) will go in the draw to win a raffle prize.\nRaffle will be drawn every 1.5 hours and prizes range from manicure and hair styling vouchers to hair clips and nail polish – it’s completely luck of the draw.\nBook your spot and treat Mum to the relaxing afternoon she deserves.
URL:https://seniorocity.com.au/whats-on-perth/mothers-day-at-the-woody/
LOCATION:Woodbridge Hotel\, 50 East St\, Guildford\, au
CATEGORIES:Mother's Day
ATTACH;FMTTYPE=image/jpeg:https://seniorocity.com.au/wp-content/uploads/2026/04/Mothers-Day-at-The-Woody.jpg
GEO:-31.897409439087;115.98217773438
X-APPLE-STRUCTURED-LOCATION;VALUE=URI;X-ADDRESS=Woodbridge Hotel 50 East St Guildford au;X-APPLE-RADIUS=500;X-TITLE=50 East St:geo:115.98217773438,-31.897409439087
END:VEVENT
END:VCALENDAR