BEGIN:VCALENDAR
VERSION:2.0
PRODID:-//Seniorocity - Seniors / Over 55&#039;s Guide to Perth - ECPv6.15.11//NONSGML v1.0//EN
CALSCALE:GREGORIAN
METHOD:PUBLISH
X-ORIGINAL-URL:https://seniorocity.com.au
X-WR-CALDESC:Events for Seniorocity - Seniors / Over 55&#039;s Guide to Perth
REFRESH-INTERVAL;VALUE=DURATION:PT1H
X-Robots-Tag:noindex
X-PUBLISHED-TTL:PT1H
BEGIN:VTIMEZONE
TZID:Australia/Perth
BEGIN:STANDARD
TZOFFSETFROM:+0800
TZOFFSETTO:+0800
TZNAME:AWST
DTSTART:20250101T000000
END:STANDARD
END:VTIMEZONE
BEGIN:VEVENT
DTSTART;TZID=Australia/Perth:20260421T093000
DTEND;TZID=Australia/Perth:20260421T113000
DTSTAMP:20260421T155626
CREATED:20260117T143651Z
LAST-MODIFIED:20260117T143651Z
UID:10862141-1776763800-1776771000@seniorocity.com.au
SUMMARY:Family history help - Woodvale
DESCRIPTION:Explore your family history with the help of an expert volunteer. \nEnjoy free access to online tools like ancestry.com and Findmypast\, including the 1921 England and Wales census. \nBorrow resources from the genealogy collection for a richer research experience. \nNo cost. No bookings required.
URL:https://seniorocity.com.au/whats-on-perth/family-history-help-woodvale-2/2026-04-21/
LOCATION:Woodvale Library\, 5 Trappers Drive\, Woodvale\, WA\, 6026\, Australia
CATEGORIES:Free,History,Library Events
ATTACH;FMTTYPE=image/jpeg:https://seniorocity.com.au/wp-content/uploads/2026/01/Family-history-help-Woodvale-scaled.jpg
END:VEVENT
BEGIN:VEVENT
DTSTART;TZID=Australia/Perth:20260420T093000
DTEND;TZID=Australia/Perth:20260420T113000
DTSTAMP:20260421T155626
CREATED:20260117T142559Z
LAST-MODIFIED:20260117T142559Z
UID:10862042-1776677400-1776684600@seniorocity.com.au
SUMMARY:Art group
DESCRIPTION:Join our weekly community art group for inspiration\, great chats and new friendships in a creative space. \nNo cost. No bookings required.
URL:https://seniorocity.com.au/whats-on-perth/art-group-3/2026-04-20/
LOCATION:Woodvale Library\, 5 Trappers Drive\, Woodvale\, WA\, 6026\, Australia
CATEGORIES:Craft,Free,Library Events
ATTACH;FMTTYPE=image/jpeg:https://seniorocity.com.au/wp-content/uploads/2026/01/Art-group-1.jpg
END:VEVENT
BEGIN:VEVENT
DTSTART;TZID=Australia/Perth:20260402T170000
DTEND;TZID=Australia/Perth:20260402T190000
DTSTAMP:20260421T155626
CREATED:20260102T065007Z
LAST-MODIFIED:20260102T065007Z
UID:10857390-1775149200-1775156400@seniorocity.com.au
SUMMARY:Embroidery Group
DESCRIPTION:Bring along your own embroidery project and join this friendly group for chats and craft. \nBeginner friendly and all experience levels welcome. \nNo cost. No need to book.
URL:https://seniorocity.com.au/whats-on-perth/embroidery-group-2/2026-04-02/
LOCATION:Woodvale Library\, 5 Trappers Drive\, Woodvale\, WA\, 6026\, Australia
CATEGORIES:Craft,Library Events
ATTACH;FMTTYPE=image/jpeg:https://seniorocity.com.au/wp-content/uploads/2026/01/embroidery-3524900_1.jpg
END:VEVENT
BEGIN:VEVENT
DTSTART;TZID=Australia/Perth:20260402T160000
DTEND;TZID=Australia/Perth:20260402T180000
DTSTAMP:20260421T155626
CREATED:20260102T064444Z
LAST-MODIFIED:20260102T064444Z
UID:10857374-1775145600-1775152800@seniorocity.com.au
SUMMARY:Chess Afternoon
DESCRIPTION:A session for anyone who wants to learn how to play chess or have a friendly game. \nAll ages welcome. \nNo cost. No bookings required.
URL:https://seniorocity.com.au/whats-on-perth/chess-afternoon-2/2026-04-02/
LOCATION:Woodvale Library\, 5 Trappers Drive\, Woodvale\, WA\, 6026\, Australia
CATEGORIES:Library Events
ATTACH;FMTTYPE=image/png:https://seniorocity.com.au/wp-content/uploads/2026/01/Chess-afternoons.png
END:VEVENT
BEGIN:VEVENT
DTSTART;TZID=Australia/Perth:20260401T093000
DTEND;TZID=Australia/Perth:20260401T113000
DTSTAMP:20260421T155626
CREATED:20260102T063730Z
LAST-MODIFIED:20260102T063730Z
UID:10857348-1775035800-1775043000@seniorocity.com.au
SUMMARY:Crochet Group
DESCRIPTION:Join this friendly group to crochet with others in a casual social setting. \nBring a project or start something new. \nNo cost. No booking required.
URL:https://seniorocity.com.au/whats-on-perth/crochet-group/2026-04-01/
LOCATION:Woodvale Library\, 5 Trappers Drive\, Woodvale\, WA\, 6026\, Australia
CATEGORIES:Library Events
ATTACH;FMTTYPE=image/jpeg:https://seniorocity.com.au/wp-content/uploads/2026/01/Crochet_group-scaled.jpg
END:VEVENT
BEGIN:VEVENT
DTSTART;TZID=Australia/Perth:20260330T093000
DTEND;TZID=Australia/Perth:20260330T113000
DTSTAMP:20260421T155626
CREATED:20260102T063443Z
LAST-MODIFIED:20260102T063443Z
UID:10857335-1774863000-1774870200@seniorocity.com.au
SUMMARY:Art Group
DESCRIPTION:Join our weekly community art group for inspiration\, great chats and new friendships in a creative space. \nNo cost. No bookings required.
URL:https://seniorocity.com.au/whats-on-perth/art-group-2/2026-03-30/
LOCATION:Woodvale Library\, 5 Trappers Drive\, Woodvale\, WA\, 6026\, Australia
CATEGORIES:Library Events
ATTACH;FMTTYPE=image/jpeg:https://seniorocity.com.au/wp-content/uploads/2026/01/Art-Group.jpg
END:VEVENT
BEGIN:VEVENT
DTSTART;TZID=Australia/Perth:20260327T130000
DTEND;TZID=Australia/Perth:20260327T150000
DTSTAMP:20260421T155626
CREATED:20250216T044808Z
LAST-MODIFIED:20260102T065745Z
UID:10857459-1774616400-1774623600@seniorocity.com.au
SUMMARY:Canasta club
DESCRIPTION:Do you play Canasta and want to meet other community members who play? Playing Canasta can improve your concentration\, logical thinking skills and general wellbeing. Practice your skills and have fun while you do it. \nPlayers of all skill levels welcome. \nNo cost. No bookings required. 
URL:https://seniorocity.com.au/whats-on-perth/canasta-club-3/2026-03-27/
LOCATION:Woodvale Library\, 5 Trappers Drive\, Woodvale\, WA\, 6026\, Australia
CATEGORIES:Free,Games,Library Events,Social
ATTACH;FMTTYPE=image/png:https://seniorocity.com.au/wp-content/uploads/2025/02/Canasta-club.png
ORGANIZER;CN="City of Joondalup":MAILTO:info@joondalup.wa.gov.au
END:VEVENT
END:VCALENDAR