BEGIN:VCALENDAR
VERSION:2.0
PRODID:-//Seniorocity - Seniors / Over 55&#039;s Guide to Perth - ECPv6.15.11//NONSGML v1.0//EN
CALSCALE:GREGORIAN
METHOD:PUBLISH
X-WR-CALNAME:Seniorocity - Seniors / Over 55&#039;s Guide to Perth
X-ORIGINAL-URL:https://seniorocity.com.au
X-WR-CALDESC:Events for Seniorocity - Seniors / Over 55&#039;s Guide to Perth
REFRESH-INTERVAL;VALUE=DURATION:PT1H
X-Robots-Tag:noindex
X-PUBLISHED-TTL:PT1H
BEGIN:VTIMEZONE
TZID:Australia/Perth
BEGIN:STANDARD
TZOFFSETFROM:+0800
TZOFFSETTO:+0800
TZNAME:AWST
DTSTART:20250101T000000
END:STANDARD
END:VTIMEZONE
BEGIN:VEVENT
DTSTART;TZID=Australia/Perth:20260427T093000
DTEND;TZID=Australia/Perth:20260427T113000
DTSTAMP:20260421T125007
CREATED:20260117T142559Z
LAST-MODIFIED:20260117T142559Z
UID:10862043-1777282200-1777289400@seniorocity.com.au
SUMMARY:Art group
DESCRIPTION:Join our weekly community art group for inspiration\, great chats and new friendships in a creative space. \nNo cost. No bookings required.
URL:https://seniorocity.com.au/whats-on-perth/art-group-3/2026-04-27/
LOCATION:Woodvale Library\, 5 Trappers Drive\, Woodvale\, WA\, 6026\, Australia
CATEGORIES:Craft,Free,Library Events
ATTACH;FMTTYPE=image/jpeg:https://seniorocity.com.au/wp-content/uploads/2026/01/Art-group-1.jpg
END:VEVENT
BEGIN:VEVENT
DTSTART;TZID=Australia/Perth:20260428T093000
DTEND;TZID=Australia/Perth:20260428T113000
DTSTAMP:20260421T125007
CREATED:20260117T143651Z
LAST-MODIFIED:20260117T143651Z
UID:10862142-1777368600-1777375800@seniorocity.com.au
SUMMARY:Family history help - Woodvale
DESCRIPTION:Explore your family history with the help of an expert volunteer. \nEnjoy free access to online tools like ancestry.com and Findmypast\, including the 1921 England and Wales census. \nBorrow resources from the genealogy collection for a richer research experience. \nNo cost. No bookings required.
URL:https://seniorocity.com.au/whats-on-perth/family-history-help-woodvale-2/2026-04-28/
LOCATION:Woodvale Library\, 5 Trappers Drive\, Woodvale\, WA\, 6026\, Australia
CATEGORIES:Free,History,Library Events
ATTACH;FMTTYPE=image/jpeg:https://seniorocity.com.au/wp-content/uploads/2026/01/Family-history-help-Woodvale-scaled.jpg
END:VEVENT
BEGIN:VEVENT
DTSTART;TZID=Australia/Perth:20260501T100000
DTEND;TZID=Australia/Perth:20260508T110000
DTSTAMP:20260421T125007
CREATED:20260417T030039Z
LAST-MODIFIED:20260417T030039Z
UID:10865823-1777629600-1778238000@seniorocity.com.au
SUMMARY:Digital Drop-in - Digital Public Transport
DESCRIPTION:Join us for a beginner friendly introduction on how to use the Transperth app and tag on and off using your phone\, smartwatch or other device. \nNo cost. No need to book.
URL:https://seniorocity.com.au/whats-on-perth/digital-drop-in-digital-public-transport/
LOCATION:Woodvale Library\, 5 Trappers Drive\, Woodvale\, WA\, 6026\, Australia
CATEGORIES:Free,Information Session,Tech
ATTACH;FMTTYPE=image/jpeg:https://seniorocity.com.au/wp-content/uploads/2026/04/Digital-Drop-in-Digital-Public-Transport.jpg
END:VEVENT
BEGIN:VEVENT
DTSTART;TZID=Australia/Perth:20260507T170000
DTEND;TZID=Australia/Perth:20260507T190000
DTSTAMP:20260421T125008
CREATED:20260102T065007Z
LAST-MODIFIED:20260102T065007Z
UID:10857391-1778173200-1778180400@seniorocity.com.au
SUMMARY:Embroidery Group
DESCRIPTION:Bring along your own embroidery project and join this friendly group for chats and craft. \nBeginner friendly and all experience levels welcome. \nNo cost. No need to book.
URL:https://seniorocity.com.au/whats-on-perth/embroidery-group-2/2026-05-07/
LOCATION:Woodvale Library\, 5 Trappers Drive\, Woodvale\, WA\, 6026\, Australia
CATEGORIES:Craft,Library Events
ATTACH;FMTTYPE=image/jpeg:https://seniorocity.com.au/wp-content/uploads/2026/01/embroidery-3524900_1.jpg
END:VEVENT
END:VCALENDAR