BEGIN:VCALENDAR
VERSION:2.0
PRODID:-//Seniorocity - Seniors / Over 55&#039;s Guide to Perth - ECPv6.15.11//NONSGML v1.0//EN
CALSCALE:GREGORIAN
METHOD:PUBLISH
X-WR-CALNAME:Seniorocity - Seniors / Over 55&#039;s Guide to Perth
X-ORIGINAL-URL:https://seniorocity.com.au
X-WR-CALDESC:Events for Seniorocity - Seniors / Over 55&#039;s Guide to Perth
REFRESH-INTERVAL;VALUE=DURATION:PT1H
X-Robots-Tag:noindex
X-PUBLISHED-TTL:PT1H
BEGIN:VTIMEZONE
TZID:Australia/Perth
BEGIN:STANDARD
TZOFFSETFROM:+0800
TZOFFSETTO:+0800
TZNAME:AWST
DTSTART:20250101T000000
END:STANDARD
END:VTIMEZONE
BEGIN:VEVENT
DTSTART;TZID=Australia/Perth:20260406T100000
DTEND;TZID=Australia/Perth:20260406T150000
DTSTAMP:20260421T213020
CREATED:20260324T132900Z
LAST-MODIFIED:20260324T132900Z
UID:10865114-1775469600-1775487600@seniorocity.com.au
SUMMARY:EGG-cellent Easter Extravaganza
DESCRIPTION:We’re throwing an EGG-cellent Easter Extravaganza at Yahava KoffeeWorks Swan Valley — and we want your whole crew there!\n\nFrom Friday 3rd to Monday 6th April\, 10am–3pm each day\, we’ve got four days of FREE family fun packed with:\n\n Easter Egg Hunts — multiple times daily\n Meet the Easter Bunny\n Face Painting\n Babyccino Making Station\n Cuddly Animal Farm (Friday 3 & Monday 6 only)\n\n\n\nFree entry and all activities are also free
URL:https://seniorocity.com.au/whats-on-perth/egg-cellent-easter-extravaganza/2026-04-06/
LOCATION:Yahava Koffeeworks Swan Valley\, 4752 West Swan Road\, West Swan\, WA\, 6055\, Australia
CATEGORIES:Easter
ATTACH;FMTTYPE=image/jpeg:https://seniorocity.com.au/wp-content/uploads/2026/03/EGG-cellent-Easter-Extravaganza.jpg
END:VEVENT
END:VCALENDAR