BEGIN:VCALENDAR
VERSION:2.0
PRODID:-//Seniorocity - Seniors / Over 55&#039;s Guide to Perth - ECPv6.15.11//NONSGML v1.0//EN
CALSCALE:GREGORIAN
METHOD:PUBLISH
X-ORIGINAL-URL:https://seniorocity.com.au
X-WR-CALDESC:Events for Seniorocity - Seniors / Over 55&#039;s Guide to Perth
REFRESH-INTERVAL;VALUE=DURATION:PT1H
X-Robots-Tag:noindex
X-PUBLISHED-TTL:PT1H
BEGIN:VTIMEZONE
TZID:Australia/Perth
BEGIN:STANDARD
TZOFFSETFROM:+0800
TZOFFSETTO:+0800
TZNAME:AWST
DTSTART:20250101T000000
END:STANDARD
END:VTIMEZONE
BEGIN:VEVENT
DTSTART;TZID=Australia/Perth:20260510T143000
DTEND;TZID=Australia/Perth:20260510T160000
DTSTAMP:20260421T030120
CREATED:20260418T131343Z
LAST-MODIFIED:20260418T131343Z
UID:10865977-1778423400-1778428800@seniorocity.com.au
SUMMARY:Music for Mother's Day - by the Bach Family
DESCRIPTION:Holy trinity Church York WA. Perth’s popular Emanuel Ensemble returns to the picturesque town of York for a magnificent concert. \nVenue Holy Trinity Anglican Church \nCost: Adult $35.00 / Conc. $30.00 / Children $15.00
URL:https://seniorocity.com.au/whats-on-perth/music-for-mothers-day-by-the-bach-family/
LOCATION:York Holy Trinity Anglican Church\, Newcastle St\, York\, WA\, 6302\, Australia
CATEGORIES:Mother's Day
ATTACH;FMTTYPE=image/jpeg:https://seniorocity.com.au/wp-content/uploads/2026/04/Music-for-Mothers-Day-by-the-Bach-Family.jpg
END:VEVENT
END:VCALENDAR