BEGIN:VCALENDAR
VERSION:2.0
PRODID:-//Seniorocity - Seniors / Over 55&#039;s Guide to Perth - ECPv6.15.11//NONSGML v1.0//EN
CALSCALE:GREGORIAN
METHOD:PUBLISH
X-WR-CALNAME:Seniorocity - Seniors / Over 55&#039;s Guide to Perth
X-ORIGINAL-URL:https://seniorocity.com.au
X-WR-CALDESC:Events for Seniorocity - Seniors / Over 55&#039;s Guide to Perth
REFRESH-INTERVAL;VALUE=DURATION:PT1H
X-Robots-Tag:noindex
X-PUBLISHED-TTL:PT1H
BEGIN:VTIMEZONE
TZID:Australia/Perth
BEGIN:STANDARD
TZOFFSETFROM:+0800
TZOFFSETTO:+0800
TZNAME:AWST
DTSTART:20250101T000000
END:STANDARD
END:VTIMEZONE
BEGIN:VEVENT
DTSTART;TZID=Australia/Perth:20260424T180000
DTEND;TZID=Australia/Perth:20260427T180000
DTSTAMP:20260422T121216
CREATED:20260309T141223Z
LAST-MODIFIED:20260309T141223Z
UID:10864123-1777053600-1777312800@seniorocity.com.au
SUMMARY:York Heritage Weekend 2026 - Save the Date
DESCRIPTION:Save the date! – A packed Heritage Weekend for the whole family to enjoy.\nMore details and program coming soon.
URL:https://seniorocity.com.au/whats-on-perth/york-heritage-weekend-2026-save-the-date/
LOCATION:WA
CATEGORIES:Community Event,Family Event,History
ATTACH;FMTTYPE=image/jpeg:https://seniorocity.com.au/wp-content/uploads/2026/03/York-Heritage-Weekend-2026-Save-the-Date.jpg
END:VEVENT
BEGIN:VEVENT
DTSTART;TZID=Australia/Perth:20260426T060000
DTEND;TZID=Australia/Perth:20260426T110000
DTSTAMP:20260422T121216
CREATED:20250131T054410Z
LAST-MODIFIED:20260102T105315Z
UID:10859864-1777183200-1777201200@seniorocity.com.au
SUMMARY:Wanneroo Swapmeet
DESCRIPTION:A second hand\, craft\, micro and small business market stall event.Proudly supported by Wanneroo Business Association. \n\nWanneroo Swapmeet at Wannerroo Showgrounds is the place to be on Sunday mornings from 6 am – 11am. \n\n\nWe have heaps of space for sellers\, not just the width of your car boot in our open air swapmeet. \n\n\nLike the Facebook page for regular updates. \n\nBargains galore\, hot coffee\, ice-cream and sausage sizzle\, something for the whole family whilst you stroll in the fresh air.\n 
URL:https://seniorocity.com.au/whats-on-perth/wanneroo-swapmeet/2026-04-26/
LOCATION:Wanneroo Showgrounds\, Ariti Avenue\, Wanneroo\, WA\, 6065\, Australia
CATEGORIES:Markets,Swap Meet
ATTACH;FMTTYPE=image/png:https://seniorocity.com.au/wp-content/uploads/2025/01/Wanneroo-Swapmeet.png
END:VEVENT
BEGIN:VEVENT
DTSTART;TZID=Australia/Perth:20260426T063000
DTEND;TZID=Australia/Perth:20260426T113000
DTSTAMP:20260422T121216
CREATED:20260102T075702Z
LAST-MODIFIED:20260102T075730Z
UID:10858020-1777185000-1777203000@seniorocity.com.au
SUMMARY:Karrinyup Swapmart
DESCRIPTION:The Swapmart\, run by the Rotary Club of Scarborough\, is open every Sunday and only closed on those Sundays of special significance (e.g. Easter Sunday). \nThe Swapmart is located in the B1 ‘Yellow’ Carpark off Davenport road. \nSwapmart closures will be advised on this site or by visiting http://scarboroughrotary.org.au/SitePage/karrinyup-swapmart \nSellers \nCasual Sellers should arrive between 5.00am and 5.30am in order to set up before buyers arrive. \nThey will be given a number to enter the selling area and are admitted into the undercover selling area at 5:45am. When rain or very hot days are forecast there will be more sellers than usual. Maximum height of vehicles admitted – 2.2m. \nSellers are charged $10 per car bay they and their car occupied.\n\nBuyers: \nSwapMart opens at 6.30am to buyers. \nEntry is $2 with free entry for children. Please leave dogs at home as they will not be allowed in. \nPlease like our facebook page here.\n\nOrganised by the Scarborough Rotary\, with generous support from Karrinyup Shopping Centre Management. 
URL:https://seniorocity.com.au/whats-on-perth/karrinyup-swapmark/2026-04-26/
LOCATION:Karrinyup Shopping Centre\, 200 Karrinyup Road\, Karrinyup\, WA\, 6018\, Australia
CATEGORIES:Markets
ATTACH;FMTTYPE=image/jpeg:https://seniorocity.com.au/wp-content/uploads/2026/01/CC_KarrinyupSwap_831x478_f558d093.jpg
END:VEVENT
BEGIN:VEVENT
DTSTART;TZID=Australia/Perth:20260426T073000
DTEND;TZID=Australia/Perth:20260426T113000
DTSTAMP:20260422T121216
CREATED:20250131T035425Z
LAST-MODIFIED:20260102T074827Z
UID:10857806-1777188600-1777203000@seniorocity.com.au
SUMMARY:Stirling Farmers Market
DESCRIPTION:Stirling Farmers Markets is a community event supporting local growers/makers and is a project of the Rotary Club of Karrinyup. Shop for your weekly fresh fruit and vege\, honey\, bread\, meat and seasonal produce. Coffee van and hot food available onsite. \nFor more information regarding the Stirling Farmers Markets\, please visit their website here or Facebook page here. \n\n\n\n\n\n\n\n\n\n\n\n 
URL:https://seniorocity.com.au/whats-on-perth/stirling-farmers-market/2026-04-26/
LOCATION:City of Stirling Administration Building\, Cedric Street\, Stirling\, WA\, 6021\, Australia
CATEGORIES:Community Event,Family Event,Free,Markets
ATTACH;FMTTYPE=image/jpeg:https://seniorocity.com.au/wp-content/uploads/2025/01/CC_Stirling-Farmers-Market_831x478.jpg
END:VEVENT
BEGIN:VEVENT
DTSTART;TZID=Australia/Perth:20260426T080000
DTEND;TZID=Australia/Perth:20260426T120000
DTSTAMP:20260422T121216
CREATED:20250131T053351Z
LAST-MODIFIED:20260102T090011Z
UID:10858569-1777190400-1777204800@seniorocity.com.au
SUMMARY:Vic Park Market
DESCRIPTION:The Vic Park Markets are run by the Rotary Club of Victoria Park and are supported by the Town of Victoria Park. The market is held on Sunday Morning’s from 8am to 12pm. \nProducts for sale include fresh produce\, coffee\, breakfast foods and handmade goods by stallholders. \nThere is live musical entertainment every week to enjoy while you have breakfast with family and friends. There is also face painting for children\, weather permitting.
URL:https://seniorocity.com.au/whats-on-perth/vic-park-market/2026-04-26/
LOCATION:John McMillan Park\, Kent Street\, East Victoria Park\, WA\, 6101\, Australia
CATEGORIES:Community Event,Family Event,Free,Markets
ATTACH;FMTTYPE=image/jpeg:https://seniorocity.com.au/wp-content/uploads/2025/01/Vic-Park-Market.jpg
END:VEVENT
BEGIN:VEVENT
DTSTART;TZID=Australia/Perth:20260426T090000
DTEND;TZID=Australia/Perth:20260426T110000
DTSTAMP:20260422T121216
CREATED:20260312T143116Z
LAST-MODIFIED:20260312T143116Z
UID:10864201-1777194000-1777201200@seniorocity.com.au
SUMMARY:Active Photography
DESCRIPTION:As part of the Town’s Arts Season\, put on your walking shoes and bring your camera along to this four-week Active Photography Program. \nEach week\, we will walk through different parts of the town\, stopping to take mindful photos of the scenery and art. It’s about slowing down\, being present\, and appreciating the beauty around you. Whether you’re a seasoned photographer or a beginner\, this is a chance to explore the town’s charm through your own unique perspective. \nLearn how to explore light\, composition and content to produce beautiful photographs. Professional Photographer Adele Miles will give participants the skills and confidence to operate their cameras more competently. \nParticipants are required to bring their own camera. Digital SLR\, point and shoot\, phone cameras or film cameras\, it’s your choice. \nLimited spots available. Bookings are essential and all ages welcome. \n9-11am | $32 | Meeting location varies each week \n 
URL:https://seniorocity.com.au/whats-on-perth/active-photography/2026-04-26/
LOCATION:WA
CATEGORIES:Weekend events,Workshop
ATTACH;FMTTYPE=image/jpeg:https://seniorocity.com.au/wp-content/uploads/2026/03/Active-Photography.jpg
END:VEVENT
BEGIN:VEVENT
DTSTART;TZID=Australia/Perth:20260426T090000
DTEND;TZID=Australia/Perth:20260426T150000
DTSTAMP:20260422T121216
CREATED:20260217T141829Z
LAST-MODIFIED:20260217T141829Z
UID:10863683-1777194000-1777215600@seniorocity.com.au
SUMMARY:Mandurah Market Trail
DESCRIPTION:Discover the very first Mandurah Market Trail as three of your favourite markets come together in the heart of Mandurah. Enjoy fresh produce\, handmade goods\, and plenty of local bites. \nThe Mandurah Market Trail is bringing something new to your Sundays — and it all kicks off on Sunday 5 October\, 9am–3pm! From then on\, you can enjoy the Market Trail every Sunday\, with three of our favourite markets — Peach and Polly\, Peel Produce Markets\, and Mandjar Markets — running together each week along Smart\, Street Mall\, Mandjar Square and the Eastern Foreshore. \nThat means more stalls\, more local goodies\, and more reasons to get out and about with family and friends. Browse fresh produce\, handmade gifts\, homewares\, fashion and more while enjoying a great day out by the water. Kids and families will love the atmosphere\, with plenty of opportunities to grab a coffee or snack\, support local cafés and eateries\, and enjoy time together along our gorgeous foreshore. \nThe Mandurah Market Trail is all about backing our local growers\, makers and small businesses. Every dollar spent supports the people who bring our community to life — from farmers and foodies to artists and artisans. \nSo gather the family\, take your time\, and make Sundays in Mandurah all about supporting local and enjoying the best of our city.
URL:https://seniorocity.com.au/whats-on-perth/mandurah-market-trail/2026-04-26/
LOCATION:Eastern Foreshore Mandurah\, Mandurah Terrace\, Mandurah\, WA\, 6210\, Australia
CATEGORIES:Community Event,Free,Markets
ATTACH;FMTTYPE=image/jpeg:https://seniorocity.com.au/wp-content/uploads/2026/02/Mandurah-Market-Trail.jpg
END:VEVENT
BEGIN:VEVENT
DTSTART;TZID=Australia/Perth:20260426T103000
DTEND;TZID=Australia/Perth:20260426T123000
DTSTAMP:20260422T121216
CREATED:20260224T134517Z
LAST-MODIFIED:20260224T134517Z
UID:10863872-1777199400-1777206600@seniorocity.com.au
SUMMARY:The Gene Pitney Songbook – Performed by Andrew Simpson
DESCRIPTION:Andrew Simpson performs as the legend Gene Pitney \nBook now \nMorning Melodies is back for May! \nJoin us for a journey back in time\, when Andrew Simpson performs as the legend Gene Pitney in this energetic and faithful tribute to one of the greatest voices of all time. \nWith hits such as 24 Hrs from Tulsa\, Blue Angel\, The man who shot Liberty Vallance\, Hello Mary Lou\, and many many more\, this classic show promises to have your toes tapping along. \nSeating for this show will be cabaret style\, with a complimentary morning tea.
URL:https://seniorocity.com.au/whats-on-perth/the-gene-pitney-songbook-performed-by-andrew-simpson/
LOCATION:Harvey Recreation and Cultural Centre\, Tom Latch Drive\, Harvey\, WA\, 6220\, Australia
CATEGORIES:Music Event
ATTACH;FMTTYPE=image/png:https://seniorocity.com.au/wp-content/uploads/2026/02/The-Gene-Pitney-Songbook-–-Performed-by-Andrew-Simpson.png
END:VEVENT
BEGIN:VEVENT
DTSTART;TZID=Australia/Perth:20260426T140000
DTEND;TZID=Australia/Perth:20260426T143000
DTSTAMP:20260422T121216
CREATED:20260401T145927Z
LAST-MODIFIED:20260401T145941Z
UID:10865221-1777212000-1777213800@seniorocity.com.au
SUMMARY:Cockman House Guided Tour
DESCRIPTION:Join us during the Australian Heritage Festival for a guided tour of this historic local gem.
URL:https://seniorocity.com.au/whats-on-perth/cockman-house-guided-tour-2/
LOCATION:Cockman House\, Wanneroo\, Ancestor Retreat (off Woodvale Drive)\, Woodvale\, WA\, 6026\, Australia
CATEGORIES:Tour
ATTACH;FMTTYPE=image/jpeg:https://seniorocity.com.au/wp-content/uploads/2026/04/2782bd8e24a8327884502972eb1d263d-1.jpg
END:VEVENT
BEGIN:VEVENT
DTSTART;TZID=Australia/Perth:20260426T180000
DTEND;TZID=Australia/Perth:20260426T203000
DTSTAMP:20260422T121216
CREATED:20260313T133209Z
LAST-MODIFIED:20260313T133209Z
UID:10864206-1777226400-1777235400@seniorocity.com.au
SUMMARY:My Community Through My Eyes – Outdoor Movie Night
DESCRIPTION:Local children and young people have been invited to share what they love about their community by submitting a photo or short video showcasing people\, places or moments that make their town special. The submitted photos and video clips have been used to create a community film which will be shown before a family friendly movie. \nThe free outdoor movie event will also include family friendly activities\, awards for creative photos and video clips\, a free sausage sizzle\, drinks and popcorn. \nDate: Sunday 26 April \nTime: 6 – 8.30pm \nLocation: John Macmillan Park \nCost: Free – booking required \nThis event is part of our 2026 Arts Season program. Click here for more information about Arts Season.
URL:https://seniorocity.com.au/whats-on-perth/my-community-through-my-eyes-outdoor-movie-night/
LOCATION:John Macmillan Park
CATEGORIES:Community Event,Family Event,Free,Movies
ATTACH;FMTTYPE=image/png:https://seniorocity.com.au/wp-content/uploads/2026/03/My-Community-Through-My-Eyes-–-Outdoor-Movie-Night.png
END:VEVENT
END:VCALENDAR