BEGIN:VCALENDAR
VERSION:2.0
PRODID:-//Seniorocity - Seniors / Over 55&#039;s Guide to Perth - ECPv6.15.11//NONSGML v1.0//EN
CALSCALE:GREGORIAN
METHOD:PUBLISH
X-WR-CALNAME:Seniorocity - Seniors / Over 55&#039;s Guide to Perth
X-ORIGINAL-URL:https://seniorocity.com.au
X-WR-CALDESC:Events for Seniorocity - Seniors / Over 55&#039;s Guide to Perth
REFRESH-INTERVAL;VALUE=DURATION:PT1H
X-Robots-Tag:noindex
X-PUBLISHED-TTL:PT1H
BEGIN:VTIMEZONE
TZID:Australia/Perth
BEGIN:STANDARD
TZOFFSETFROM:+0800
TZOFFSETTO:+0800
TZNAME:AWST
DTSTART:20250101T000000
END:STANDARD
END:VTIMEZONE
BEGIN:VEVENT
DTSTART;TZID=Australia/Perth:20260501T100000
DTEND;TZID=Australia/Perth:20260503T170000
DTSTAMP:20260423T045521
CREATED:20260402T153322Z
LAST-MODIFIED:20260402T153533Z
UID:10865308-1777629600-1777827600@seniorocity.com.au
SUMMARY:Perth Autumn Makers Market & Food Festival 2026
DESCRIPTION:Dive into Perth’s Autumn Makers Market & Food Fest 2026 for cool crafts and tasty bites in person!\n\n\nExperience the best of the season at the Perth Autumn Makers Market & Food Festival 2026\, a vibrant three-day outdoor event set along the stunning waterfront at Elizabeth Quay. This exciting festival brings together local artisans\, boutique vendors\, food creators\, and small businesses for a lively weekend filled with shopping\, entertainment\, and community. \nVisitors can explore a diverse marketplace featuring handmade crafts\, jewelry\, fashion\, home décor\, artwork\, candles\, and unique locally made products. The event will also showcase a variety of food trucks and specialty food vendors offering delicious meals\, gourmet treats\, and international cuisine. \nWith live entertainment\, a relaxed waterfront atmosphere\, and one of Perth’s most iconic locations\, this event is perfect for families\, tourists\, and locals looking to shop\, eat\, and enjoy a fun autumn weekend. \nVendor Information:Vendors interested in reserving booth space should text James at jameslramsey14@gmail.com for vendor details\, booth pricing\, and availability.
URL:https://seniorocity.com.au/whats-on-perth/perth-autumn-makers-market-food-festival-2026/
LOCATION:Elizabeth Quay\, The Esplanade\, Perth\, WA\, 6000\, Australia
CATEGORIES:Markets
ATTACH;FMTTYPE=image/jpeg:https://seniorocity.com.au/wp-content/uploads/2026/04/a7595cc6230609d363d45116a1533571.jpg
END:VEVENT
BEGIN:VEVENT
DTSTART;TZID=Australia/Perth:20260501T100000
DTEND;TZID=Australia/Perth:20260508T110000
DTSTAMP:20260423T045521
CREATED:20260417T030039Z
LAST-MODIFIED:20260417T030039Z
UID:10865823-1777629600-1778238000@seniorocity.com.au
SUMMARY:Digital Drop-in - Digital Public Transport
DESCRIPTION:Join us for a beginner friendly introduction on how to use the Transperth app and tag on and off using your phone\, smartwatch or other device. \nNo cost. No need to book.
URL:https://seniorocity.com.au/whats-on-perth/digital-drop-in-digital-public-transport/
LOCATION:Woodvale Library\, 5 Trappers Drive\, Woodvale\, WA\, 6026\, Australia
CATEGORIES:Free,Information Session,Tech
ATTACH;FMTTYPE=image/jpeg:https://seniorocity.com.au/wp-content/uploads/2026/04/Digital-Drop-in-Digital-Public-Transport.jpg
END:VEVENT
BEGIN:VEVENT
DTSTART;VALUE=DATE:20260502
DTEND;VALUE=DATE:20260518
DTSTAMP:20260423T045521
CREATED:20260415T065618Z
LAST-MODIFIED:20260415T065618Z
UID:10865666-1777680000-1779062399@seniorocity.com.au
SUMMARY:Armadale Arts Festival
DESCRIPTION:The Armadale Arts Festival is a creative program of live music\, urban art\, theatre\, literature\, and arts and crafts\, all showcasing our incredible local talent. \nCome along\, explore our district\, and discover something new at the Armadale Arts Festival! There’s something for everyone! \nThis event is brought to you by the City of Armadale and is alcohol\, smoke and vape free. \n 
URL:https://seniorocity.com.au/whats-on-perth/armadale-arts-festival/
LOCATION:WA
CATEGORIES:Festival,Festivals,Free
ATTACH;FMTTYPE=image/jpeg:https://seniorocity.com.au/wp-content/uploads/2026/04/Armadale-Arts-Festival.jpg
END:VEVENT
BEGIN:VEVENT
DTSTART;TZID=Australia/Perth:20260502T160000
DTEND;TZID=Australia/Perth:20260509T173000
DTSTAMP:20260423T045521
CREATED:20260415T070851Z
LAST-MODIFIED:20260415T070851Z
UID:10865667-1777737600-1778347800@seniorocity.com.au
SUMMARY:WA Comedy Lab – Workshop for Beginners
DESCRIPTION:Has anyone ever told you you’re a comedian? Ever thought you actually could be? \nJoin Matt Storer\, one of WA’s most viral and in-demand comedians\, for a beginner stand-up comedy workshop designed to take you from idea to punchline. Whether you’ve never touched a mic\, have a few funny ideas\, or you’ve been sitting on notes full of half-jokes\, Matt will break down the fundamentals of joke writing\, structure\, stage presence and confidence — without the fluff. You’ll learn how to find your comedic voice\, sharpen everyday observations into tight material\, and leave with the foundations for your first 5-minute set. Practical\, honest\, and built for true beginners — this is your chance to stop thinking about comedy and actually try it. \nMatt Storer \nMatt Storer is one of Australia’s most inventive and engaging musical comedians. Based in WA\, Matt has become a standout presence on both live stages and online\, blending sharp stand‑up with original songs\, improvisation and crowd‑driven musical mayhem. His creative\, catchy comedy has helped him amass a major digital following — with his videos garnering millions of views on platforms like TikTok and YouTube — and forged a dedicated global audience. \nSince bursting onto the national scene by winning WA RAW Comedy (2014)\, Matt has consistently delivered memorable\, unpredictable performances at festivals and comedy tours across Australia. He’s a multiple award‑winner\, including the FRINGE WORLD Weekly Comedy Award and the Liberty Comedic Free Thinker Competition\, underscoring his status as a leading voice in musical comedy. \nLive\, Matt’s shows — like his highly popular Hot Nonsense — invite audience interaction\, with crowds choosing song topics and inspiring spontaneous lyrical creations ranging from absurd love ballads to anarchic ditties about daily life. His warm stage presence\, playful unpredictability and lyrical dexterity have won praise from reviewers and festival crowds alike\, with critics describing him as “incredibly funny\, charismatic and a true delight to watch.” \nIn addition to his festival work\, Matt regularly headlines shows around the country\, including comedy galas and touring productions where his blend of music and humour continues to expand his audience. As a viral creator and seasoned live performer\, Matt Storer now stands not just as a rising figure\, but as a firm fixture in Australia’s contemporary comedy scene — known for making people laugh and hum long after the show \n  \nPresented by WA Comedy and Recommended for 16+ \n  \nBook Online
URL:https://seniorocity.com.au/whats-on-perth/wa-comedy-lab-workshop-for-beginners/
LOCATION:Armadale District Hall\, Cnr Jull Street & Church Avenue\, Armadale\, WA\, 6112\, Australia
CATEGORIES:Free,Workshop
ATTACH;FMTTYPE=image/jpeg:https://seniorocity.com.au/wp-content/uploads/2026/04/WA-Comedy-Lab-–-Workshop-for-Beginners.jpg
END:VEVENT
BEGIN:VEVENT
DTSTART;TZID=Australia/Perth:20260503T020000
DTEND;TZID=Australia/Perth:20260503T040000
DTSTAMP:20260423T045521
CREATED:20260405T120508Z
LAST-MODIFIED:20260405T120830Z
UID:10865354-1777773600-1777780800@seniorocity.com.au
SUMMARY:Gardening for Wildlife with Simon Cherriman and the Wildflower Society
DESCRIPTION:Create a wildlife-friendly garden! Join Simon Cherriman for a guided walk and Wildflower Society seed propagation demonstrations.\n\n\nJoin us for a special Gardening for Wildlife event with Simon Cherriman and our local Wildflower Society\, designed to inspire and support local residents in creating thriving\, wildlife-friendly gardens. \nThe session will begin with a guided walk through the garden at the Octagonal Hall\, where Simon will share insights into selecting appropriate native plants for properties in the Shire of Mundaring. Learn how to choose species that suit local conditions while providing habitat and food for native wildlife. \nFollowing the walk\, a volunteer from the Wildflower Society will lead practical demonstrations on seed propagation\, including techniques such as hot water and smoke water germination\, and will be available to answer your questions. \nEach attendee will receive a complimentary packet of seeds to get started at home. Additional seeds will also be available for purchase prior to the much-anticipated Native Plant  Sale taking place the following week—perfect for those keen to expand their garden.  Eastern Hills Annual Plant Sale – 9th May 2026 – Wildflower Society of Western Australia \nThe library will be open during the event\, and there will be opportunities for informal discussions and advice throughout the session. \nWhether you’re new to gardening or looking to enhance your existing space\, this is a wonderful opportunity to learn\, connect\, and grow.
URL:https://seniorocity.com.au/whats-on-perth/gardening-for-wildlife-with-simon-cherriman-and-the-wildflower-society/
LOCATION:Octagonal Hall\, WA Wildflowers Eastern Hills Branch\, 52 McGlew Road\, Glen Forrest\, WA\, 6071\, Australia
CATEGORIES:Gardening & Environment
ATTACH;FMTTYPE=image/jpeg:https://seniorocity.com.au/wp-content/uploads/2026/04/cd95aa6eb7d1770a36d66a684cb31745.jpg
END:VEVENT
BEGIN:VEVENT
DTSTART;TZID=Australia/Perth:20260503T080000
DTEND;TZID=Australia/Perth:20260503T120000
DTSTAMP:20260423T045521
CREATED:20260113T144207Z
LAST-MODIFIED:20260113T144207Z
UID:10861658-1777795200-1777809600@seniorocity.com.au
SUMMARY:Perth Pre Loved Market
DESCRIPTION:Perth Pre Loved Market – Perth’s destination for elevated pre-loved fashion. \nPerth’s newest fashion market\, running the first Sunday of every month at the North Perth Town Hall. \nExplore quality pre-loved designer apparel and accessories from the wardrobes of Perth’s fashion lovers. \nThis market encourages a circular fashion economy\, celebrates slow fashion and women supporting women. Any unsold items can be donated to their associated charity\, Dress for Success WA. \nSUNDAY 1ST FEBRUARY 2026\, 8AM – 12PM. \nWhat can I expect? \nExpect friendly faces\, effortless style\, and a collection of quality pre-loved pieces from Perth’s most fashionable wardrobes. \nWhat time should I visit? \n8am Early bird gets…. the Zimmermann dress! \n10am the crowds should have calmed down. \n11am great time to grab a bargain\, stall holders will be wheeling and dealing to move their stock. \nFor more information on session times and tickets\, visit: Home | Perth Pre Loved \nThis event is delivered by Perth Pre Loved.
URL:https://seniorocity.com.au/whats-on-perth/perth-pre-loved-market/2026-05-03/
LOCATION:North Perth Town Hall\, 26 View Street\, North Perth\, Australia
CATEGORIES:Markets
ATTACH;FMTTYPE=image/jpeg:https://seniorocity.com.au/wp-content/uploads/2026/01/Perth-Pre-Loved-Market.jpg
GEO:-31.93145;115.85647
X-APPLE-STRUCTURED-LOCATION;VALUE=URI;X-ADDRESS=North Perth Town Hall 26 View Street North Perth Australia;X-APPLE-RADIUS=500;X-TITLE=26 View Street:geo:115.85647,-31.93145
END:VEVENT
BEGIN:VEVENT
DTSTART;TZID=Australia/Perth:20260503T090000
DTEND;TZID=Australia/Perth:20260503T130000
DTSTAMP:20260423T045521
CREATED:20260422T123920Z
LAST-MODIFIED:20260422T123927Z
UID:10866079-1777798800-1777813200@seniorocity.com.au
SUMMARY:LIFT THE LID WALK for Mental Health - SCARBOROUGH W.A.  2026
DESCRIPTION:LIFT THE LID WALK for Mental Health  will get you walking and get us all talking while we  raise vital funds for Australian Rotary Health.\n\n\n\n\n\n“ABOUT THE WALK” \nWe are very excited to host our 2nd annual LIFT THE LID WALK for Mental Health event in SCARBOROUGH. \nThe “point of difference” is that the walk is not a race. It is a family occasion offering an organised “fun” walk. \nThe inaugural Walk was held in October 2016 in Mooloolaba and has grown to include hundreds of participants and the introduction of a national series in several states and we are very proud to say we have raised in excess of $470\,000 so far but we’re not stopping here. \n \nPROJECT BENEFITS \nThis is a great project because it: \n1. Raises much needed funds for ARH Mental Health Research – 100% of funds raised go directly to research. \n2. Offers an opportunity for the community to come together and identify with those suffering from mental health issues and start a conversation. To know they are not alone. \n3. It provides an outlet for those suffering from mental health issues. For example\, every year there have been families and friends wearing their own special t-shirts honouring a loved one who has been lost as a result of a mental health issue. \n4 Will bring visitors to our area which is good for local businesses and tourism. \n​ \n\n\nIMPORTANT INFORMATION FOR ALL PARTICIPANTS : Release and Indemnity \n1. I am aware and acknowledge that the Lift The Lid Walk (the Event) involves inherent risks\, including the risk of injury to life or death and damage to property and in undertaking such activities\, I do so at my own risk. \n2. I am also aware that it is a condition of participation in the Event that Rotary\, its officers and employees\, agents and volunteers are released by me from all liability howsoever arising from injury or damage to both property and person howsoever caused (whether fatal or otherwise) arising out of my participation in the Event whether or not such injury or damage is due to any negligent act\, breach of duty\, default and/or omission on the part of Rotary\, its officers and employees\, agents or volunteers. \n3. I indemnify Rotary\, its officers and employees\, agents and volunteers against all loss\, damage and expenses (including legal costs on a solicitor and own client basis) arising out of or in connection with any claims\, actions\, proceedings or demands of any kind arising directly or indirectly as a consequence of my participation in the Event. \n4. I acknowledge and agree that my participation in the Event is as a consequence of my own free will and desire and that I have read and understood the above warning\, release\, and indemnity. \n5. I warrant that I am 18 years of age or older and am lawfully able to enter into this above release and indemnity or\, in the event that I am a minor\, I have the permission of my legal guardian to participate in the Event and that my legal guardian has agreed to adhere to the terms of the indemnity \nIf the participant is a minor: \nI as the legal guardian of the Participant consent to him/her participating in the Event. \n· I release Rotary\, its officers and employees\, agents and volunteers from all liability\, howsoever arising\, from injury or damage to both property and person howsoever caused (whether fatal or otherwise) arising out of the Participant’s participation in the Event whether or not such injury or damage is due to any negligent act\, breach of duty\, default and/or omission on the part of Rotary\, its officers and employees\, agents or volunteers. \n· I indemnify Rotary\, its officers and employees\, agents and volunteers against all loss\, damage and expenses (including legal costs on a solicitor and own client basis) arising out of or in connection with any claims\, actions\, proceedings or demands of any kind arising directly or indirectly as a consequence of the Participant’s participation in the Event \n \nIn the EVENT we did get cancelled because of weather or COVID. \n​ \nJust in case the current walk format is cancelled because of extreme weather conditions or a return of COVID\, we’ll still be going ahead just differently. We’d love you to get out on the day of the event and walk and talk with us. We will shift the WALK online and do it virtually! We encourage you to share it on socials while adhering to any necessary restrictions. Given we are raising vital funds for mental health research\, and it’s honestly never been more important\, your ticket registration donation will make a huge difference to what Australian Rotary Health research funding can achieve. Your shiny new t-shirt will still be waiting for you to collect and we’ll keep you up to date of a safe place and time for that to happen via email in the event we can’t go ahead on the day.
URL:https://seniorocity.com.au/whats-on-perth/lift-the-lid-walk-for-mental-health-scarborough-w-a-2026/
LOCATION:Scarborough Beach\, Rotary Clock Tower\, 1 Scarborough Beach Rpad\, Scarborough\, WA\, 6019\, Australia
CATEGORIES:Charity Event
ATTACH;FMTTYPE=image/jpeg:https://seniorocity.com.au/wp-content/uploads/2026/04/966e9cfa0706b8ce14fb7df02db722a5.jpg
END:VEVENT
BEGIN:VEVENT
DTSTART;TZID=Australia/Perth:20260503T100000
DTEND;TZID=Australia/Perth:20260503T120000
DTSTAMP:20260423T045521
CREATED:20260322T130908Z
LAST-MODIFIED:20260322T130908Z
UID:10864571-1777802400-1777809600@seniorocity.com.au
SUMMARY:Brickwood Reserve Walk
DESCRIPTION:Join Friends of Brickwood on a guided tour through Byford’s bushland gem\, Brickwood Reserve\, and discover some of the magic of nature at work. \nFitness level: moderate \nYou will need: \n\nWater bottle\nWalking shoes\nSlip\, slop\, slap!\n\nRegister via Humantix: https://events.humanitix.com/brickwood-reserve-walk-59b5mns8/tickets
URL:https://seniorocity.com.au/whats-on-perth/brickwood-reserve-walk/
LOCATION:Brickwood Reserve\, Gordin Way\, Byford\, WA\, 6122\, Australia
CATEGORIES:Community Event,Free,Tree Planting
ATTACH;FMTTYPE=image/png:https://seniorocity.com.au/wp-content/uploads/2026/03/Brickwood-Reserve-Walk.png
END:VEVENT
BEGIN:VEVENT
DTSTART;TZID=Australia/Perth:20260503T110000
DTEND;TZID=Australia/Perth:20260503T150000
DTSTAMP:20260423T045521
CREATED:20250713T073912Z
LAST-MODIFIED:20260402T154535Z
UID:10791410-1777806000-1777820400@seniorocity.com.au
SUMMARY:Boomerang Bags @ Cambridge Library (No booking required)
DESCRIPTION:Join the anti-waste revolution and come along to the Boomerang Bags sewing group.
URL:https://seniorocity.com.au/whats-on-perth/boomerang-bags-cambridge-library-16/
LOCATION:Cambridge Library\, 99 The Boulevard\, Floreat\, WA\, 6014\, Australia
CATEGORIES:Craft
ATTACH;FMTTYPE=image/jpeg:https://seniorocity.com.au/wp-content/uploads/2023/08/339b91a9279389fcd905aaf693b75acb.jpg
GEO:-31.93669;115.79335
X-APPLE-STRUCTURED-LOCATION;VALUE=URI;X-ADDRESS=Cambridge Library 99 The Boulevard Floreat WA 6014 Australia;X-APPLE-RADIUS=500;X-TITLE=99 The Boulevard:geo:115.79335,-31.93669
END:VEVENT
BEGIN:VEVENT
DTSTART;TZID=Australia/Perth:20260503T130000
DTEND;TZID=Australia/Perth:20260503T143000
DTSTAMP:20260423T045521
CREATED:20260404T140429Z
LAST-MODIFIED:20260422T114630Z
UID:10865328-1777813200-1777818600@seniorocity.com.au
SUMMARY:Beneath the Bitumen: Discoveries at East Perth Cemeteries
DESCRIPTION:This popular exhibition showcasing discoveries made during excavations in the former Chinese Cemetery returns for the 2026 Heritage Festival
URL:https://seniorocity.com.au/whats-on-perth/beneath-the-bitumen-discoveries-at-east-perth-cemeteries-2/
LOCATION:St Bartholomew’s Church\, East Perth Cemeteries\, Bronte Street\, East Perth\, WA\, 6004\, Australia
ATTACH;FMTTYPE=image/jpeg:https://seniorocity.com.au/wp-content/uploads/2026/04/880c1368b31da9cdbf5674f7dfedd5af.jpg
END:VEVENT
BEGIN:VEVENT
DTSTART;TZID=Australia/Perth:20260503T133000
DTEND;TZID=Australia/Perth:20260503T153000
DTSTAMP:20260423T045521
CREATED:20260421T051806Z
LAST-MODIFIED:20260421T051806Z
UID:10866044-1777815000-1777822200@seniorocity.com.au
SUMMARY:From Grassroots to Grandstands
DESCRIPTION:For adults and young people 16+ \nGet ready for an afternoon of fierce memories\, untold stories\, and classic WA football spirit. \nFormer players from the Swan Districts Football Club come together for a special panel discussion celebrating the club’s rich history. From hard-fought battles to the emergence of local talent out of Belmont\, these Swans greats will relive the moments that shaped the club both on and off the field. \nExpect candid reflections\, behind-the-scenes stories\, and plenty of humour as these former players share their experiences\, insights\, and the pride of wearing the black and white. \nWhether you’re a lifelong supporter or simply love the heritage of WA football\, this is your chance to hear the stories from inside the Swan Districts legacy. \nRegistration is required for this event. If you cannot register online\, please contact the library on (08) 9477 7150.
URL:https://seniorocity.com.au/whats-on-perth/from-grassroots-to-grandstands/
LOCATION:Events Room\, Ruth Faulkner Library\, 213 Wright Street\, Cloverdale\, WA\, 6105\, Australia
CATEGORIES:Free,History,Library Events
ATTACH;FMTTYPE=image/png:https://seniorocity.com.au/wp-content/uploads/2026/04/From-Grassroots-to-Grandstands.png
END:VEVENT
BEGIN:VEVENT
DTSTART;TZID=Australia/Perth:20260503T140000
DTEND;TZID=Australia/Perth:20260503T143000
DTSTAMP:20260423T045521
CREATED:20260401T145928Z
LAST-MODIFIED:20260401T145953Z
UID:10865222-1777816800-1777818600@seniorocity.com.au
SUMMARY:Cockman House Guided Tour
DESCRIPTION:Join us during the Australian Heritage Festival for a guided tour of this historic local gem.
URL:https://seniorocity.com.au/whats-on-perth/cockman-house-guided-tour-3/
LOCATION:Cockman House\, Wanneroo\, Ancestor Retreat (off Woodvale Drive)\, Woodvale\, WA\, 6026\, Australia
CATEGORIES:Tour
ATTACH;FMTTYPE=image/jpeg:https://seniorocity.com.au/wp-content/uploads/2026/04/2782bd8e24a8327884502972eb1d263d-1.jpg
END:VEVENT
BEGIN:VEVENT
DTSTART;TZID=Australia/Perth:20260503T180000
DTEND;TZID=Australia/Perth:20260503T200000
DTSTAMP:20260423T045521
CREATED:20260415T161124Z
LAST-MODIFIED:20260415T161124Z
UID:10865798-1777831200-1777838400@seniorocity.com.au
SUMMARY:Ngaank Boodja: Stories of Country in Movement and Lights
DESCRIPTION:Immerse yourself in stories of Country under the stars at Yagan Square as Ngaank Boodja (Mother Country) comes to life through a moving showcase of song\, language\, dance and light. \nPresented in the lead up to National Reconciliation Week (27 May – 3 June) on Sunday 3 May\, Ngaank Boodja: Stories of Country in Movement and Lights invites audiences on a journey through time – bringing to life stories of the Noongar people who once gathered at the ancient wetlands that lie beneath Yagan Square. \nThrough choirs\, powerful visuals and song\, audiences will hear stories of Goologoolup – once the heart of community life. A place where Noongar women gathered at the water’s edge\, where children splashed\, birds flew overhead and frogs croaked in the reeds. \nTaking place at the Yagan Square Amphitheatre\, this special event is a powerful celebration of Aboriginal culture and creativity. The event is produced by award-winning Noongar filmmaker\, producer and cultural leader Karla Hart\, with performances from Madjitil Moorna Choir\, led by Della Rae and Kobi Morrison\, WAAPA trained performers and Indigenous dance groups Kwarbah Djookian and Midn Marr. \nThe event will begin with a Welcome to Country and Smoking Ceremony – a cultural practice that welcomes visitors and acknowledges connection to Noongar culture and Country \nNgaank Boodja: Stories of Country in Movement and Lights is proudly supported by DevelopmentWA and Tourism WA. \nVisit Website
URL:https://seniorocity.com.au/whats-on-perth/ngaank-boodja-stories-of-country-in-movement-and-lights/
LOCATION:Yagan Square\, William Street\, Perth\, WA\, 6000\, Australia
CATEGORIES:Community Event,Free
ATTACH;FMTTYPE=image/png:https://seniorocity.com.au/wp-content/uploads/2026/04/Ngaank-Boodja.png
END:VEVENT
END:VCALENDAR