BEGIN:VCALENDAR
VERSION:2.0
PRODID:-//Seniorocity - Seniors / Over 55&#039;s Guide to Perth - ECPv6.15.11//NONSGML v1.0//EN
CALSCALE:GREGORIAN
METHOD:PUBLISH
X-WR-CALNAME:Seniorocity - Seniors / Over 55&#039;s Guide to Perth
X-ORIGINAL-URL:https://seniorocity.com.au
X-WR-CALDESC:Events for Seniorocity - Seniors / Over 55&#039;s Guide to Perth
REFRESH-INTERVAL;VALUE=DURATION:PT1H
X-Robots-Tag:noindex
X-PUBLISHED-TTL:PT1H
BEGIN:VTIMEZONE
TZID:Australia/Perth
BEGIN:STANDARD
TZOFFSETFROM:+0800
TZOFFSETTO:+0800
TZNAME:AWST
DTSTART:20250101T000000
END:STANDARD
END:VTIMEZONE
BEGIN:VEVENT
DTSTART;TZID=Australia/Perth:20260501T100000
DTEND;TZID=Australia/Perth:20260508T110000
DTSTAMP:20260423T061333
CREATED:20260417T030039Z
LAST-MODIFIED:20260417T030039Z
UID:10865823-1777629600-1778238000@seniorocity.com.au
SUMMARY:Digital Drop-in - Digital Public Transport
DESCRIPTION:Join us for a beginner friendly introduction on how to use the Transperth app and tag on and off using your phone\, smartwatch or other device. \nNo cost. No need to book.
URL:https://seniorocity.com.au/whats-on-perth/digital-drop-in-digital-public-transport/
LOCATION:Woodvale Library\, 5 Trappers Drive\, Woodvale\, WA\, 6026\, Australia
CATEGORIES:Free,Information Session,Tech
ATTACH;FMTTYPE=image/jpeg:https://seniorocity.com.au/wp-content/uploads/2026/04/Digital-Drop-in-Digital-Public-Transport.jpg
END:VEVENT
BEGIN:VEVENT
DTSTART;VALUE=DATE:20260502
DTEND;VALUE=DATE:20260518
DTSTAMP:20260423T061333
CREATED:20260415T065618Z
LAST-MODIFIED:20260415T065618Z
UID:10865666-1777680000-1779062399@seniorocity.com.au
SUMMARY:Armadale Arts Festival
DESCRIPTION:The Armadale Arts Festival is a creative program of live music\, urban art\, theatre\, literature\, and arts and crafts\, all showcasing our incredible local talent. \nCome along\, explore our district\, and discover something new at the Armadale Arts Festival! There’s something for everyone! \nThis event is brought to you by the City of Armadale and is alcohol\, smoke and vape free. \n 
URL:https://seniorocity.com.au/whats-on-perth/armadale-arts-festival/
LOCATION:WA
CATEGORIES:Festival,Festivals,Free
ATTACH;FMTTYPE=image/jpeg:https://seniorocity.com.au/wp-content/uploads/2026/04/Armadale-Arts-Festival.jpg
END:VEVENT
BEGIN:VEVENT
DTSTART;TZID=Australia/Perth:20260502T160000
DTEND;TZID=Australia/Perth:20260509T173000
DTSTAMP:20260423T061333
CREATED:20260415T070851Z
LAST-MODIFIED:20260415T070851Z
UID:10865667-1777737600-1778347800@seniorocity.com.au
SUMMARY:WA Comedy Lab – Workshop for Beginners
DESCRIPTION:Has anyone ever told you you’re a comedian? Ever thought you actually could be? \nJoin Matt Storer\, one of WA’s most viral and in-demand comedians\, for a beginner stand-up comedy workshop designed to take you from idea to punchline. Whether you’ve never touched a mic\, have a few funny ideas\, or you’ve been sitting on notes full of half-jokes\, Matt will break down the fundamentals of joke writing\, structure\, stage presence and confidence — without the fluff. You’ll learn how to find your comedic voice\, sharpen everyday observations into tight material\, and leave with the foundations for your first 5-minute set. Practical\, honest\, and built for true beginners — this is your chance to stop thinking about comedy and actually try it. \nMatt Storer \nMatt Storer is one of Australia’s most inventive and engaging musical comedians. Based in WA\, Matt has become a standout presence on both live stages and online\, blending sharp stand‑up with original songs\, improvisation and crowd‑driven musical mayhem. His creative\, catchy comedy has helped him amass a major digital following — with his videos garnering millions of views on platforms like TikTok and YouTube — and forged a dedicated global audience. \nSince bursting onto the national scene by winning WA RAW Comedy (2014)\, Matt has consistently delivered memorable\, unpredictable performances at festivals and comedy tours across Australia. He’s a multiple award‑winner\, including the FRINGE WORLD Weekly Comedy Award and the Liberty Comedic Free Thinker Competition\, underscoring his status as a leading voice in musical comedy. \nLive\, Matt’s shows — like his highly popular Hot Nonsense — invite audience interaction\, with crowds choosing song topics and inspiring spontaneous lyrical creations ranging from absurd love ballads to anarchic ditties about daily life. His warm stage presence\, playful unpredictability and lyrical dexterity have won praise from reviewers and festival crowds alike\, with critics describing him as “incredibly funny\, charismatic and a true delight to watch.” \nIn addition to his festival work\, Matt regularly headlines shows around the country\, including comedy galas and touring productions where his blend of music and humour continues to expand his audience. As a viral creator and seasoned live performer\, Matt Storer now stands not just as a rising figure\, but as a firm fixture in Australia’s contemporary comedy scene — known for making people laugh and hum long after the show \n  \nPresented by WA Comedy and Recommended for 16+ \n  \nBook Online
URL:https://seniorocity.com.au/whats-on-perth/wa-comedy-lab-workshop-for-beginners/
LOCATION:Armadale District Hall\, Cnr Jull Street & Church Avenue\, Armadale\, WA\, 6112\, Australia
CATEGORIES:Free,Workshop
ATTACH;FMTTYPE=image/jpeg:https://seniorocity.com.au/wp-content/uploads/2026/04/WA-Comedy-Lab-–-Workshop-for-Beginners.jpg
END:VEVENT
BEGIN:VEVENT
DTSTART;TZID=Australia/Perth:20260504T100000
DTEND;TZID=Australia/Perth:20260504T120000
DTSTAMP:20260423T061333
CREATED:20260304T095908Z
LAST-MODIFIED:20260304T095908Z
UID:10864103-1777888800-1777896000@seniorocity.com.au
SUMMARY:Canning Bridge Mural Art Tours
DESCRIPTION:We are excited to offer a new series of tours in the Canning Bridge Art Precinct\, created with support from the City of Melville. \nThese tours get you off the highway and into the real precinct. You’ll wander riverside paths\, stand beneath large-scale murals and sculptures\, and hear the behind-the-scenes stories that bring the art and the place to life. It’s relaxed\, local and a bit surprising.\nGuests tell us that they had no idea there was so much street art around Canning Bridge and love learning the fun facts about the artists and the area. \nFor more information please visit Oh Hey WA’s website. \n 
URL:https://seniorocity.com.au/whats-on-perth/canning-bridge-mural-art-tours/2026-05-04/
LOCATION:Canning Bridge\, Canning Bridge community space\, Applecross\, WA\, 6153\, Australia
CATEGORIES:Tour,Walk
ATTACH;FMTTYPE=image/jpeg:https://seniorocity.com.au/wp-content/uploads/2026/03/Canning-Bridge-Mural-Art-Tours.jpg
END:VEVENT
BEGIN:VEVENT
DTSTART;TZID=Australia/Perth:20260504T100000
DTEND;TZID=Australia/Perth:20260504T130000
DTSTAMP:20260423T061333
CREATED:20260415T071909Z
LAST-MODIFIED:20260415T071909Z
UID:10865668-1777888800-1777899600@seniorocity.com.au
SUMMARY:All Abilities Art- Connecting to Country through Art
DESCRIPTION:Join us for a friendly\, hands‑on art workshop where everyone is welcome. You will explore your own connection to Country through acrylic painting. \nThis workshop is part of the Armadale Arts Festival and will be led by the 2026 Festival Artist\, Aboriginal artist Lesley Murray\, with guest artist Shani Lee Darby. \n  \nWorkshop Details \n\nDate: Monday 4 May\nTime: 10:00am to 1:00pm (with breaks)\nCost: Free – please register\nLocation: Djeran Room\, Champion Centre\n(76 Champion Drive\, Seville Grove)\nWhat’s provided: All art materials and light refreshments\nContact: 9394 5979\n\nAbout the Workshop \n\nThis session is open to people of all abilities\, including people with disability and their support workers.\nLesley Murray will guide you step‑by‑step and encourage you to express your own stories\, memories and feelings about Country.\nThe workshop aims to create a safe\, welcoming space where everyone can enjoy art\, culture and creativity.\nLesley shares her own journey of strength and resilience after experiencing a stroke.\nShe says:\n“Painting is my way of showing how I feel about Country. Every brushstroke is a memory\, a story and a connection to the land and my people.”\n\nAccessibility \nPlease let us know if you have any accessibility needs when you register so we can support you to take part comfortably.
URL:https://seniorocity.com.au/whats-on-perth/all-abilities-art-connecting-to-country-through-art/
LOCATION:Champion Centre\, 76 Champion Drive\, Seville Grove\, WA\, 6112\, Australia
CATEGORIES:Activity Class,Free
ATTACH;FMTTYPE=image/jpeg:https://seniorocity.com.au/wp-content/uploads/2026/04/All-Abilities-Art-Connecting-to-Country-through-Art.jpg
END:VEVENT
BEGIN:VEVENT
DTSTART;TZID=Australia/Perth:20260504T110000
DTEND;TZID=Australia/Perth:20260504T120000
DTSTAMP:20260423T061333
CREATED:20260314T025414Z
LAST-MODIFIED:20260314T025414Z
UID:10864208-1777892400-1777896000@seniorocity.com.au
SUMMARY:Cook book club
DESCRIPTION:Join us for an adventure in sharing food and making new friends\, at Cook Book Club. \nThe Cook Book Club is a group for people who enjoy cooking and sharing food with others. \nEach member will have a turn at cooking for the group once a month\, with inspiration drawn from the cookbooks on the library shelf and themed around a different food region each month. \nBring a thirst for knowledge and a hunger for trying new things. \nPlease book in as spaces are limited.  \nThis program is suitable for adults aged 18+ and is a book club. Please book one ticket for each person attending. Photography and videography may be taken at this event. Images and footage may be used by the City of Swan and event organisers for marketing and promotional purposes. \n 
URL:https://seniorocity.com.au/whats-on-perth/cook-book-club/2026-05-04/
LOCATION:Ballajura Public Library\, Illawarra Crescent South\, Ballajura\, WA\, 6066\, Australia
CATEGORIES:Club,Free,Library Events
ATTACH;FMTTYPE=image/png:https://seniorocity.com.au/wp-content/uploads/2026/03/Cook-book-club.png
GEO:-31.8407731;115.8956898
X-APPLE-STRUCTURED-LOCATION;VALUE=URI;X-ADDRESS=Ballajura Public Library Illawarra Crescent South Ballajura WA 6066 Australia;X-APPLE-RADIUS=500;X-TITLE=Illawarra Crescent South:geo:115.8956898,-31.8407731
END:VEVENT
BEGIN:VEVENT
DTSTART;TZID=Australia/Perth:20260504T110000
DTEND;TZID=Australia/Perth:20260504T120000
DTSTAMP:20260423T061333
CREATED:20260314T031656Z
LAST-MODIFIED:20260314T031656Z
UID:10864217-1777892400-1777896000@seniorocity.com.au
SUMMARY:BYO Book Club
DESCRIPTION:The BYO Book Club is a relaxed and welcoming space for anyone who loves reading and enjoys sharing their thoughts with others without the pressure of a set book. \nSessions will run on the last Monday of the month on a drop-in basis\, so you can join whenever it suits you\, with no ongoing commitment required. At each session everyone is invited to chat about a book they’ve been reading and take part in friendly\, informal discussions. \nThis is a drop-in book club and no bookings are required. \nThis program is suitable for adults aged 18+ and is book club. Photography and videography may be taken at this event. Images and footage may be used by the City of Swan and event organisers for marketing and promotional purposes.
URL:https://seniorocity.com.au/whats-on-perth/byo-book-club/2026-05-04/
LOCATION:Beechboro Public Library\, 332 Benara Road\, Beechboro\, WA\, 6063\, Australia
CATEGORIES:Club,Free,Library Events
ATTACH;FMTTYPE=image/png:https://seniorocity.com.au/wp-content/uploads/2026/03/BYO-Book-Club.png
END:VEVENT
BEGIN:VEVENT
DTSTART;TZID=Australia/Perth:20260504T123000
DTEND;TZID=Australia/Perth:20260504T133000
DTSTAMP:20260423T061333
CREATED:20260402T152943Z
LAST-MODIFIED:20260402T153530Z
UID:10865307-1777897800-1777901400@seniorocity.com.au
SUMMARY:Chinese Engagement - Language and Culture Workshops
DESCRIPTION:Session 1 – Understanding China’s Diversity\, Modernity and Travel. Discover the real China through surprising images\, cultural insights and\n\n\nJoin Our Chinese Engagement – Language and Culture Workshop!\nReady to dive into the fascinating world of Chinese language and culture? This in-person workshop is the perfect chance to learn some cool phrases\, explore traditions\, and meet new friends. Presented by our visiting scholar Ms Chengxia Liu (Phoebe).  \nJoin us at the Loft\, level 3 \, Sir Walters Cafe. Bring your own lunch\, come curiousity and leave inspired! \nSession One – Understanding China: Diversity\, Modernity and Travel \nDiscover the real China through surprising images\, cultural insights and practical travel tips.
URL:https://seniorocity.com.au/whats-on-perth/chinese-engagement-language-and-culture-workshops/
LOCATION:Sir Walter’s Restaurant\, 90 South Street\, Murdoch\, WA\, 6150\, Australia
CATEGORIES:Language Class
ATTACH;FMTTYPE=image/jpeg:https://seniorocity.com.au/wp-content/uploads/2026/04/d1cf77d1869db1648a7f6e1ff0b8d284.jpg
END:VEVENT
BEGIN:VEVENT
DTSTART;TZID=Australia/Perth:20260504T130000
DTEND;TZID=Australia/Perth:20260504T160000
DTSTAMP:20260423T061333
CREATED:20260405T124906Z
LAST-MODIFIED:20260405T124906Z
UID:10865377-1777899600-1777910400@seniorocity.com.au
SUMMARY:TECH Connect
DESCRIPTION:Personalised help with your specific queries relating to the internet and technology.
URL:https://seniorocity.com.au/whats-on-perth/tech-connect-53/
LOCATION:Australind Public Library\, 7 Mulgara Street\, Australind\, WA\, 6233\, Australia
CATEGORIES:Tech
ATTACH;FMTTYPE=image/jpeg:https://seniorocity.com.au/wp-content/uploads/2025/07/c32d4cac6d25bcb1b7f9ffb031165fb0.jpg
END:VEVENT
BEGIN:VEVENT
DTSTART;TZID=Australia/Perth:20260504T133000
DTEND;TZID=Australia/Perth:20260504T143000
DTSTAMP:20260423T061333
CREATED:20250713T082749Z
LAST-MODIFIED:20260206T160552Z
UID:10791570-1777901400-1777905000@seniorocity.com.au
SUMMARY:Book and Movie Club
DESCRIPTION:Are you looking for a book club with a difference? Then this one is for you!
URL:https://seniorocity.com.au/whats-on-perth/book-and-movie-club-10/
LOCATION:Australind Public Library\, 7 Mulgara Street\, Australind\, WA\, 6233\, Australia
CATEGORIES:Club,Movies
ATTACH;FMTTYPE=image/jpeg:https://seniorocity.com.au/wp-content/uploads/2025/07/a9d68383f6aa5c1c885649b6c7b42e5a.jpg
END:VEVENT
BEGIN:VEVENT
DTSTART;TZID=Australia/Perth:20260504T140000
DTEND;TZID=Australia/Perth:20260504T143000
DTSTAMP:20260423T061333
CREATED:20260203T090504Z
LAST-MODIFIED:20260203T090504Z
UID:10862707-1777903200-1777905000@seniorocity.com.au
SUMMARY:Tech Help @ Wanneroo Library (Monday)
DESCRIPTION:Book in for a one-on-one session to go over whatever tech help you need.
URL:https://seniorocity.com.au/whats-on-perth/tech-help-wanneroo-library-monday-140/
LOCATION:Wanneroo Library\, 3 Rocca Way\, Wanneroo\, WA\, 6065\, Australia
CATEGORIES:Tech
ATTACH;FMTTYPE=image/jpeg:https://seniorocity.com.au/wp-content/uploads/2025/04/1846f0357c7a791a8fd4ed3d29e5a0ba.jpg
GEO:-31.750643;115.805954
X-APPLE-STRUCTURED-LOCATION;VALUE=URI;X-ADDRESS=Wanneroo Library 3 Rocca Way Wanneroo WA 6065 Australia;X-APPLE-RADIUS=500;X-TITLE=3 Rocca Way:geo:115.805954,-31.750643
END:VEVENT
BEGIN:VEVENT
DTSTART;TZID=Australia/Perth:20260504T143000
DTEND;TZID=Australia/Perth:20260504T150000
DTSTAMP:20260423T061333
CREATED:20260203T090505Z
LAST-MODIFIED:20260203T090505Z
UID:10862708-1777905000-1777906800@seniorocity.com.au
SUMMARY:Tech Help @ Wanneroo Library (Monday)
DESCRIPTION:Book in for a one-on-one session to go over whatever tech help you need.
URL:https://seniorocity.com.au/whats-on-perth/tech-help-wanneroo-library-monday-141/
LOCATION:Wanneroo Library\, 3 Rocca Way\, Wanneroo\, WA\, 6065\, Australia
CATEGORIES:Tech
ATTACH;FMTTYPE=image/jpeg:https://seniorocity.com.au/wp-content/uploads/2025/04/1846f0357c7a791a8fd4ed3d29e5a0ba.jpg
GEO:-31.750643;115.805954
X-APPLE-STRUCTURED-LOCATION;VALUE=URI;X-ADDRESS=Wanneroo Library 3 Rocca Way Wanneroo WA 6065 Australia;X-APPLE-RADIUS=500;X-TITLE=3 Rocca Way:geo:115.805954,-31.750643
END:VEVENT
BEGIN:VEVENT
DTSTART;TZID=Australia/Perth:20260504T150000
DTEND;TZID=Australia/Perth:20260504T153000
DTSTAMP:20260423T061333
CREATED:20260203T090507Z
LAST-MODIFIED:20260203T090507Z
UID:10862709-1777906800-1777908600@seniorocity.com.au
SUMMARY:Tech Help @ Wanneroo Library (Monday)
DESCRIPTION:Book in for a one-on-one session to go over whatever tech help you need.
URL:https://seniorocity.com.au/whats-on-perth/tech-help-wanneroo-library-monday-142/
LOCATION:Wanneroo Library\, 3 Rocca Way\, Wanneroo\, WA\, 6065\, Australia
CATEGORIES:Tech
ATTACH;FMTTYPE=image/jpeg:https://seniorocity.com.au/wp-content/uploads/2025/04/1846f0357c7a791a8fd4ed3d29e5a0ba.jpg
GEO:-31.750643;115.805954
X-APPLE-STRUCTURED-LOCATION;VALUE=URI;X-ADDRESS=Wanneroo Library 3 Rocca Way Wanneroo WA 6065 Australia;X-APPLE-RADIUS=500;X-TITLE=3 Rocca Way:geo:115.805954,-31.750643
END:VEVENT
BEGIN:VEVENT
DTSTART;TZID=Australia/Perth:20260504T153000
DTEND;TZID=Australia/Perth:20260504T160000
DTSTAMP:20260423T061333
CREATED:20260203T090508Z
LAST-MODIFIED:20260203T090508Z
UID:10862710-1777908600-1777910400@seniorocity.com.au
SUMMARY:Tech Help @ Wanneroo Library (Monday)
DESCRIPTION:Book in for a one-on-one session to go over whatever tech help you need.
URL:https://seniorocity.com.au/whats-on-perth/tech-help-wanneroo-library-monday-143/
LOCATION:Wanneroo Library\, 3 Rocca Way\, Wanneroo\, WA\, 6065\, Australia
CATEGORIES:Tech
ATTACH;FMTTYPE=image/jpeg:https://seniorocity.com.au/wp-content/uploads/2025/04/1846f0357c7a791a8fd4ed3d29e5a0ba.jpg
GEO:-31.750643;115.805954
X-APPLE-STRUCTURED-LOCATION;VALUE=URI;X-ADDRESS=Wanneroo Library 3 Rocca Way Wanneroo WA 6065 Australia;X-APPLE-RADIUS=500;X-TITLE=3 Rocca Way:geo:115.805954,-31.750643
END:VEVENT
BEGIN:VEVENT
DTSTART;TZID=Australia/Perth:20260504T174500
DTEND;TZID=Australia/Perth:20260504T200000
DTSTAMP:20260423T061333
CREATED:20260102T080719Z
LAST-MODIFIED:20260204T145859Z
UID:10858131-1777916700-1777924800@seniorocity.com.au
SUMMARY:NEW! Listening Lounge Mental Health Peer Support Group - Joondalup
DESCRIPTION:A welcoming space for connection\, understanding and mutual support.
URL:https://seniorocity.com.au/whats-on-perth/new-listening-lounge-mental-health-peer-support-group-joondalup-14/
LOCATION:Joondalup Family Centre\, 25 Jolstra Crescent\, Joondalup\, WA\, 6027\, Australia
CATEGORIES:Health
ATTACH;FMTTYPE=image/jpeg:https://seniorocity.com.au/wp-content/uploads/2026/01/633e950438bb36cdcb2805d326328360.jpg
END:VEVENT
BEGIN:VEVENT
DTSTART;TZID=Australia/Perth:20260504T180000
DTEND;TZID=Australia/Perth:20260504T200000
DTSTAMP:20260423T061333
CREATED:20260402T155119Z
LAST-MODIFIED:20260402T155122Z
UID:10865309-1777917600-1777924800@seniorocity.com.au
SUMMARY:Author talk: Dave Warner
DESCRIPTION:Dave Warner and Tony Durant provide an evening of entertainment with their unique music/author style event.\n\n\nTo celebrate the release of his new novel\, Sound Mind Dead Body\, author Dave Warner is returning to WA\, and presenting a special event with musical accompaniment from Tony Durant.  \n \nSound Mind Dead Body is an unmissable manor house cosy crime with all the hallmarks of an Agatha Christie murder mystery. \n \nAdditional information \nEvent starting time \nDoors will open for this event at 6pm\, with the event beginning at 6:15pm. Due to the library’s regular opening hours entry is not possible before 6pm\, so please plan accordingly. \nGetting to the event: \nSubiaco Library has limited parking bays available at the rear of the building including two accessible parking bays. For more information on getting around Subiaco visit the city’s website. \nAccess and inclusion: \nSubiaco Library is wheelchair accessible . For additional information please contact Subiaco Library on 9237 9300. \nTicket information: \nYou are not required to bring a ticket with you. Names will be checked at the door. Please note that space is limited and registration is essential. Please only register if you will definitely be attending. \nMore information: \nFor more events and programs at Subiaco Library visit the City of Subiaco events calendar\, follow the Subiaco Library on Facebook or join the Cultural Services e-newsletter database by emailing library@subiaco.wa.gov.au.
URL:https://seniorocity.com.au/whats-on-perth/author-talk-dave-warner/
LOCATION:Subiaco Library\, 237 Rokeby Road\, Subiaco\, WA\, 6008\, Australia
CATEGORIES:Library Events
ATTACH;FMTTYPE=image/jpeg:https://seniorocity.com.au/wp-content/uploads/2026/04/04358fcae0326309f52567fccb4dcb31.jpg
END:VEVENT
BEGIN:VEVENT
DTSTART;TZID=Australia/Perth:20260504T190000
DTEND;TZID=Australia/Perth:20260504T200000
DTSTAMP:20260423T061333
CREATED:20250907T024547Z
LAST-MODIFIED:20251102T040831Z
UID:10855567-1777921200-1777924800@seniorocity.com.au
SUMMARY:Ballroom  and Latin Beginners Dancing Class Mondays
DESCRIPTION:Weekly Ballroom Dancing and Latin Beginners Class new dancers for Mondays from 7 to 8 pm.
URL:https://seniorocity.com.au/whats-on-perth/ballroom-and-latin-beginners-dancing-class-mondays-35/
LOCATION:Belmont Hub\, 213 Wright Street\, Cloverdale\, WA\, 6105\, Australia
CATEGORIES:Sport Activities
ATTACH;FMTTYPE=image/jpeg:https://seniorocity.com.au/wp-content/uploads/2025/09/c582fe5adf5726f7c2896c043591a1a1.jpg
GEO:-31.963159561157;115.9342880249
X-APPLE-STRUCTURED-LOCATION;VALUE=URI;X-ADDRESS=Belmont Hub 213 Wright Street Cloverdale WA 6105 Australia;X-APPLE-RADIUS=500;X-TITLE=213 Wright Street:geo:115.9342880249,-31.963159561157
END:VEVENT
BEGIN:VEVENT
DTSTART;TZID=Australia/Perth:20260504T190000
DTEND;TZID=Australia/Perth:20260504T203000
DTSTAMP:20260423T061333
CREATED:20260102T075246Z
LAST-MODIFIED:20260203T091949Z
UID:10857933-1777921200-1777926600@seniorocity.com.au
SUMMARY:Transform Your Relationships and Communication
DESCRIPTION:Learn new techniques and skills to help you communicate effectively with others\, resolve issues\, and heal and strengthen your relationships
URL:https://seniorocity.com.au/whats-on-perth/transform-your-relationships-and-communication-18/
LOCATION:Dorchester Hall\, 2 Dugdale Street\, Warwick\, WA\, 6024\, Australia
CATEGORIES:Free
ATTACH;FMTTYPE=image/jpeg:https://seniorocity.com.au/wp-content/uploads/2026/01/2d2f2c5208b06c6160bbfb3ac3185367.jpg
END:VEVENT
END:VCALENDAR