BEGIN:VCALENDAR
VERSION:2.0
PRODID:-//Seniorocity - Seniors / Over 55&#039;s Guide to Perth - ECPv6.15.11//NONSGML v1.0//EN
CALSCALE:GREGORIAN
METHOD:PUBLISH
X-WR-CALNAME:Seniorocity - Seniors / Over 55&#039;s Guide to Perth
X-ORIGINAL-URL:https://seniorocity.com.au
X-WR-CALDESC:Events for Seniorocity - Seniors / Over 55&#039;s Guide to Perth
REFRESH-INTERVAL;VALUE=DURATION:PT1H
X-Robots-Tag:noindex
X-PUBLISHED-TTL:PT1H
BEGIN:VTIMEZONE
TZID:Australia/Perth
BEGIN:STANDARD
TZOFFSETFROM:+0800
TZOFFSETTO:+0800
TZNAME:AWST
DTSTART:20250101T000000
END:STANDARD
END:VTIMEZONE
BEGIN:VEVENT
DTSTART;TZID=Australia/Perth:20260501T100000
DTEND;TZID=Australia/Perth:20260508T110000
DTSTAMP:20260423T121317
CREATED:20260417T030039Z
LAST-MODIFIED:20260417T030039Z
UID:10865823-1777629600-1778238000@seniorocity.com.au
SUMMARY:Digital Drop-in - Digital Public Transport
DESCRIPTION:Join us for a beginner friendly introduction on how to use the Transperth app and tag on and off using your phone\, smartwatch or other device. \nNo cost. No need to book.
URL:https://seniorocity.com.au/whats-on-perth/digital-drop-in-digital-public-transport/
LOCATION:Woodvale Library\, 5 Trappers Drive\, Woodvale\, WA\, 6026\, Australia
CATEGORIES:Free,Information Session,Tech
ATTACH;FMTTYPE=image/jpeg:https://seniorocity.com.au/wp-content/uploads/2026/04/Digital-Drop-in-Digital-Public-Transport.jpg
END:VEVENT
BEGIN:VEVENT
DTSTART;VALUE=DATE:20260502
DTEND;VALUE=DATE:20260518
DTSTAMP:20260423T121317
CREATED:20260415T065618Z
LAST-MODIFIED:20260415T065618Z
UID:10865666-1777680000-1779062399@seniorocity.com.au
SUMMARY:Armadale Arts Festival
DESCRIPTION:The Armadale Arts Festival is a creative program of live music\, urban art\, theatre\, literature\, and arts and crafts\, all showcasing our incredible local talent. \nCome along\, explore our district\, and discover something new at the Armadale Arts Festival! There’s something for everyone! \nThis event is brought to you by the City of Armadale and is alcohol\, smoke and vape free. \n 
URL:https://seniorocity.com.au/whats-on-perth/armadale-arts-festival/
LOCATION:WA
CATEGORIES:Festival,Festivals,Free
ATTACH;FMTTYPE=image/jpeg:https://seniorocity.com.au/wp-content/uploads/2026/04/Armadale-Arts-Festival.jpg
END:VEVENT
BEGIN:VEVENT
DTSTART;TZID=Australia/Perth:20260502T160000
DTEND;TZID=Australia/Perth:20260509T173000
DTSTAMP:20260423T121317
CREATED:20260415T070851Z
LAST-MODIFIED:20260415T070851Z
UID:10865667-1777737600-1778347800@seniorocity.com.au
SUMMARY:WA Comedy Lab – Workshop for Beginners
DESCRIPTION:Has anyone ever told you you’re a comedian? Ever thought you actually could be? \nJoin Matt Storer\, one of WA’s most viral and in-demand comedians\, for a beginner stand-up comedy workshop designed to take you from idea to punchline. Whether you’ve never touched a mic\, have a few funny ideas\, or you’ve been sitting on notes full of half-jokes\, Matt will break down the fundamentals of joke writing\, structure\, stage presence and confidence — without the fluff. You’ll learn how to find your comedic voice\, sharpen everyday observations into tight material\, and leave with the foundations for your first 5-minute set. Practical\, honest\, and built for true beginners — this is your chance to stop thinking about comedy and actually try it. \nMatt Storer \nMatt Storer is one of Australia’s most inventive and engaging musical comedians. Based in WA\, Matt has become a standout presence on both live stages and online\, blending sharp stand‑up with original songs\, improvisation and crowd‑driven musical mayhem. His creative\, catchy comedy has helped him amass a major digital following — with his videos garnering millions of views on platforms like TikTok and YouTube — and forged a dedicated global audience. \nSince bursting onto the national scene by winning WA RAW Comedy (2014)\, Matt has consistently delivered memorable\, unpredictable performances at festivals and comedy tours across Australia. He’s a multiple award‑winner\, including the FRINGE WORLD Weekly Comedy Award and the Liberty Comedic Free Thinker Competition\, underscoring his status as a leading voice in musical comedy. \nLive\, Matt’s shows — like his highly popular Hot Nonsense — invite audience interaction\, with crowds choosing song topics and inspiring spontaneous lyrical creations ranging from absurd love ballads to anarchic ditties about daily life. His warm stage presence\, playful unpredictability and lyrical dexterity have won praise from reviewers and festival crowds alike\, with critics describing him as “incredibly funny\, charismatic and a true delight to watch.” \nIn addition to his festival work\, Matt regularly headlines shows around the country\, including comedy galas and touring productions where his blend of music and humour continues to expand his audience. As a viral creator and seasoned live performer\, Matt Storer now stands not just as a rising figure\, but as a firm fixture in Australia’s contemporary comedy scene — known for making people laugh and hum long after the show \n  \nPresented by WA Comedy and Recommended for 16+ \n  \nBook Online
URL:https://seniorocity.com.au/whats-on-perth/wa-comedy-lab-workshop-for-beginners/
LOCATION:Armadale District Hall\, Cnr Jull Street & Church Avenue\, Armadale\, WA\, 6112\, Australia
CATEGORIES:Free,Workshop
ATTACH;FMTTYPE=image/jpeg:https://seniorocity.com.au/wp-content/uploads/2026/04/WA-Comedy-Lab-–-Workshop-for-Beginners.jpg
END:VEVENT
BEGIN:VEVENT
DTSTART;TZID=Australia/Perth:20260506T090000
DTEND;TZID=Australia/Perth:20260506T100000
DTSTAMP:20260423T121317
CREATED:20260402T151835Z
LAST-MODIFIED:20260402T152043Z
UID:10865241-1778058000-1778061600@seniorocity.com.au
SUMMARY:Hi\, Tech! - Morley Library: basic 1 to 1 tech help - April to June 2026
DESCRIPTION:Get ready to level up your tech skills with personalised 1-to-1 help at Morley Library – it’s your time to shine!
URL:https://seniorocity.com.au/whats-on-perth/hi-tech-morley-library-basic-1-to-1-tech-help-april-to-june-2026-12/
LOCATION:Morley Library\, 240 Walter Road West\, Morley\, WA\, 6062\, Australia
CATEGORIES:Tech
ATTACH;FMTTYPE=image/jpeg:https://seniorocity.com.au/wp-content/uploads/2023/05/9d8a7f09914618be6e7e50f09a533e8d.jpg
END:VEVENT
BEGIN:VEVENT
DTSTART;TZID=Australia/Perth:20260506T090000
DTEND;TZID=Australia/Perth:20260506T110000
DTSTAMP:20260423T121317
CREATED:20260203T085153Z
LAST-MODIFIED:20260203T085305Z
UID:10862652-1778058000-1778065200@seniorocity.com.au
SUMMARY:Caring for the Mental Health Carer: Mind and Body Balance | City Beach
DESCRIPTION:Caring for the Mental Health Carer is a therapeutic group program designed for adult Mental Health Carers aged 18+.
URL:https://seniorocity.com.au/whats-on-perth/caring-for-the-mental-health-carer-mind-and-body-balance-city-beach-7/
LOCATION:Jubilee Crescent\, Jubilee Crescent\, City Beach\, WA\, 6015\, Australia
CATEGORIES:Health
ATTACH;FMTTYPE=image/jpeg:https://seniorocity.com.au/wp-content/uploads/2026/02/91a4ee0bd29c911dd44ce60eff2da8e0.jpg
END:VEVENT
BEGIN:VEVENT
DTSTART;TZID=Australia/Perth:20260506T090000
DTEND;TZID=Australia/Perth:20260506T110000
DTSTAMP:20260423T121317
CREATED:20260412T141205Z
LAST-MODIFIED:20260412T141205Z
UID:10865622-1778058000-1778065200@seniorocity.com.au
SUMMARY:Forest Bathing Walk at Baldivis Children's Forest
DESCRIPTION:Join us for a gentle\, quiet walk\, using all your senses to explore the bushland. \nDifferent activities and invitations will be offered along the way to help you ‘sink in’ to greater mindfulness and awe\, all while enjoying health benefits like boosted immunity and reduced stress. \nTo end\, participants share experiences and insights while enjoying a cup of tea in the Japanese tea ceremony style. You will be glad you came along. \nWhat to bring: \n\nSun-safe clothing\, including a hat\, sunscreen and a water bottle.\nEnclosed shoes\, as there will be walking along bush paths.\n\nThis event is perfect for those aged 16+. \nRegistration required. Spaces are limited. \nThis workshop forms part of the City’s WA Tree Festival activities\, to find out more visit here. \nRegister now
URL:https://seniorocity.com.au/whats-on-perth/forest-bathing-walk-at-baldivis-childrens-forest/
LOCATION:Baldivis Children’s Forest\, 1399 Mandurah Road\, Baldivis\, WA\, 6171\, Australia
CATEGORIES:Free,Health,Workshop
ATTACH;FMTTYPE=image/jpeg:https://seniorocity.com.au/wp-content/uploads/2026/04/Forest-Bathing-Walk-at-Baldivis-Childrens-Forest.jpg
END:VEVENT
BEGIN:VEVENT
DTSTART;TZID=Australia/Perth:20260506T090000
DTEND;TZID=Australia/Perth:20260506T170000
DTSTAMP:20260423T121317
CREATED:20260419T133827Z
LAST-MODIFIED:20260419T133827Z
UID:10866002-1778058000-1778086800@seniorocity.com.au
SUMMARY:Jarrahdale Heritage Walk with Morning Tea
DESCRIPTION:Join the Heritage Society for an easy walk through Jarrahdale Heritage Park. You’ll see examples of our famous local tree species such as jarrah\, redgums\, rudus and snottygobbles. You’ll also visit the new plantings and finish off with morning tea at the 701 Café. \nPlease note: we are unable to cater to dietary preferences or food allergies. \nYou will need: \n\nWalking shoes\nSun protection\nWater bottle\nLow to moderate fitness level\n\nRegister via Humantix: https://events.humanitix.com/jarrahdale-heritage-walk/tickets
URL:https://seniorocity.com.au/whats-on-perth/jarrahdale-heritage-walk-with-morning-tea/
LOCATION:Jarrahdale Heritage Park\, Jarrahdale Road\, Jarrahdale\, Australia
CATEGORIES:Morning Tea,Walk,Week day events
ATTACH;FMTTYPE=image/png:https://seniorocity.com.au/wp-content/uploads/2026/04/Jarrahdale-Heritage-Walk-with-Morning-Tea.png
END:VEVENT
BEGIN:VEVENT
DTSTART;TZID=Australia/Perth:20260506T093000
DTEND;TZID=Australia/Perth:20260506T113000
DTSTAMP:20260423T121317
CREATED:20260417T070833Z
LAST-MODIFIED:20260417T070833Z
UID:10865939-1778059800-1778067000@seniorocity.com.au
SUMMARY:Department of Transport & Major Infrastructure – Education Session for Seniors
DESCRIPTION:Ideal for seniors in Fremantle seeking help with DoTDirect accounts\, driver’s licence renewals\, vehicle registration\, and safe online government services. \nJoin the Department of Transport and Major Infrastructure for a free\, face-to-face education session at Fremantle Library (Mardoo Room)\, designed to support seniors in confidently accessing essential transport services online. \nThis practical community session will cover: \n\n\nAssistance creating a DoTDirect online account \n\n\nDemonstrations of digital driver and vehicle services \n\n\nSafe online transaction practices \n\n\nConcession details and eligibility information \n\n\nVehicle registration processes \n\n\nDriver’s licence renewals \n\n\nSecure payment options \n\n\nParticipants are encouraged to ask questions and receive guidance on related transport and licensing topics. The session aims to build confidence and improve digital skills when accessing government services online. \nBook Now
URL:https://seniorocity.com.au/whats-on-perth/department-of-transport-major-infrastructure-education-session-for-seniors/
LOCATION:The Fremantle Library at Walyalup Civic Centre\, 151 High St\, Fremantle WA 6160\, Fremantle\, WA\, 6160\, Australia
CATEGORIES:Free,Information Session,Library Events
ATTACH;FMTTYPE=image/jpeg:https://seniorocity.com.au/wp-content/uploads/2026/04/Department-of-Transport-Major-Infrastructure-–-Education-Session-for-Seniors.jpg
END:VEVENT
BEGIN:VEVENT
DTSTART;TZID=Australia/Perth:20260506T100000
DTEND;TZID=Australia/Perth:20260506T110000
DTSTAMP:20260423T121317
CREATED:20260402T151836Z
LAST-MODIFIED:20260402T152054Z
UID:10865242-1778061600-1778065200@seniorocity.com.au
SUMMARY:Hi\, Tech! - Morley Library: basic 1 to 1 tech help - April to June 2026
DESCRIPTION:Get ready to level up your tech skills with personalised 1-to-1 help at Morley Library – it’s your time to shine!
URL:https://seniorocity.com.au/whats-on-perth/hi-tech-morley-library-basic-1-to-1-tech-help-april-to-june-2026-13/
LOCATION:Morley Library\, 240 Walter Road West\, Morley\, WA\, 6062\, Australia
CATEGORIES:Tech
ATTACH;FMTTYPE=image/jpeg:https://seniorocity.com.au/wp-content/uploads/2023/05/9d8a7f09914618be6e7e50f09a533e8d.jpg
END:VEVENT
BEGIN:VEVENT
DTSTART;TZID=Australia/Perth:20260506T100000
DTEND;TZID=Australia/Perth:20260506T120000
DTSTAMP:20260423T121317
CREATED:20260412T141609Z
LAST-MODIFIED:20260412T141609Z
UID:10865623-1778061600-1778068800@seniorocity.com.au
SUMMARY:Makers and Creators: Upcycled Fabric Bow
DESCRIPTION:Join us for a fun and creative session where you’ll learn simple hand sewing techniques to craft a beautiful fabric bow using upcycled garments or manchester. Perfect as a gift\, accessory\, or decoration. No sewing experience needed. \nThis is a free event for ages 18+. Bookings are essential and will open Wednesday 8 April. \nFor further information contact Safety Bay Library on 9528 8611 or rockinghamlibraries@rockingham.wa.gov.au. \nIf you have any specific needs or require accommodations in order to comfortably attend this event\, such as visual aids\, a quiet space\, or accessible seating\, please let us know. \nRegister now
URL:https://seniorocity.com.au/whats-on-perth/makers-and-creators-upcycled-fabric-bow/
LOCATION:Safety Bay Library\, 197 Safety Bay Road\, Safety Bay\, WA\, 6169\, Australia
CATEGORIES:Craft,Free,Library Events
END:VEVENT
BEGIN:VEVENT
DTSTART;TZID=Australia/Perth:20260506T103000
DTEND;TZID=Australia/Perth:20260506T113000
DTSTAMP:20260423T121317
CREATED:20260405T123641Z
LAST-MODIFIED:20260405T123641Z
UID:10865366-1778063400-1778067000@seniorocity.com.au
SUMMARY:Tech Tea - Safe Banking - Lakelands Library
DESCRIPTION:Concerned about getting caught up in scams and frauds? Want to learn how to bank online safely? Come Learn how at Mandurah Libraries.\n\n\nJoin us for a special Tech Tea Session at Mandurah Libraries! \nConcerned about getting caught up in scams and frauds? Want to learn how to bank online safely? \nCome join us at Mandurah libraries and learn how to stay safe online! This special Tech tea presentation will be presented by CommBank facilitators delivering their Staying Safe Online seminar. \n \nWhat could you learn? \n· How to identify scams and suspicious links. \n· How to protect yourself from scams and fraud. \n· To create strong passwords and how to keep them secure. \n· How to securely access online banking. \n· How to stay safe digitally while travelling. \n \nPlaces are limited\, book your place now!
URL:https://seniorocity.com.au/whats-on-perth/tech-tea-safe-banking-lakelands-library-2/
LOCATION:City of Mandurah – Lakelands Library and Community Centre\, 49 Banksiadale Gate\, Lakelands\, WA\, 6180\, Australia
CATEGORIES:Tech
ATTACH;FMTTYPE=image/jpeg:https://seniorocity.com.au/wp-content/uploads/2026/04/7acacd9c58be55543daf59ebc292414f.jpg
END:VEVENT
BEGIN:VEVENT
DTSTART;TZID=Australia/Perth:20260506T130000
DTEND;TZID=Australia/Perth:20260506T140000
DTSTAMP:20260423T121317
CREATED:20260402T152616Z
LAST-MODIFIED:20260402T153225Z
UID:10865281-1778072400-1778076000@seniorocity.com.au
SUMMARY:Hi\, Tech! Maylands Library: basic 1-to-1 tech help - April to June 2026
DESCRIPTION:Get ready to level up your IT skills with personalised 1-to-1 help at Maylands Library – it’s your time to shine!
URL:https://seniorocity.com.au/whats-on-perth/hi-tech-maylands-library-basic-1-to-1-tech-help-april-to-june-2026-7/
LOCATION:Maylands Public Library\, The RISE\, 28 Eighth Avenue\, Maylands\, WA\, 6051\, Australia
CATEGORIES:Free
ATTACH;FMTTYPE=image/jpeg:https://seniorocity.com.au/wp-content/uploads/2024/07/47d27fc431d8516939cc37f1f8af6de5.jpg
GEO:-31.9310445;115.8948571
X-APPLE-STRUCTURED-LOCATION;VALUE=URI;X-ADDRESS=Maylands Public Library The RISE 28 Eighth Avenue Maylands WA 6051 Australia;X-APPLE-RADIUS=500;X-TITLE=The RISE\, 28 Eighth Avenue:geo:115.8948571,-31.9310445
END:VEVENT
BEGIN:VEVENT
DTSTART;TZID=Australia/Perth:20260506T133000
DTEND;TZID=Australia/Perth:20260506T143000
DTSTAMP:20260423T121317
CREATED:20260212T114613Z
LAST-MODIFIED:20260212T114613Z
UID:10863520-1778074200-1778077800@seniorocity.com.au
SUMMARY:Wednesday Book Club
DESCRIPTION:Explore best-selling authors such as Di Morrisey\, David Baldacci and Tana French each month in this diverse and welcoming group.\n\n\n\n\n\n\nFor adults and young people 16+ \nThis monthly program will be held in the Innovation Lab\, Ruth Faulkner Library \nIf you are looking for your next great read\, here is your chance to discuss and review books of all genres and meet like-minded readers. \nTo register your interest\, please complete the online Book Club Expression of Interest form or call (08) 9477 7150. We will contact you when an opening in the program becomes available.
URL:https://seniorocity.com.au/whats-on-perth/wednesday-book-club/2026-05-06/
LOCATION:Innovation Lab\, Ruth Faulkner Library\, 213 Wright Street\, Cloverdale\, WA\, 6105\, Australia
CATEGORIES:Club,Free,Library Events
ATTACH;FMTTYPE=image/png:https://seniorocity.com.au/wp-content/uploads/2026/02/Wednesday-Book-Club.png
END:VEVENT
BEGIN:VEVENT
DTSTART;TZID=Australia/Perth:20260506T134500
DTEND;TZID=Australia/Perth:20260506T160000
DTSTAMP:20260423T121317
CREATED:20251102T132407Z
LAST-MODIFIED:20260102T080609Z
UID:10856463-1778075100-1778083200@seniorocity.com.au
SUMMARY:NEW Listening Lounge Mental Health Peer Support Group- Kelmscott!
DESCRIPTION:A welcoming space for connection\, understanding and mutual support.
URL:https://seniorocity.com.au/whats-on-perth/new-listening-lounge-mental-health-peer-support-group-kelmscott-27/
LOCATION:Creyk Park Pavilion\, 6 Kembla Street\, Kelmscott\, WA\, 6111\, Australia
CATEGORIES:Health
ATTACH;FMTTYPE=image/jpeg:https://seniorocity.com.au/wp-content/uploads/2026/01/0cd8afe91432da0a77137da7b5a4370c.jpg
END:VEVENT
BEGIN:VEVENT
DTSTART;TZID=Australia/Perth:20260506T140000
DTEND;TZID=Australia/Perth:20260506T150000
DTSTAMP:20260423T121317
CREATED:20260204T091643Z
LAST-MODIFIED:20260204T142648Z
UID:10862891-1778076000-1778079600@seniorocity.com.au
SUMMARY:Gardening Club
DESCRIPTION:Nature play for 2–5 year-olds & caregivers\, Wednesdays 2–3 pm! Plant veggies\, explore worms & enjoy outdoor fun together.
URL:https://seniorocity.com.au/whats-on-perth/gardening-club-13/
LOCATION:26A Harris St\, 26A Harris Street\, Bicton\, WA\, 6157\, Australia
CATEGORIES:Gardening & Environment
END:VEVENT
BEGIN:VEVENT
DTSTART;TZID=Australia/Perth:20260506T140000
DTEND;TZID=Australia/Perth:20260506T150000
DTSTAMP:20260423T121317
CREATED:20260402T152616Z
LAST-MODIFIED:20260402T153237Z
UID:10865282-1778076000-1778079600@seniorocity.com.au
SUMMARY:Hi\, Tech! Maylands Library: basic 1-to-1 tech help - April to June 2026
DESCRIPTION:Get ready to level up your IT skills with personalised 1-to-1 help at Maylands Library – it’s your time to shine!
URL:https://seniorocity.com.au/whats-on-perth/hi-tech-maylands-library-basic-1-to-1-tech-help-april-to-june-2026-8/
LOCATION:Maylands Public Library\, The RISE\, 28 Eighth Avenue\, Maylands\, WA\, 6051\, Australia
CATEGORIES:Free
ATTACH;FMTTYPE=image/jpeg:https://seniorocity.com.au/wp-content/uploads/2024/07/47d27fc431d8516939cc37f1f8af6de5.jpg
GEO:-31.9310445;115.8948571
X-APPLE-STRUCTURED-LOCATION;VALUE=URI;X-ADDRESS=Maylands Public Library The RISE 28 Eighth Avenue Maylands WA 6051 Australia;X-APPLE-RADIUS=500;X-TITLE=The RISE\, 28 Eighth Avenue:geo:115.8948571,-31.9310445
END:VEVENT
BEGIN:VEVENT
DTSTART;TZID=Australia/Perth:20260506T140000
DTEND;TZID=Australia/Perth:20260506T160000
DTSTAMP:20260423T121317
CREATED:20260103T141126Z
LAST-MODIFIED:20260103T141126Z
UID:10860194-1778076000-1778083200@seniorocity.com.au
SUMMARY:Family History Sessions
DESCRIPTION:Explore your family roots with Family History Sessions. \nIn Partnership with Family History WA\, book free one-on-one genealogical assistance to help uncover your family’s story. \nWhen: 1st Wednesday of the month \nTime: 2pm – 4pm \nTo book please phone (08) 9285 4353 or email library@claremont.wa.gov.au
URL:https://seniorocity.com.au/whats-on-perth/family-history-sessions/2026-05-06/
LOCATION:Bay View Community Centre\, 64 Bay View Terrace\, Claremont\, WA\, 6010\, Australia
CATEGORIES:Free,History,Library Events
ATTACH;FMTTYPE=image/webp:https://seniorocity.com.au/wp-content/uploads/2026/01/Family-History-Sessions.webp
END:VEVENT
BEGIN:VEVENT
DTSTART;TZID=Australia/Perth:20260506T143000
DTEND;TZID=Australia/Perth:20260506T153000
DTSTAMP:20260423T121317
CREATED:20260401T145929Z
LAST-MODIFIED:20260401T150010Z
UID:10865223-1778077800-1778081400@seniorocity.com.au
SUMMARY:Cockman House Guided Tour
DESCRIPTION:Join us during the Australian Heritage Festival for a guided tour of this historic local gem.
URL:https://seniorocity.com.au/whats-on-perth/cockman-house-guided-tour-4/
LOCATION:Cockman House\, Wanneroo\, Ancestor Retreat (off Woodvale Drive)\, Woodvale\, WA\, 6026\, Australia
CATEGORIES:Tour
ATTACH;FMTTYPE=image/jpeg:https://seniorocity.com.au/wp-content/uploads/2026/04/2782bd8e24a8327884502972eb1d263d-1.jpg
END:VEVENT
BEGIN:VEVENT
DTSTART;TZID=Australia/Perth:20260506T153000
DTEND;TZID=Australia/Perth:20260506T173000
DTSTAMP:20260423T121318
CREATED:20260412T142034Z
LAST-MODIFIED:20260412T142034Z
UID:10865624-1778081400-1778088600@seniorocity.com.au
SUMMARY:Neurodiversity 101: Embracing Different Minds
DESCRIPTION:This workshop introduces parents\, caregivers and community members to neurodiversity and neurodivergence\, addressing common misconceptions and highlighting the wide spectrum of lived experiences. Explore how environments\, culture\, communication\, and social interactions affect inclusion\, and leave with practical strategies to help neurodivergent people feel seen\, valued and accepted. \nThis is a free event for adults 18+ and bookings are essential. \nFor more information\, please contact Warnbro Community Library on 9528 8577 or email rockinghamlibraries@rockingham.wa.gov.au. \nIf you have any specific needs or require accommodations in order to comfortably attend this event\, such as visual aids\, a quiet space\, or accessible seating\, please let us know.\nRegister now
URL:https://seniorocity.com.au/whats-on-perth/neurodiversity-101-embracing-different-minds/
LOCATION:Warnbro Community Library\, Swallowtail Parade\, Warnbro\, WA\, 6168\, Australia
CATEGORIES:Free,Health,Information Session
ATTACH;FMTTYPE=image/jpeg:https://seniorocity.com.au/wp-content/uploads/2026/04/Neurodiversity-101-Embracing-Different-Minds.jpg
END:VEVENT
BEGIN:VEVENT
DTSTART;TZID=Australia/Perth:20260506T170000
DTEND;TZID=Australia/Perth:20260506T190000
DTSTAMP:20260423T121318
CREATED:20260204T144653Z
LAST-MODIFIED:20260204T144749Z
UID:10863069-1778086800-1778094000@seniorocity.com.au
SUMMARY:Skills for Mental Health Carers | Self Compassion Workshop | Midland
DESCRIPTION:Skills for Mental Health Carers  is a therapeutic group program designed for adult Mental Health Carers aged 18+.
URL:https://seniorocity.com.au/whats-on-perth/skills-for-mental-health-carers-self-compassion-workshop-midland-6/
LOCATION:1A Sayer St\, 1A Sayer Street\, Midland\, WA\, 6056\, Australia
CATEGORIES:Health
ATTACH;FMTTYPE=image/jpeg:https://seniorocity.com.au/wp-content/uploads/2026/02/102f8710be5f88540b218768f59181bd-1.jpg
END:VEVENT
BEGIN:VEVENT
DTSTART;TZID=Australia/Perth:20260506T180000
DTEND;TZID=Australia/Perth:20260506T190000
DTSTAMP:20260423T121318
CREATED:20260417T032408Z
LAST-MODIFIED:20260417T032408Z
UID:10865824-1778090400-1778094000@seniorocity.com.au
SUMMARY:Community Session - Perimenopause and Menopause
DESCRIPTION:Many women feel left in the dark during this major life transition due to limited information and support. \nLuma will bring you the latest research\, symptoms and powerful strategies to help you or the women in your life face menopause with confidence and strength. \nNo cost. Register online.
URL:https://seniorocity.com.au/whats-on-perth/community-session-perimenopause-and-menopause/
LOCATION:Whitford Library\, Cnr Marmion and Banks Avenues\, Hillarys\, WA\, 6025\, Australia
CATEGORIES:Free,Health,Information Session
ATTACH;FMTTYPE=image/jpeg:https://seniorocity.com.au/wp-content/uploads/2026/04/Community-Session-Perimenopause-and-Menopause.jpg
GEO:-31.7986572;115.7537703
X-APPLE-STRUCTURED-LOCATION;VALUE=URI;X-ADDRESS=Whitford Library Cnr Marmion and Banks Avenues Hillarys WA 6025 Australia;X-APPLE-RADIUS=500;X-TITLE=Cnr Marmion and Banks Avenues:geo:115.7537703,-31.7986572
END:VEVENT
BEGIN:VEVENT
DTSTART;TZID=Australia/Perth:20260506T180000
DTEND;TZID=Australia/Perth:20260506T200000
DTSTAMP:20260423T121318
CREATED:20260418T152433Z
LAST-MODIFIED:20260418T152433Z
UID:10865988-1778090400-1778097600@seniorocity.com.au
SUMMARY:Out Where The Watercolours Are
DESCRIPTION:Out Where the Watercolours Are is a joint exhibition by two Perth-based artists\, showcasing original watercolour works inspired by the Western Australian landscape. \nFrom coastal scenes to inland ranges\, the collection captures moments from road trips\, time spent working in the Pilbara\, and a love for native wildlife and flora. Each piece reflects a personal connection to place\, translated through colour\, light\, and texture. \nThe exhibition is open Wednesday to Saturday\, 10.00am–3.-00pm. Join us for the opening night with champagne from 6.00–8.00pm on Wednesday 6 May\, or meet the artists on Sunday 10 May from 3.00pm–4.00pm. \n 
URL:https://seniorocity.com.au/whats-on-perth/out-where-the-watercolours-are/2026-05-06/
LOCATION:Stirling Community Centres – Bob Daniel – Inglewood\, 895 Beaufort Street\, Perth\, WA\, 6052\, Australia
CATEGORIES:Exhibition,Free
ATTACH;FMTTYPE=image/png:https://seniorocity.com.au/wp-content/uploads/2026/04/Out-Where-The-Watercolours-Are.png
END:VEVENT
BEGIN:VEVENT
DTSTART;TZID=Australia/Perth:20260506T190000
DTEND;TZID=Australia/Perth:20260506T210000
DTSTAMP:20260423T121318
CREATED:20260102T073631Z
LAST-MODIFIED:20260401T141448Z
UID:10857630-1778094000-1778101200@seniorocity.com.au
SUMMARY:HILTON HAHAS
DESCRIPTION:New material Comedy Night\, come get a 1/2 priced dinner and have a laugh at some fresh new comedy !!
URL:https://seniorocity.com.au/whats-on-perth/hilton-hahas-18/
LOCATION:South Street Ale House & Bottleshop\, 277 South Street\, Hilton\, WA\, 6163\, Australia
CATEGORIES:Free,Theatre & Shows
ATTACH;FMTTYPE=image/jpeg:https://seniorocity.com.au/wp-content/uploads/2026/01/d1384d782c9a02cbe61db6a5afb92cd0.jpg
END:VEVENT
BEGIN:VEVENT
DTSTART;TZID=Australia/Perth:20260506T191500
DTEND;TZID=Australia/Perth:20260506T201500
DTSTAMP:20260423T121318
CREATED:20250713T072938Z
LAST-MODIFIED:20260102T081029Z
UID:10791367-1778094900-1778098500@seniorocity.com.au
SUMMARY:FREE Community Yoga
DESCRIPTION:A class taught by teachers in training. Free of charge.
URL:https://seniorocity.com.au/whats-on-perth/free-community-yoga-43/
LOCATION:The Yoga Space\, 79 Colin Street\, #6\, West Perth\, WA\, 6005\, Australia
CATEGORIES:Free
ATTACH;FMTTYPE=image/jpeg:https://seniorocity.com.au/wp-content/uploads/2025/07/620679d6cce180570dcf21a88ec64011.jpg
END:VEVENT
END:VCALENDAR