BEGIN:VCALENDAR
VERSION:2.0
PRODID:-//Seniorocity - Seniors / Over 55&#039;s Guide to Perth - ECPv6.15.11//NONSGML v1.0//EN
CALSCALE:GREGORIAN
METHOD:PUBLISH
X-ORIGINAL-URL:https://seniorocity.com.au
X-WR-CALDESC:Events for Seniorocity - Seniors / Over 55&#039;s Guide to Perth
REFRESH-INTERVAL;VALUE=DURATION:PT1H
X-Robots-Tag:noindex
X-PUBLISHED-TTL:PT1H
BEGIN:VTIMEZONE
TZID:Australia/Perth
BEGIN:STANDARD
TZOFFSETFROM:+0800
TZOFFSETTO:+0800
TZNAME:AWST
DTSTART:20250101T000000
END:STANDARD
END:VTIMEZONE
BEGIN:VEVENT
DTSTART;VALUE=DATE:20260502
DTEND;VALUE=DATE:20260518
DTSTAMP:20260423T204356
CREATED:20260415T065618Z
LAST-MODIFIED:20260415T065618Z
UID:10865666-1777680000-1779062399@seniorocity.com.au
SUMMARY:Armadale Arts Festival
DESCRIPTION:The Armadale Arts Festival is a creative program of live music\, urban art\, theatre\, literature\, and arts and crafts\, all showcasing our incredible local talent. \nCome along\, explore our district\, and discover something new at the Armadale Arts Festival! There’s something for everyone! \nThis event is brought to you by the City of Armadale and is alcohol\, smoke and vape free. \n 
URL:https://seniorocity.com.au/whats-on-perth/armadale-arts-festival/
LOCATION:WA
CATEGORIES:Festival,Festivals,Free
ATTACH;FMTTYPE=image/jpeg:https://seniorocity.com.au/wp-content/uploads/2026/04/Armadale-Arts-Festival.jpg
END:VEVENT
BEGIN:VEVENT
DTSTART;TZID=Australia/Perth:20260511T100000
DTEND;TZID=Australia/Perth:20260511T113000
DTSTAMP:20260423T204356
CREATED:20260204T090311Z
LAST-MODIFIED:20260204T090355Z
UID:10862732-1778493600-1778499000@seniorocity.com.au
SUMMARY:Mandarin Conversation Group for Seniors
DESCRIPTION:我们是一个为年长者提供的中文会话小组，让您可以练习和提高您的普通话水平和可以社交互动，欢迎加入我们！
URL:https://seniorocity.com.au/whats-on-perth/mandarin-conversation-group-for-seniors-9/
LOCATION:Willetton Library\, 37 Burrendah Boulevard\, Willetton\, WA\, 6155\, Australia
CATEGORIES:Language Class
ATTACH;FMTTYPE=image/jpeg:https://seniorocity.com.au/wp-content/uploads/2026/02/4e7b5071f7538329f8c4d7cdbe265400.jpg
GEO:-32.0576661;115.8795741
X-APPLE-STRUCTURED-LOCATION;VALUE=URI;X-ADDRESS=Willetton Library 37 Burrendah Boulevard Willetton WA 6155 Australia;X-APPLE-RADIUS=500;X-TITLE=37 Burrendah Boulevard:geo:115.8795741,-32.0576661
END:VEVENT
BEGIN:VEVENT
DTSTART;TZID=Australia/Perth:20260511T100000
DTEND;TZID=Australia/Perth:20260511T120000
DTSTAMP:20260423T204356
CREATED:20260415T135427Z
LAST-MODIFIED:20260415T135427Z
UID:10865692-1778493600-1778500800@seniorocity.com.au
SUMMARY:Positive Ageing High Teas 2026
DESCRIPTION:Fancy adding a bit of extravagance to your day? \nEnjoy a little indulgence at one of the Positive Ageing High Tea events being held at the historic Armadale District Hall. Delight in being served a morning tea of delicious treats by Bedfordale Country Women’s Association and local hospitality students from the following high schools: \n• Kelmscott Senior High School \n• John Wollaston Anglican Community College \n• Armadale Senior High School \n• Roleystone Community College \nAfter morning tea\, guests will be invited to explore the thought-provoking works of the Minnawarra Art Awards. As one of the City’s premium events\, the renowned Minnawarra Art Awards presents a beautifully curated exhibition showcasing a variety of mediums from some of Western Australia’s most prestigious artists. \nThis is a free event\, but places are limited. Book now to avoid disappointment.
URL:https://seniorocity.com.au/whats-on-perth/positive-ageing-high-teas-2026/
LOCATION:Armadale District Hall\, Cnr Jull Street & Church Avenue\, Armadale\, WA\, 6112\, Australia
CATEGORIES:Free,Meet New People,Morning Tea,Social
ATTACH;FMTTYPE=image/jpeg:https://seniorocity.com.au/wp-content/uploads/2026/04/Positive-Ageing-High-Teas-2026.jpg
END:VEVENT
BEGIN:VEVENT
DTSTART;TZID=Australia/Perth:20260511T130000
DTEND;TZID=Australia/Perth:20260511T160000
DTSTAMP:20260423T204356
CREATED:20260405T124923Z
LAST-MODIFIED:20260405T124923Z
UID:10865379-1778504400-1778515200@seniorocity.com.au
SUMMARY:TECH Connect
DESCRIPTION:Personalised help with your specific queries relating to the internet and technology.
URL:https://seniorocity.com.au/whats-on-perth/tech-connect-55/
LOCATION:Australind Public Library\, 7 Mulgara Street\, Australind\, WA\, 6233\, Australia
CATEGORIES:Tech
ATTACH;FMTTYPE=image/jpeg:https://seniorocity.com.au/wp-content/uploads/2025/07/c32d4cac6d25bcb1b7f9ffb031165fb0.jpg
END:VEVENT
BEGIN:VEVENT
DTSTART;TZID=Australia/Perth:20260511T140000
DTEND;TZID=Australia/Perth:20260511T143000
DTSTAMP:20260423T204357
CREATED:20260203T090539Z
LAST-MODIFIED:20260203T090539Z
UID:10862711-1778508000-1778509800@seniorocity.com.au
SUMMARY:Tech Help @ Wanneroo Library (Monday)
DESCRIPTION:Book in for a one-on-one session to go over whatever tech help you need.
URL:https://seniorocity.com.au/whats-on-perth/tech-help-wanneroo-library-monday-144/
LOCATION:Wanneroo Library\, 3 Rocca Way\, Wanneroo\, WA\, 6065\, Australia
CATEGORIES:Tech
ATTACH;FMTTYPE=image/jpeg:https://seniorocity.com.au/wp-content/uploads/2025/04/1846f0357c7a791a8fd4ed3d29e5a0ba.jpg
GEO:-31.750643;115.805954
X-APPLE-STRUCTURED-LOCATION;VALUE=URI;X-ADDRESS=Wanneroo Library 3 Rocca Way Wanneroo WA 6065 Australia;X-APPLE-RADIUS=500;X-TITLE=3 Rocca Way:geo:115.805954,-31.750643
END:VEVENT
BEGIN:VEVENT
DTSTART;TZID=Australia/Perth:20260511T143000
DTEND;TZID=Australia/Perth:20260511T150000
DTSTAMP:20260423T204357
CREATED:20260203T090539Z
LAST-MODIFIED:20260203T090539Z
UID:10862712-1778509800-1778511600@seniorocity.com.au
SUMMARY:Tech Help @ Wanneroo Library (Monday)
DESCRIPTION:Book in for a one-on-one session to go over whatever tech help you need.
URL:https://seniorocity.com.au/whats-on-perth/tech-help-wanneroo-library-monday-145/
LOCATION:Wanneroo Library\, 3 Rocca Way\, Wanneroo\, WA\, 6065\, Australia
CATEGORIES:Tech
ATTACH;FMTTYPE=image/jpeg:https://seniorocity.com.au/wp-content/uploads/2025/04/1846f0357c7a791a8fd4ed3d29e5a0ba.jpg
GEO:-31.750643;115.805954
X-APPLE-STRUCTURED-LOCATION;VALUE=URI;X-ADDRESS=Wanneroo Library 3 Rocca Way Wanneroo WA 6065 Australia;X-APPLE-RADIUS=500;X-TITLE=3 Rocca Way:geo:115.805954,-31.750643
END:VEVENT
BEGIN:VEVENT
DTSTART;TZID=Australia/Perth:20260511T143000
DTEND;TZID=Australia/Perth:20260511T163000
DTSTAMP:20260423T204357
CREATED:20260314T040556Z
LAST-MODIFIED:20260314T040556Z
UID:10864227-1778509800-1778517000@seniorocity.com.au
SUMMARY:Guildford family history sleuths
DESCRIPTION:Have you always wanted to make your own Family Tree? Are you a Family Tree creator wanting to share your knowledge\, or are you just starting out on your research journey? Join the Guildford Family History Sleuths monthly to improve your research skills and learn some common pitfalls\, share stories\, and meet other family history lovers. \nPlease book in as spaces are limited.\nPlease book one ticket for each person attending. This program is suitable for adults aged 18+ and is a hands-on workshop. Photography and videography may be taken at this event. Images and footage may be used by the City of Swan and event organisers for marketing and promotional purposes.
URL:https://seniorocity.com.au/whats-on-perth/guildford-family-history-sleuths/2026-05-11/
LOCATION:Guildford Public Library\, 97 James Street\, Guildford\, WA\, 6055\, Australia
CATEGORIES:Free,History,Library Events
ATTACH;FMTTYPE=image/png:https://seniorocity.com.au/wp-content/uploads/2026/03/Guildford-family-history-sleuths.png
END:VEVENT
BEGIN:VEVENT
DTSTART;TZID=Australia/Perth:20260511T150000
DTEND;TZID=Australia/Perth:20260511T153000
DTSTAMP:20260423T204357
CREATED:20260203T090540Z
LAST-MODIFIED:20260203T090540Z
UID:10862713-1778511600-1778513400@seniorocity.com.au
SUMMARY:Tech Help @ Wanneroo Library (Monday)
DESCRIPTION:Book in for a one-on-one session to go over whatever tech help you need.
URL:https://seniorocity.com.au/whats-on-perth/tech-help-wanneroo-library-monday-146/
LOCATION:Wanneroo Library\, 3 Rocca Way\, Wanneroo\, WA\, 6065\, Australia
CATEGORIES:Tech
ATTACH;FMTTYPE=image/jpeg:https://seniorocity.com.au/wp-content/uploads/2025/04/1846f0357c7a791a8fd4ed3d29e5a0ba.jpg
GEO:-31.750643;115.805954
X-APPLE-STRUCTURED-LOCATION;VALUE=URI;X-ADDRESS=Wanneroo Library 3 Rocca Way Wanneroo WA 6065 Australia;X-APPLE-RADIUS=500;X-TITLE=3 Rocca Way:geo:115.805954,-31.750643
END:VEVENT
BEGIN:VEVENT
DTSTART;TZID=Australia/Perth:20260511T153000
DTEND;TZID=Australia/Perth:20260511T160000
DTSTAMP:20260423T204357
CREATED:20260203T090541Z
LAST-MODIFIED:20260203T090541Z
UID:10862714-1778513400-1778515200@seniorocity.com.au
SUMMARY:Tech Help @ Wanneroo Library (Monday)
DESCRIPTION:Book in for a one-on-one session to go over whatever tech help you need.
URL:https://seniorocity.com.au/whats-on-perth/tech-help-wanneroo-library-monday-147/
LOCATION:Wanneroo Library\, 3 Rocca Way\, Wanneroo\, WA\, 6065\, Australia
CATEGORIES:Tech
ATTACH;FMTTYPE=image/jpeg:https://seniorocity.com.au/wp-content/uploads/2025/04/1846f0357c7a791a8fd4ed3d29e5a0ba.jpg
GEO:-31.750643;115.805954
X-APPLE-STRUCTURED-LOCATION;VALUE=URI;X-ADDRESS=Wanneroo Library 3 Rocca Way Wanneroo WA 6065 Australia;X-APPLE-RADIUS=500;X-TITLE=3 Rocca Way:geo:115.805954,-31.750643
END:VEVENT
BEGIN:VEVENT
DTSTART;TZID=Australia/Perth:20260511T174500
DTEND;TZID=Australia/Perth:20260511T200000
DTSTAMP:20260423T204357
CREATED:20260102T080719Z
LAST-MODIFIED:20260204T145914Z
UID:10858132-1778521500-1778529600@seniorocity.com.au
SUMMARY:NEW! Listening Lounge Mental Health Peer Support Group - Joondalup
DESCRIPTION:A welcoming space for connection\, understanding and mutual support.
URL:https://seniorocity.com.au/whats-on-perth/new-listening-lounge-mental-health-peer-support-group-joondalup-15/
LOCATION:Joondalup Family Centre\, 25 Jolstra Crescent\, Joondalup\, WA\, 6027\, Australia
CATEGORIES:Health
ATTACH;FMTTYPE=image/jpeg:https://seniorocity.com.au/wp-content/uploads/2026/01/633e950438bb36cdcb2805d326328360.jpg
END:VEVENT
BEGIN:VEVENT
DTSTART;TZID=Australia/Perth:20260511T190000
DTEND;TZID=Australia/Perth:20260511T200000
DTSTAMP:20260423T204357
CREATED:20250907T024548Z
LAST-MODIFIED:20251102T040832Z
UID:10855568-1778526000-1778529600@seniorocity.com.au
SUMMARY:Ballroom  and Latin Beginners Dancing Class Mondays
DESCRIPTION:Weekly Ballroom Dancing and Latin Beginners Class new dancers for Mondays from 7 to 8 pm.
URL:https://seniorocity.com.au/whats-on-perth/ballroom-and-latin-beginners-dancing-class-mondays-36/
LOCATION:Belmont Hub\, 213 Wright Street\, Cloverdale\, WA\, 6105\, Australia
CATEGORIES:Sport Activities
ATTACH;FMTTYPE=image/jpeg:https://seniorocity.com.au/wp-content/uploads/2025/09/c582fe5adf5726f7c2896c043591a1a1.jpg
GEO:-31.963159561157;115.9342880249
X-APPLE-STRUCTURED-LOCATION;VALUE=URI;X-ADDRESS=Belmont Hub 213 Wright Street Cloverdale WA 6105 Australia;X-APPLE-RADIUS=500;X-TITLE=213 Wright Street:geo:115.9342880249,-31.963159561157
END:VEVENT
BEGIN:VEVENT
DTSTART;TZID=Australia/Perth:20260511T190000
DTEND;TZID=Australia/Perth:20260511T203000
DTSTAMP:20260423T204357
CREATED:20260102T075246Z
LAST-MODIFIED:20260203T091950Z
UID:10857934-1778526000-1778531400@seniorocity.com.au
SUMMARY:Transform Your Relationships and Communication
DESCRIPTION:Learn new techniques and skills to help you communicate effectively with others\, resolve issues\, and heal and strengthen your relationships
URL:https://seniorocity.com.au/whats-on-perth/transform-your-relationships-and-communication-19/
LOCATION:Dorchester Hall\, 2 Dugdale Street\, Warwick\, WA\, 6024\, Australia
CATEGORIES:Free
ATTACH;FMTTYPE=image/jpeg:https://seniorocity.com.au/wp-content/uploads/2026/01/2d2f2c5208b06c6160bbfb3ac3185367.jpg
END:VEVENT
END:VCALENDAR