BEGIN:VCALENDAR
VERSION:2.0
PRODID:-//Seniorocity - Seniors / Over 55&#039;s Guide to Perth - ECPv6.15.11//NONSGML v1.0//EN
CALSCALE:GREGORIAN
METHOD:PUBLISH
X-WR-CALNAME:Seniorocity - Seniors / Over 55&#039;s Guide to Perth
X-ORIGINAL-URL:https://seniorocity.com.au
X-WR-CALDESC:Events for Seniorocity - Seniors / Over 55&#039;s Guide to Perth
REFRESH-INTERVAL;VALUE=DURATION:PT1H
X-Robots-Tag:noindex
X-PUBLISHED-TTL:PT1H
BEGIN:VTIMEZONE
TZID:Australia/Perth
BEGIN:STANDARD
TZOFFSETFROM:+0800
TZOFFSETTO:+0800
TZNAME:AWST
DTSTART:20250101T000000
END:STANDARD
END:VTIMEZONE
BEGIN:VEVENT
DTSTART;VALUE=DATE:20260502
DTEND;VALUE=DATE:20260518
DTSTAMP:20260424T011613
CREATED:20260415T065618Z
LAST-MODIFIED:20260415T065618Z
UID:10865666-1777680000-1779062399@seniorocity.com.au
SUMMARY:Armadale Arts Festival
DESCRIPTION:The Armadale Arts Festival is a creative program of live music\, urban art\, theatre\, literature\, and arts and crafts\, all showcasing our incredible local talent. \nCome along\, explore our district\, and discover something new at the Armadale Arts Festival! There’s something for everyone! \nThis event is brought to you by the City of Armadale and is alcohol\, smoke and vape free. \n 
URL:https://seniorocity.com.au/whats-on-perth/armadale-arts-festival/
LOCATION:WA
CATEGORIES:Festival,Festivals,Free
ATTACH;FMTTYPE=image/jpeg:https://seniorocity.com.au/wp-content/uploads/2026/04/Armadale-Arts-Festival.jpg
END:VEVENT
BEGIN:VEVENT
DTSTART;TZID=Australia/Perth:20260514T093000
DTEND;TZID=Australia/Perth:20260514T103000
DTSTAMP:20260424T011613
CREATED:20260102T080307Z
LAST-MODIFIED:20260401T150359Z
UID:10858085-1778751000-1778754600@seniorocity.com.au
SUMMARY:Tech Connect @ Wanneroo Library
DESCRIPTION:FREE weekly morning tea to connect with others and get more comfortable with technology.
URL:https://seniorocity.com.au/whats-on-perth/tech-connect-wanneroo-library-19/
LOCATION:Wanneroo Library and Cultural Centre\, 3 Rocca Way\, Wanneroo\, WA\, 6065\, Australia
CATEGORIES:Tech
ATTACH;FMTTYPE=image/jpeg:https://seniorocity.com.au/wp-content/uploads/2026/01/0cf7f50887955559e3bbd40a37b621a8.jpg
END:VEVENT
BEGIN:VEVENT
DTSTART;TZID=Australia/Perth:20260514T093000
DTEND;TZID=Australia/Perth:20260514T120000
DTSTAMP:20260424T011613
CREATED:20260102T074647Z
LAST-MODIFIED:20260401T142428Z
UID:10857749-1778751000-1778760000@seniorocity.com.au
SUMMARY:Art for Art's Sake - Social Art Group for Adults
DESCRIPTION:Enjoy a relaxed\, welcoming space where you can work on your own projects alongside fellow artists.
URL:https://seniorocity.com.au/whats-on-perth/art-for-arts-sake-social-art-group-for-adults-29/
LOCATION:Maylands Public Library\, The RISE\, 28 Eighth Avenue\, Maylands\, WA\, 6051\, Australia
CATEGORIES:Free,Library Events
ATTACH;FMTTYPE=image/jpeg:https://seniorocity.com.au/wp-content/uploads/2025/10/403cde6a2174f39678d165fd948c9cc5.jpg
GEO:-31.9310445;115.8948571
X-APPLE-STRUCTURED-LOCATION;VALUE=URI;X-ADDRESS=Maylands Public Library The RISE 28 Eighth Avenue Maylands WA 6051 Australia;X-APPLE-RADIUS=500;X-TITLE=The RISE\, 28 Eighth Avenue:geo:115.8948571,-31.9310445
END:VEVENT
BEGIN:VEVENT
DTSTART;TZID=Australia/Perth:20260514T100000
DTEND;TZID=Australia/Perth:20260514T120000
DTSTAMP:20260424T011613
CREATED:20260204T144311Z
LAST-MODIFIED:20260206T152711Z
UID:10863062-1778752800-1778760000@seniorocity.com.au
SUMMARY:Coffee and Craft | Midland
DESCRIPTION:Coffee and Craft is a therapeutic group program designed for adult Mental Health Carers aged 18+.
URL:https://seniorocity.com.au/whats-on-perth/coffee-and-craft-midland-4/
LOCATION:1A Sayer St\, 1A Sayer Street\, Midland\, WA\, 6056\, Australia
CATEGORIES:Craft
ATTACH;FMTTYPE=image/jpeg:https://seniorocity.com.au/wp-content/uploads/2026/02/a1a2cff9524413c0bebe060092ad1c35-1.jpg
END:VEVENT
BEGIN:VEVENT
DTSTART;TZID=Australia/Perth:20260514T100000
DTEND;TZID=Australia/Perth:20260514T123000
DTSTAMP:20260424T011613
CREATED:20260415T140640Z
LAST-MODIFIED:20260415T140640Z
UID:10865694-1778752800-1778761800@seniorocity.com.au
SUMMARY:Positive Ageing High Teas 2026
DESCRIPTION:Fancy adding a bit of extravagance to your day? \nEnjoy a little indulgence at one of the Positive Ageing High Tea events being held at the historic Armadale District Hall. Delight in being served a morning tea of delicious treats by Bedfordale Country Women’s Association and local hospitality students from the following high schools: \n• Kelmscott Senior High School \n• John Wollaston Anglican Community College \n• Armadale Senior High School \n• Roleystone Community College \nAfter morning tea\, guests will be invited to explore the thought-provoking works of the Minnawarra Art Awards. As one of the City’s premium events\, the renowned Minnawarra Art Awards presents a beautifully curated exhibition showcasing a variety of mediums from some of Western Australia’s most prestigious artists. \nThis is a free event\, but places are limited. Book now to avoid disappointment.
URL:https://seniorocity.com.au/whats-on-perth/positive-ageing-high-teas-2026-2/
LOCATION:Armadale District Hall\, Cnr Jull Street & Church Avenue\, Armadale\, WA\, 6112\, Australia
CATEGORIES:Free,Meet New People,Morning Tea,Social
ATTACH;FMTTYPE=image/jpeg:https://seniorocity.com.au/wp-content/uploads/2026/04/Positive-Ageing-High-Teas-2026.jpg
END:VEVENT
BEGIN:VEVENT
DTSTART;TZID=Australia/Perth:20260514T110000
DTEND;TZID=Australia/Perth:20260514T123000
DTSTAMP:20260424T011613
CREATED:20260417T072521Z
LAST-MODIFIED:20260417T072521Z
UID:10865955-1778756400-1778761800@seniorocity.com.au
SUMMARY:Damper Making Class
DESCRIPTION:Join us at the Walyalup Aboriginal Cultural Centre during Djeran Season for a session on damper making with Noongar yorga\, Kaya Carson. \nIn this class\, you will learn how damper was traditionally made by Aboriginal people\, and create your own damper to take home or eat right here at the centre. \nDisclaimer: Contains gluten. \nBook Now \n 
URL:https://seniorocity.com.au/whats-on-perth/damper-making-class/
LOCATION:Walyalup Aboriginal Cultural Centre\, 12 Captains Lane\, Fremantle\, WA\, 6160\, Australia
CATEGORIES:Activity Class,Cooking,Workshop
ATTACH;FMTTYPE=image/png:https://seniorocity.com.au/wp-content/uploads/2026/04/Damper-Making-Class.png
END:VEVENT
BEGIN:VEVENT
DTSTART;TZID=Australia/Perth:20260514T134500
DTEND;TZID=Australia/Perth:20260514T160000
DTSTAMP:20260424T011613
CREATED:20260102T075144Z
LAST-MODIFIED:20260102T080159Z
UID:10857859-1778766300-1778774400@seniorocity.com.au
SUMMARY:NOW ON WEEKLY!  The Listening Lounge - Fremantle Group!
DESCRIPTION:A welcoming space for connection\, understanding and mutual support.
URL:https://seniorocity.com.au/whats-on-perth/now-on-weekly-the-listening-lounge-fremantle-group-19/
LOCATION:Hampton House\, 33 Moss Street\, East Fremantle\, WA\, 6158\, Australia
CATEGORIES:Health
ATTACH;FMTTYPE=image/jpeg:https://seniorocity.com.au/wp-content/uploads/2026/01/f7784d010f62842c46d0bec8424fdcca.jpg
END:VEVENT
BEGIN:VEVENT
DTSTART;TZID=Australia/Perth:20260514T140000
DTEND;TZID=Australia/Perth:20260514T160000
DTSTAMP:20260424T011613
CREATED:20260102T091143Z
LAST-MODIFIED:20260102T091143Z
UID:10858633-1778767200-1778774400@seniorocity.com.au
SUMMARY:Men's Social Group
DESCRIPTION:This group is for men interested in meeting and socialising \ntogether. Enjoy the conversation and attend activities regularly \norganised by the group. \nNew members are welcome. \nFirst time attendees are advised to come to the first session of the month as the second session held the fourth Thursday of the Month is out and about. \nRegistrations are not required.
URL:https://seniorocity.com.au/whats-on-perth/mens-social-group-5/2026-05-14/
LOCATION:Armadale Library\, Armadale Central Shopping Centre\, Shop 64/10 Armadale Central Shopping Centre\, Orchard Ave\, Armadale WA 6112\, Armadale\, Australia
CATEGORIES:Free,Library Events,Social
ATTACH;FMTTYPE=image/jpeg:https://seniorocity.com.au/wp-content/uploads/2026/01/Mens-Social-Group.jpg
GEO:-32.153;116.015
X-APPLE-STRUCTURED-LOCATION;VALUE=URI;X-ADDRESS=Armadale Library Armadale Central Shopping Centre Shop 64/10 Armadale Central Shopping Centre Orchard Ave Armadale WA 6112 Armadale Australia;X-APPLE-RADIUS=500;X-TITLE=Armadale Central Shopping Centre\, Shop 64/10 Armadale Central Shopping Centre\, Orchard Ave\, Armadale WA 6112:geo:116.015,-32.153
END:VEVENT
BEGIN:VEVENT
DTSTART;TZID=Australia/Perth:20260514T160000
DTEND;TZID=Australia/Perth:20260514T180000
DTSTAMP:20260424T011613
CREATED:20260419T140140Z
LAST-MODIFIED:20260419T140140Z
UID:10866007-1778774400-1778781600@seniorocity.com.au
SUMMARY:Neighbourhood Watch BBQ - Serpentine
DESCRIPTION:You’re Invited to a FREE Neighbourhood Watch BBQ in Serpentine! Come down to Clem Kentish oval\, 27 Wellard Street\, Serpentine for a fun\, family-friendly event and enjoy a free sausage sizzle\, cooked by the Neighbourhood Watch volunteers. \nIt’s a great chance to: \n\nConnect with neighbours and local community members\nChat with Mundijong Police and Shire representatives\nLearn how to be bushfire ready\nPick up helpful tips and information on crime prevention and community safety.\n\nThis family-friendly event is proudly brought to you by Neighbourhood Watch. No need to register\, just turn up! We look forward to seeing you there. \nThe Shire is proud to support the Neighbourhood Watch barbecues.
URL:https://seniorocity.com.au/whats-on-perth/neighbourhood-watch-bbq-serpentine/
LOCATION:Clem Kentish Oval\, 24 Wellard St\, Serpentine\, WA\, 6125\, Australia
CATEGORIES:Community Event,Free
ATTACH;FMTTYPE=image/jpeg:https://seniorocity.com.au/wp-content/uploads/2026/04/Neighbourhood-Watch-BBQ-Serpentine.jpg
END:VEVENT
BEGIN:VEVENT
DTSTART;TZID=Australia/Perth:20260514T170000
DTEND;TZID=Australia/Perth:20260514T180000
DTSTAMP:20260424T011613
CREATED:20260405T125922Z
LAST-MODIFIED:20260405T125922Z
UID:10865430-1778778000-1778781600@seniorocity.com.au
SUMMARY:Planet Matters!
DESCRIPTION:Join us monthly at Eaton Library! Fun\, hands-on sessions to explore nature\, wildlife & ways to care for our environment.
URL:https://seniorocity.com.au/whats-on-perth/planet-matters-2/
LOCATION:Eaton Community Library\, 1 Council Drive\, Eaton\, WA\, 6232\, Australia
CATEGORIES:Gardening & Environment
ATTACH;FMTTYPE=image/jpeg:https://seniorocity.com.au/wp-content/uploads/2026/04/1800853ee7e9c25356eff877f6cd2b0b.jpg
END:VEVENT
BEGIN:VEVENT
DTSTART;TZID=Australia/Perth:20260514T183000
DTEND;TZID=Australia/Perth:20260514T213000
DTSTAMP:20260424T011613
CREATED:20260102T081236Z
LAST-MODIFIED:20260102T081236Z
UID:10858210-1778783400-1778794200@seniorocity.com.au
SUMMARY:Quiz Night - Palace Arcade Northbridge
DESCRIPTION:A night of laughs\, banter and head scratching questions. Every Thursday at Palace Arcade. Book at thepalacearcade.com.au or just walk in!
URL:https://seniorocity.com.au/whats-on-perth/quiz-night-palace-arcade-northbridge-19/
LOCATION:The Palace Arcade\, 84 Beaufort Street\, Perth\, WA\, 6000\, Australia
CATEGORIES:Games
ATTACH;FMTTYPE=image/jpeg:https://seniorocity.com.au/wp-content/uploads/2026/01/c5e68d32a2985bec0bbcdbd687286ed5.jpg
END:VEVENT
END:VCALENDAR