BEGIN:VCALENDAR
VERSION:2.0
PRODID:-//Seniorocity - Seniors / Over 55&#039;s Guide to Perth - ECPv6.15.11//NONSGML v1.0//EN
CALSCALE:GREGORIAN
METHOD:PUBLISH
X-ORIGINAL-URL:https://seniorocity.com.au
X-WR-CALDESC:Events for Seniorocity - Seniors / Over 55&#039;s Guide to Perth
REFRESH-INTERVAL;VALUE=DURATION:PT1H
X-Robots-Tag:noindex
X-PUBLISHED-TTL:PT1H
BEGIN:VTIMEZONE
TZID:Australia/Perth
BEGIN:STANDARD
TZOFFSETFROM:+0800
TZOFFSETTO:+0800
TZNAME:AWST
DTSTART:20250101T000000
END:STANDARD
END:VTIMEZONE
BEGIN:VEVENT
DTSTART;TZID=Australia/Perth:20260527T140000
DTEND;TZID=Australia/Perth:20260527T150000
DTSTAMP:20260421T000030
CREATED:20260204T091645Z
LAST-MODIFIED:20260204T142654Z
UID:10862894-1779890400-1779894000@seniorocity.com.au
SUMMARY:Gardening Club
DESCRIPTION:Nature play for 2–5 year-olds & caregivers\, Wednesdays 2–3 pm! Plant veggies\, explore worms & enjoy outdoor fun together.
URL:https://seniorocity.com.au/whats-on-perth/gardening-club-16/
LOCATION:26A Harris St\, 26A Harris Street\, Bicton\, WA\, 6157\, Australia
CATEGORIES:Gardening & Environment
END:VEVENT
BEGIN:VEVENT
DTSTART;TZID=Australia/Perth:20260603T140000
DTEND;TZID=Australia/Perth:20260603T150000
DTSTAMP:20260421T000030
CREATED:20260204T091645Z
LAST-MODIFIED:20260204T142656Z
UID:10862895-1780495200-1780498800@seniorocity.com.au
SUMMARY:Gardening Club
DESCRIPTION:Nature play for 2–5 year-olds & caregivers\, Wednesdays 2–3 pm! Plant veggies\, explore worms & enjoy outdoor fun together.
URL:https://seniorocity.com.au/whats-on-perth/gardening-club-17/
LOCATION:26A Harris St\, 26A Harris Street\, Bicton\, WA\, 6157\, Australia
CATEGORIES:Gardening & Environment
END:VEVENT
BEGIN:VEVENT
DTSTART;TZID=Australia/Perth:20260610T140000
DTEND;TZID=Australia/Perth:20260610T150000
DTSTAMP:20260421T000030
CREATED:20260204T091646Z
LAST-MODIFIED:20260204T142658Z
UID:10862896-1781100000-1781103600@seniorocity.com.au
SUMMARY:Gardening Club
DESCRIPTION:Nature play for 2–5 year-olds & caregivers\, Wednesdays 2–3 pm! Plant veggies\, explore worms & enjoy outdoor fun together.
URL:https://seniorocity.com.au/whats-on-perth/gardening-club-18/
LOCATION:26A Harris St\, 26A Harris Street\, Bicton\, WA\, 6157\, Australia
CATEGORIES:Gardening & Environment
END:VEVENT
BEGIN:VEVENT
DTSTART;TZID=Australia/Perth:20260611T170000
DTEND;TZID=Australia/Perth:20260611T180000
DTSTAMP:20260421T000030
CREATED:20260405T125923Z
LAST-MODIFIED:20260405T125923Z
UID:10865431-1781197200-1781200800@seniorocity.com.au
SUMMARY:Planet Matters!
DESCRIPTION:Join us monthly at Eaton Library! Fun\, hands-on sessions to explore nature\, wildlife & ways to care for our environment.
URL:https://seniorocity.com.au/whats-on-perth/planet-matters-3/
LOCATION:Eaton Community Library\, 1 Council Drive\, Eaton\, WA\, 6232\, Australia
CATEGORIES:Gardening & Environment
ATTACH;FMTTYPE=image/jpeg:https://seniorocity.com.au/wp-content/uploads/2026/04/1800853ee7e9c25356eff877f6cd2b0b.jpg
END:VEVENT
BEGIN:VEVENT
DTSTART;TZID=Australia/Perth:20260617T140000
DTEND;TZID=Australia/Perth:20260617T150000
DTSTAMP:20260421T000030
CREATED:20260204T091646Z
LAST-MODIFIED:20260204T142701Z
UID:10862897-1781704800-1781708400@seniorocity.com.au
SUMMARY:Gardening Club
DESCRIPTION:Nature play for 2–5 year-olds & caregivers\, Wednesdays 2–3 pm! Plant veggies\, explore worms & enjoy outdoor fun together.
URL:https://seniorocity.com.au/whats-on-perth/gardening-club-19/
LOCATION:26A Harris St\, 26A Harris Street\, Bicton\, WA\, 6157\, Australia
CATEGORIES:Gardening & Environment
END:VEVENT
BEGIN:VEVENT
DTSTART;TZID=Australia/Perth:20260624T140000
DTEND;TZID=Australia/Perth:20260624T150000
DTSTAMP:20260421T000030
CREATED:20260204T091647Z
LAST-MODIFIED:20260204T142703Z
UID:10862898-1782309600-1782313200@seniorocity.com.au
SUMMARY:Gardening Club
DESCRIPTION:Nature play for 2–5 year-olds & caregivers\, Wednesdays 2–3 pm! Plant veggies\, explore worms & enjoy outdoor fun together.
URL:https://seniorocity.com.au/whats-on-perth/gardening-club-20/
LOCATION:26A Harris St\, 26A Harris Street\, Bicton\, WA\, 6157\, Australia
CATEGORIES:Gardening & Environment
END:VEVENT
BEGIN:VEVENT
DTSTART;TZID=Australia/Perth:20260701T140000
DTEND;TZID=Australia/Perth:20260701T150000
DTSTAMP:20260421T000030
CREATED:20260204T091714Z
LAST-MODIFIED:20260204T142707Z
UID:10862904-1782914400-1782918000@seniorocity.com.au
SUMMARY:Gardening Club
DESCRIPTION:Nature play for 2–5 year-olds & caregivers\, Wednesdays 2–3 pm! Plant veggies\, explore worms & enjoy outdoor fun together.
URL:https://seniorocity.com.au/whats-on-perth/gardening-club-21/
LOCATION:26A Harris St\, 26A Harris Street\, Bicton\, WA\, 6157\, Australia
CATEGORIES:Gardening & Environment
END:VEVENT
BEGIN:VEVENT
DTSTART;TZID=Australia/Perth:20260708T140000
DTEND;TZID=Australia/Perth:20260708T150000
DTSTAMP:20260421T000030
CREATED:20260204T091715Z
LAST-MODIFIED:20260204T142709Z
UID:10862905-1783519200-1783522800@seniorocity.com.au
SUMMARY:Gardening Club
DESCRIPTION:Nature play for 2–5 year-olds & caregivers\, Wednesdays 2–3 pm! Plant veggies\, explore worms & enjoy outdoor fun together.
URL:https://seniorocity.com.au/whats-on-perth/gardening-club-22/
LOCATION:26A Harris St\, 26A Harris Street\, Bicton\, WA\, 6157\, Australia
CATEGORIES:Gardening & Environment
END:VEVENT
BEGIN:VEVENT
DTSTART;TZID=Australia/Perth:20260709T170000
DTEND;TZID=Australia/Perth:20260709T180000
DTSTAMP:20260421T000030
CREATED:20260405T125924Z
LAST-MODIFIED:20260405T125924Z
UID:10865432-1783616400-1783620000@seniorocity.com.au
SUMMARY:Planet Matters!
DESCRIPTION:Join us monthly at Eaton Library! Fun\, hands-on sessions to explore nature\, wildlife & ways to care for our environment.
URL:https://seniorocity.com.au/whats-on-perth/planet-matters-4/
LOCATION:Eaton Community Library\, 1 Council Drive\, Eaton\, WA\, 6232\, Australia
CATEGORIES:Gardening & Environment
ATTACH;FMTTYPE=image/jpeg:https://seniorocity.com.au/wp-content/uploads/2026/04/1800853ee7e9c25356eff877f6cd2b0b.jpg
END:VEVENT
BEGIN:VEVENT
DTSTART;TZID=Australia/Perth:20260715T140000
DTEND;TZID=Australia/Perth:20260715T150000
DTSTAMP:20260421T000030
CREATED:20260204T091715Z
LAST-MODIFIED:20260204T142711Z
UID:10862906-1784124000-1784127600@seniorocity.com.au
SUMMARY:Gardening Club
DESCRIPTION:Nature play for 2–5 year-olds & caregivers\, Wednesdays 2–3 pm! Plant veggies\, explore worms & enjoy outdoor fun together.
URL:https://seniorocity.com.au/whats-on-perth/gardening-club-23/
LOCATION:26A Harris St\, 26A Harris Street\, Bicton\, WA\, 6157\, Australia
CATEGORIES:Gardening & Environment
END:VEVENT
BEGIN:VEVENT
DTSTART;TZID=Australia/Perth:20260722T140000
DTEND;TZID=Australia/Perth:20260722T150000
DTSTAMP:20260421T000030
CREATED:20260204T091716Z
LAST-MODIFIED:20260204T142714Z
UID:10862907-1784728800-1784732400@seniorocity.com.au
SUMMARY:Gardening Club
DESCRIPTION:Nature play for 2–5 year-olds & caregivers\, Wednesdays 2–3 pm! Plant veggies\, explore worms & enjoy outdoor fun together.
URL:https://seniorocity.com.au/whats-on-perth/gardening-club-24/
LOCATION:26A Harris St\, 26A Harris Street\, Bicton\, WA\, 6157\, Australia
CATEGORIES:Gardening & Environment
END:VEVENT
BEGIN:VEVENT
DTSTART;TZID=Australia/Perth:20260729T140000
DTEND;TZID=Australia/Perth:20260729T150000
DTSTAMP:20260421T000030
CREATED:20260204T091716Z
LAST-MODIFIED:20260204T142716Z
UID:10862908-1785333600-1785337200@seniorocity.com.au
SUMMARY:Gardening Club
DESCRIPTION:Nature play for 2–5 year-olds & caregivers\, Wednesdays 2–3 pm! Plant veggies\, explore worms & enjoy outdoor fun together.
URL:https://seniorocity.com.au/whats-on-perth/gardening-club-25/
LOCATION:26A Harris St\, 26A Harris Street\, Bicton\, WA\, 6157\, Australia
CATEGORIES:Gardening & Environment
END:VEVENT
BEGIN:VEVENT
DTSTART;TZID=Australia/Perth:20260805T140000
DTEND;TZID=Australia/Perth:20260805T150000
DTSTAMP:20260421T000030
CREATED:20260204T091717Z
LAST-MODIFIED:20260204T142718Z
UID:10862909-1785938400-1785942000@seniorocity.com.au
SUMMARY:Gardening Club
DESCRIPTION:Nature play for 2–5 year-olds & caregivers\, Wednesdays 2–3 pm! Plant veggies\, explore worms & enjoy outdoor fun together.
URL:https://seniorocity.com.au/whats-on-perth/gardening-club-26/
LOCATION:26A Harris St\, 26A Harris Street\, Bicton\, WA\, 6157\, Australia
CATEGORIES:Gardening & Environment
END:VEVENT
BEGIN:VEVENT
DTSTART;TZID=Australia/Perth:20260812T140000
DTEND;TZID=Australia/Perth:20260812T150000
DTSTAMP:20260421T000030
CREATED:20260204T091718Z
LAST-MODIFIED:20260204T142721Z
UID:10862910-1786543200-1786546800@seniorocity.com.au
SUMMARY:Gardening Club
DESCRIPTION:Nature play for 2–5 year-olds & caregivers\, Wednesdays 2–3 pm! Plant veggies\, explore worms & enjoy outdoor fun together.
URL:https://seniorocity.com.au/whats-on-perth/gardening-club-27/
LOCATION:26A Harris St\, 26A Harris Street\, Bicton\, WA\, 6157\, Australia
CATEGORIES:Gardening & Environment
END:VEVENT
BEGIN:VEVENT
DTSTART;TZID=Australia/Perth:20260813T170000
DTEND;TZID=Australia/Perth:20260813T180000
DTSTAMP:20260421T000030
CREATED:20260405T125925Z
LAST-MODIFIED:20260405T125925Z
UID:10865433-1786640400-1786644000@seniorocity.com.au
SUMMARY:Planet Matters!
DESCRIPTION:Join us monthly at Eaton Library! Fun\, hands-on sessions to explore nature\, wildlife & ways to care for our environment.
URL:https://seniorocity.com.au/whats-on-perth/planet-matters-5/
LOCATION:Eaton Community Library\, 1 Council Drive\, Eaton\, WA\, 6232\, Australia
CATEGORIES:Gardening & Environment
ATTACH;FMTTYPE=image/jpeg:https://seniorocity.com.au/wp-content/uploads/2026/04/1800853ee7e9c25356eff877f6cd2b0b.jpg
END:VEVENT
BEGIN:VEVENT
DTSTART;TZID=Australia/Perth:20260819T140000
DTEND;TZID=Australia/Perth:20260819T150000
DTSTAMP:20260421T000030
CREATED:20260204T091718Z
LAST-MODIFIED:20260204T142723Z
UID:10862911-1787148000-1787151600@seniorocity.com.au
SUMMARY:Gardening Club
DESCRIPTION:Nature play for 2–5 year-olds & caregivers\, Wednesdays 2–3 pm! Plant veggies\, explore worms & enjoy outdoor fun together.
URL:https://seniorocity.com.au/whats-on-perth/gardening-club-28/
LOCATION:26A Harris St\, 26A Harris Street\, Bicton\, WA\, 6157\, Australia
CATEGORIES:Gardening & Environment
END:VEVENT
BEGIN:VEVENT
DTSTART;TZID=Australia/Perth:20260826T140000
DTEND;TZID=Australia/Perth:20260826T150000
DTSTAMP:20260421T000030
CREATED:20260204T091719Z
LAST-MODIFIED:20260204T142725Z
UID:10862913-1787752800-1787756400@seniorocity.com.au
SUMMARY:Gardening Club
DESCRIPTION:Nature play for 2–5 year-olds & caregivers\, Wednesdays 2–3 pm! Plant veggies\, explore worms & enjoy outdoor fun together.
URL:https://seniorocity.com.au/whats-on-perth/gardening-club-29/
LOCATION:26A Harris St\, 26A Harris Street\, Bicton\, WA\, 6157\, Australia
CATEGORIES:Gardening & Environment
END:VEVENT
BEGIN:VEVENT
DTSTART;TZID=Australia/Perth:20260902T140000
DTEND;TZID=Australia/Perth:20260902T150000
DTSTAMP:20260421T000030
CREATED:20260204T091720Z
LAST-MODIFIED:20260204T142727Z
UID:10862915-1788357600-1788361200@seniorocity.com.au
SUMMARY:Gardening Club
DESCRIPTION:Nature play for 2–5 year-olds & caregivers\, Wednesdays 2–3 pm! Plant veggies\, explore worms & enjoy outdoor fun together.
URL:https://seniorocity.com.au/whats-on-perth/gardening-club-30/
LOCATION:26A Harris St\, 26A Harris Street\, Bicton\, WA\, 6157\, Australia
CATEGORIES:Gardening & Environment
END:VEVENT
BEGIN:VEVENT
DTSTART;TZID=Australia/Perth:20260909T140000
DTEND;TZID=Australia/Perth:20260909T150000
DTSTAMP:20260421T000030
CREATED:20260204T091746Z
LAST-MODIFIED:20260204T142730Z
UID:10862924-1788962400-1788966000@seniorocity.com.au
SUMMARY:Gardening Club
DESCRIPTION:Nature play for 2–5 year-olds & caregivers\, Wednesdays 2–3 pm! Plant veggies\, explore worms & enjoy outdoor fun together.
URL:https://seniorocity.com.au/whats-on-perth/gardening-club-31/
LOCATION:26A Harris St\, 26A Harris Street\, Bicton\, WA\, 6157\, Australia
CATEGORIES:Gardening & Environment
END:VEVENT
BEGIN:VEVENT
DTSTART;TZID=Australia/Perth:20260916T140000
DTEND;TZID=Australia/Perth:20260916T150000
DTSTAMP:20260421T000030
CREATED:20260204T091747Z
LAST-MODIFIED:20260204T142733Z
UID:10862925-1789567200-1789570800@seniorocity.com.au
SUMMARY:Gardening Club
DESCRIPTION:Nature play for 2–5 year-olds & caregivers\, Wednesdays 2–3 pm! Plant veggies\, explore worms & enjoy outdoor fun together.
URL:https://seniorocity.com.au/whats-on-perth/gardening-club-32/
LOCATION:26A Harris St\, 26A Harris Street\, Bicton\, WA\, 6157\, Australia
CATEGORIES:Gardening & Environment
END:VEVENT
BEGIN:VEVENT
DTSTART;TZID=Australia/Perth:20260923T140000
DTEND;TZID=Australia/Perth:20260923T150000
DTSTAMP:20260421T000030
CREATED:20260204T091748Z
LAST-MODIFIED:20260204T142735Z
UID:10862926-1790172000-1790175600@seniorocity.com.au
SUMMARY:Gardening Club
DESCRIPTION:Nature play for 2–5 year-olds & caregivers\, Wednesdays 2–3 pm! Plant veggies\, explore worms & enjoy outdoor fun together.
URL:https://seniorocity.com.au/whats-on-perth/gardening-club-33/
LOCATION:26A Harris St\, 26A Harris Street\, Bicton\, WA\, 6157\, Australia
CATEGORIES:Gardening & Environment
END:VEVENT
BEGIN:VEVENT
DTSTART;TZID=Australia/Perth:20260930T140000
DTEND;TZID=Australia/Perth:20260930T150000
DTSTAMP:20260421T000030
CREATED:20260204T091749Z
LAST-MODIFIED:20260204T142737Z
UID:10862927-1790776800-1790780400@seniorocity.com.au
SUMMARY:Gardening Club
DESCRIPTION:Nature play for 2–5 year-olds & caregivers\, Wednesdays 2–3 pm! Plant veggies\, explore worms & enjoy outdoor fun together.
URL:https://seniorocity.com.au/whats-on-perth/gardening-club-34/
LOCATION:26A Harris St\, 26A Harris Street\, Bicton\, WA\, 6157\, Australia
CATEGORIES:Gardening & Environment
END:VEVENT
BEGIN:VEVENT
DTSTART;TZID=Australia/Perth:20261007T140000
DTEND;TZID=Australia/Perth:20261007T150000
DTSTAMP:20260421T000030
CREATED:20260204T091750Z
LAST-MODIFIED:20260204T142739Z
UID:10862928-1791381600-1791385200@seniorocity.com.au
SUMMARY:Gardening Club
DESCRIPTION:Nature play for 2–5 year-olds & caregivers\, Wednesdays 2–3 pm! Plant veggies\, explore worms & enjoy outdoor fun together.
URL:https://seniorocity.com.au/whats-on-perth/gardening-club-35/
LOCATION:26A Harris St\, 26A Harris Street\, Bicton\, WA\, 6157\, Australia
CATEGORIES:Gardening & Environment
END:VEVENT
BEGIN:VEVENT
DTSTART;TZID=Australia/Perth:20261014T140000
DTEND;TZID=Australia/Perth:20261014T150000
DTSTAMP:20260421T000030
CREATED:20260204T091750Z
LAST-MODIFIED:20260204T142742Z
UID:10862929-1791986400-1791990000@seniorocity.com.au
SUMMARY:Gardening Club
DESCRIPTION:Nature play for 2–5 year-olds & caregivers\, Wednesdays 2–3 pm! Plant veggies\, explore worms & enjoy outdoor fun together.
URL:https://seniorocity.com.au/whats-on-perth/gardening-club-36/
LOCATION:26A Harris St\, 26A Harris Street\, Bicton\, WA\, 6157\, Australia
CATEGORIES:Gardening & Environment
END:VEVENT
BEGIN:VEVENT
DTSTART;TZID=Australia/Perth:20261021T140000
DTEND;TZID=Australia/Perth:20261021T150000
DTSTAMP:20260421T000030
CREATED:20260204T091751Z
LAST-MODIFIED:20260204T142744Z
UID:10862930-1792591200-1792594800@seniorocity.com.au
SUMMARY:Gardening Club
DESCRIPTION:Nature play for 2–5 year-olds & caregivers\, Wednesdays 2–3 pm! Plant veggies\, explore worms & enjoy outdoor fun together.
URL:https://seniorocity.com.au/whats-on-perth/gardening-club-37/
LOCATION:26A Harris St\, 26A Harris Street\, Bicton\, WA\, 6157\, Australia
CATEGORIES:Gardening & Environment
END:VEVENT
BEGIN:VEVENT
DTSTART;TZID=Australia/Perth:20261028T140000
DTEND;TZID=Australia/Perth:20261028T150000
DTSTAMP:20260421T000030
CREATED:20260204T091752Z
LAST-MODIFIED:20260204T142746Z
UID:10862931-1793196000-1793199600@seniorocity.com.au
SUMMARY:Gardening Club
DESCRIPTION:Nature play for 2–5 year-olds & caregivers\, Wednesdays 2–3 pm! Plant veggies\, explore worms & enjoy outdoor fun together.
URL:https://seniorocity.com.au/whats-on-perth/gardening-club-38/
LOCATION:26A Harris St\, 26A Harris Street\, Bicton\, WA\, 6157\, Australia
CATEGORIES:Gardening & Environment
END:VEVENT
BEGIN:VEVENT
DTSTART;TZID=Australia/Perth:20261104T140000
DTEND;TZID=Australia/Perth:20261104T150000
DTSTAMP:20260421T000030
CREATED:20260204T091753Z
LAST-MODIFIED:20260204T142749Z
UID:10862932-1793800800-1793804400@seniorocity.com.au
SUMMARY:Gardening Club
DESCRIPTION:Nature play for 2–5 year-olds & caregivers\, Wednesdays 2–3 pm! Plant veggies\, explore worms & enjoy outdoor fun together.
URL:https://seniorocity.com.au/whats-on-perth/gardening-club-39/
LOCATION:26A Harris St\, 26A Harris Street\, Bicton\, WA\, 6157\, Australia
CATEGORIES:Gardening & Environment
END:VEVENT
BEGIN:VEVENT
DTSTART;TZID=Australia/Perth:20261111T140000
DTEND;TZID=Australia/Perth:20261111T150000
DTSTAMP:20260421T000030
CREATED:20260204T091753Z
LAST-MODIFIED:20260204T142751Z
UID:10862933-1794405600-1794409200@seniorocity.com.au
SUMMARY:Gardening Club
DESCRIPTION:Nature play for 2–5 year-olds & caregivers\, Wednesdays 2–3 pm! Plant veggies\, explore worms & enjoy outdoor fun together.
URL:https://seniorocity.com.au/whats-on-perth/gardening-club-40/
LOCATION:26A Harris St\, 26A Harris Street\, Bicton\, WA\, 6157\, Australia
CATEGORIES:Gardening & Environment
END:VEVENT
BEGIN:VEVENT
DTSTART;TZID=Australia/Perth:20261118T140000
DTEND;TZID=Australia/Perth:20261118T150000
DTSTAMP:20260421T000030
CREATED:20260204T091822Z
LAST-MODIFIED:20260204T142753Z
UID:10862944-1795010400-1795014000@seniorocity.com.au
SUMMARY:Gardening Club
DESCRIPTION:Nature play for 2–5 year-olds & caregivers\, Wednesdays 2–3 pm! Plant veggies\, explore worms & enjoy outdoor fun together.
URL:https://seniorocity.com.au/whats-on-perth/gardening-club-41/
LOCATION:26A Harris St\, 26A Harris Street\, Bicton\, WA\, 6157\, Australia
CATEGORIES:Gardening & Environment
END:VEVENT
BEGIN:VEVENT
DTSTART;TZID=Australia/Perth:20261125T140000
DTEND;TZID=Australia/Perth:20261125T150000
DTSTAMP:20260421T000030
CREATED:20260204T091823Z
LAST-MODIFIED:20260204T142756Z
UID:10862945-1795615200-1795618800@seniorocity.com.au
SUMMARY:Gardening Club
DESCRIPTION:Nature play for 2–5 year-olds & caregivers\, Wednesdays 2–3 pm! Plant veggies\, explore worms & enjoy outdoor fun together.
URL:https://seniorocity.com.au/whats-on-perth/gardening-club-42/
LOCATION:26A Harris St\, 26A Harris Street\, Bicton\, WA\, 6157\, Australia
CATEGORIES:Gardening & Environment
END:VEVENT
END:VCALENDAR