BEGIN:VCALENDAR
VERSION:2.0
PRODID:-//Seniorocity - Seniors / Over 55&#039;s Guide to Perth - ECPv6.15.11//NONSGML v1.0//EN
CALSCALE:GREGORIAN
METHOD:PUBLISH
X-WR-CALNAME:Seniorocity - Seniors / Over 55&#039;s Guide to Perth
X-ORIGINAL-URL:https://seniorocity.com.au
X-WR-CALDESC:Events for Seniorocity - Seniors / Over 55&#039;s Guide to Perth
REFRESH-INTERVAL;VALUE=DURATION:PT1H
X-Robots-Tag:noindex
X-PUBLISHED-TTL:PT1H
BEGIN:VTIMEZONE
TZID:Australia/Perth
BEGIN:STANDARD
TZOFFSETFROM:+0800
TZOFFSETTO:+0800
TZNAME:AWST
DTSTART:20250101T000000
END:STANDARD
END:VTIMEZONE
BEGIN:VEVENT
DTSTART;TZID=Australia/Perth:20260518T140000
DTEND;TZID=Australia/Perth:20260518T143000
DTSTAMP:20260424T043227
CREATED:20260203T090541Z
LAST-MODIFIED:20260203T090541Z
UID:10862715-1779112800-1779114600@seniorocity.com.au
SUMMARY:Tech Help @ Wanneroo Library (Monday)
DESCRIPTION:Book in for a one-on-one session to go over whatever tech help you need.
URL:https://seniorocity.com.au/whats-on-perth/tech-help-wanneroo-library-monday-148/
LOCATION:Wanneroo Library\, 3 Rocca Way\, Wanneroo\, WA\, 6065\, Australia
CATEGORIES:Tech
ATTACH;FMTTYPE=image/jpeg:https://seniorocity.com.au/wp-content/uploads/2025/04/1846f0357c7a791a8fd4ed3d29e5a0ba.jpg
GEO:-31.750643;115.805954
X-APPLE-STRUCTURED-LOCATION;VALUE=URI;X-ADDRESS=Wanneroo Library 3 Rocca Way Wanneroo WA 6065 Australia;X-APPLE-RADIUS=500;X-TITLE=3 Rocca Way:geo:115.805954,-31.750643
END:VEVENT
BEGIN:VEVENT
DTSTART;TZID=Australia/Perth:20260518T143000
DTEND;TZID=Australia/Perth:20260518T150000
DTSTAMP:20260424T043227
CREATED:20260203T090542Z
LAST-MODIFIED:20260203T090542Z
UID:10862716-1779114600-1779116400@seniorocity.com.au
SUMMARY:Tech Help @ Wanneroo Library (Monday)
DESCRIPTION:Book in for a one-on-one session to go over whatever tech help you need.
URL:https://seniorocity.com.au/whats-on-perth/tech-help-wanneroo-library-monday-149/
LOCATION:Wanneroo Library\, 3 Rocca Way\, Wanneroo\, WA\, 6065\, Australia
CATEGORIES:Tech
ATTACH;FMTTYPE=image/jpeg:https://seniorocity.com.au/wp-content/uploads/2025/04/1846f0357c7a791a8fd4ed3d29e5a0ba.jpg
GEO:-31.750643;115.805954
X-APPLE-STRUCTURED-LOCATION;VALUE=URI;X-ADDRESS=Wanneroo Library 3 Rocca Way Wanneroo WA 6065 Australia;X-APPLE-RADIUS=500;X-TITLE=3 Rocca Way:geo:115.805954,-31.750643
END:VEVENT
BEGIN:VEVENT
DTSTART;TZID=Australia/Perth:20260518T150000
DTEND;TZID=Australia/Perth:20260518T153000
DTSTAMP:20260424T043227
CREATED:20260203T090542Z
LAST-MODIFIED:20260203T090542Z
UID:10862717-1779116400-1779118200@seniorocity.com.au
SUMMARY:Tech Help @ Wanneroo Library (Monday)
DESCRIPTION:Book in for a one-on-one session to go over whatever tech help you need.
URL:https://seniorocity.com.au/whats-on-perth/tech-help-wanneroo-library-monday-150/
LOCATION:Wanneroo Library\, 3 Rocca Way\, Wanneroo\, WA\, 6065\, Australia
CATEGORIES:Tech
ATTACH;FMTTYPE=image/jpeg:https://seniorocity.com.au/wp-content/uploads/2025/04/1846f0357c7a791a8fd4ed3d29e5a0ba.jpg
GEO:-31.750643;115.805954
X-APPLE-STRUCTURED-LOCATION;VALUE=URI;X-ADDRESS=Wanneroo Library 3 Rocca Way Wanneroo WA 6065 Australia;X-APPLE-RADIUS=500;X-TITLE=3 Rocca Way:geo:115.805954,-31.750643
END:VEVENT
BEGIN:VEVENT
DTSTART;TZID=Australia/Perth:20260518T153000
DTEND;TZID=Australia/Perth:20260518T160000
DTSTAMP:20260424T043227
CREATED:20260203T090543Z
LAST-MODIFIED:20260203T090543Z
UID:10862718-1779118200-1779120000@seniorocity.com.au
SUMMARY:Tech Help @ Wanneroo Library (Monday)
DESCRIPTION:Book in for a one-on-one session to go over whatever tech help you need.
URL:https://seniorocity.com.au/whats-on-perth/tech-help-wanneroo-library-monday-151/
LOCATION:Wanneroo Library\, 3 Rocca Way\, Wanneroo\, WA\, 6065\, Australia
CATEGORIES:Tech
ATTACH;FMTTYPE=image/jpeg:https://seniorocity.com.au/wp-content/uploads/2025/04/1846f0357c7a791a8fd4ed3d29e5a0ba.jpg
GEO:-31.750643;115.805954
X-APPLE-STRUCTURED-LOCATION;VALUE=URI;X-ADDRESS=Wanneroo Library 3 Rocca Way Wanneroo WA 6065 Australia;X-APPLE-RADIUS=500;X-TITLE=3 Rocca Way:geo:115.805954,-31.750643
END:VEVENT
BEGIN:VEVENT
DTSTART;TZID=Australia/Perth:20260518T174500
DTEND;TZID=Australia/Perth:20260518T200000
DTSTAMP:20260424T043227
CREATED:20260102T080720Z
LAST-MODIFIED:20260204T145915Z
UID:10858133-1779126300-1779134400@seniorocity.com.au
SUMMARY:NEW! Listening Lounge Mental Health Peer Support Group - Joondalup
DESCRIPTION:A welcoming space for connection\, understanding and mutual support.
URL:https://seniorocity.com.au/whats-on-perth/new-listening-lounge-mental-health-peer-support-group-joondalup-16/
LOCATION:Joondalup Family Centre\, 25 Jolstra Crescent\, Joondalup\, WA\, 6027\, Australia
CATEGORIES:Health
ATTACH;FMTTYPE=image/jpeg:https://seniorocity.com.au/wp-content/uploads/2026/01/633e950438bb36cdcb2805d326328360.jpg
END:VEVENT
BEGIN:VEVENT
DTSTART;TZID=Australia/Perth:20260518T180000
DTEND;TZID=Australia/Perth:20260518T193000
DTSTAMP:20260424T043227
CREATED:20260418T143321Z
LAST-MODIFIED:20260418T143321Z
UID:10865985-1779127200-1779132600@seniorocity.com.au
SUMMARY:Read for Resilience
DESCRIPTION:Mondays | Monthly $3 per session \nRead for Resilience is a gentle\, literature-centred practice for contemplation\, consideration\, and connection. \nEach session will encourage self-reflection\, philosophical discussion\, and a deeper connection with texts\, short stories\, and poems as they are read aloud\, as well as mindful practices\, meditations\, and activities which invite you to pause\, listen\, and grow. \nWoven with empathy\, curiosity\, and a commitment to connection\, Read for Resilience offers a welcoming space to explore literature as a pathway to personal growth and shared understanding. Whether you come seeking solace\, inspiration\, or simply a moment of quiet reflection\, you are warmly invited to join us. \nBookings are essential and can be made online\, in person or over the phone. \n 
URL:https://seniorocity.com.au/whats-on-perth/read-for-resilience/
LOCATION:Victoria Park Library\, 27 Sussex St\, East Victoria Park\, WA\, 6101\, Australia
CATEGORIES:Library Events
ATTACH;FMTTYPE=image/png:https://seniorocity.com.au/wp-content/uploads/2026/04/Read-for-Resilience.png
GEO:-31.984312;115.90001
X-APPLE-STRUCTURED-LOCATION;VALUE=URI;X-ADDRESS=Victoria Park Library 27 Sussex St East Victoria Park WA 6101 Australia;X-APPLE-RADIUS=500;X-TITLE=27 Sussex St:geo:115.90001,-31.984312
END:VEVENT
BEGIN:VEVENT
DTSTART;TZID=Australia/Perth:20260518T190000
DTEND;TZID=Australia/Perth:20260518T200000
DTSTAMP:20260424T043227
CREATED:20250907T024548Z
LAST-MODIFIED:20251102T040833Z
UID:10855569-1779130800-1779134400@seniorocity.com.au
SUMMARY:Ballroom  and Latin Beginners Dancing Class Mondays
DESCRIPTION:Weekly Ballroom Dancing and Latin Beginners Class new dancers for Mondays from 7 to 8 pm.
URL:https://seniorocity.com.au/whats-on-perth/ballroom-and-latin-beginners-dancing-class-mondays-37/
LOCATION:Belmont Hub\, 213 Wright Street\, Cloverdale\, WA\, 6105\, Australia
CATEGORIES:Sport Activities
ATTACH;FMTTYPE=image/jpeg:https://seniorocity.com.au/wp-content/uploads/2025/09/c582fe5adf5726f7c2896c043591a1a1.jpg
GEO:-31.963159561157;115.9342880249
X-APPLE-STRUCTURED-LOCATION;VALUE=URI;X-ADDRESS=Belmont Hub 213 Wright Street Cloverdale WA 6105 Australia;X-APPLE-RADIUS=500;X-TITLE=213 Wright Street:geo:115.9342880249,-31.963159561157
END:VEVENT
BEGIN:VEVENT
DTSTART;TZID=Australia/Perth:20260518T190000
DTEND;TZID=Australia/Perth:20260518T203000
DTSTAMP:20260424T043227
CREATED:20260102T075247Z
LAST-MODIFIED:20260203T091951Z
UID:10857935-1779130800-1779136200@seniorocity.com.au
SUMMARY:Transform Your Relationships and Communication
DESCRIPTION:Learn new techniques and skills to help you communicate effectively with others\, resolve issues\, and heal and strengthen your relationships
URL:https://seniorocity.com.au/whats-on-perth/transform-your-relationships-and-communication-20/
LOCATION:Dorchester Hall\, 2 Dugdale Street\, Warwick\, WA\, 6024\, Australia
CATEGORIES:Free
ATTACH;FMTTYPE=image/jpeg:https://seniorocity.com.au/wp-content/uploads/2026/01/2d2f2c5208b06c6160bbfb3ac3185367.jpg
END:VEVENT
BEGIN:VEVENT
DTSTART;TZID=Australia/Perth:20260519T100000
DTEND;TZID=Australia/Perth:20260519T120000
DTSTAMP:20260424T043227
CREATED:20260204T091318Z
LAST-MODIFIED:20260401T144144Z
UID:10862806-1779184800-1779192000@seniorocity.com.au
SUMMARY:Scrabble
DESCRIPTION:Hey word enthusiasts!  Come along to our Scrabble group.  Bring your friends or join to make new ones.
URL:https://seniorocity.com.au/whats-on-perth/scrabble-78/
LOCATION:Bayswater Library\, 25 King William Street\, Bayswater\, WA\, 6053\, Australia
CATEGORIES:Games
ATTACH;FMTTYPE=image/jpeg:https://seniorocity.com.au/wp-content/uploads/2023/12/395216af19fc80e3a7d31b811f79a441.jpg
END:VEVENT
BEGIN:VEVENT
DTSTART;TZID=Australia/Perth:20260519T120000
DTEND;TZID=Australia/Perth:20260519T123000
DTSTAMP:20260424T043227
CREATED:20260401T145031Z
LAST-MODIFIED:20260401T145046Z
UID:10865191-1779192000-1779193800@seniorocity.com.au
SUMMARY:Tech Help @ Girrawheen Library
DESCRIPTION:Book in for a one-on-one session to go over whatever tech help you need.
URL:https://seniorocity.com.au/whats-on-perth/tech-help-girrawheen-library-49/
LOCATION:6 Patrick Ct\, 6 Patrick Court\, Girrawheen\, WA\, 6064\, Australia
CATEGORIES:Tech
ATTACH;FMTTYPE=image/jpeg:https://seniorocity.com.au/wp-content/uploads/2026/02/5e7fa4a1fcdd23cce7739d6be450808b.jpg
END:VEVENT
BEGIN:VEVENT
DTSTART;TZID=Australia/Perth:20260519T123000
DTEND;TZID=Australia/Perth:20260519T130000
DTSTAMP:20260424T043227
CREATED:20260401T145032Z
LAST-MODIFIED:20260401T145048Z
UID:10865192-1779193800-1779195600@seniorocity.com.au
SUMMARY:Tech Help @ Girrawheen Library
DESCRIPTION:Book in for a one-on-one session to go over whatever tech help you need.
URL:https://seniorocity.com.au/whats-on-perth/tech-help-girrawheen-library-50/
LOCATION:6 Patrick Ct\, 6 Patrick Court\, Girrawheen\, WA\, 6064\, Australia
CATEGORIES:Tech
ATTACH;FMTTYPE=image/jpeg:https://seniorocity.com.au/wp-content/uploads/2026/02/5e7fa4a1fcdd23cce7739d6be450808b.jpg
END:VEVENT
BEGIN:VEVENT
DTSTART;TZID=Australia/Perth:20260519T130000
DTEND;TZID=Australia/Perth:20260519T133000
DTSTAMP:20260424T043227
CREATED:20260401T145033Z
LAST-MODIFIED:20260401T145051Z
UID:10865193-1779195600-1779197400@seniorocity.com.au
SUMMARY:Tech Help @ Girrawheen Library
DESCRIPTION:Book in for a one-on-one session to go over whatever tech help you need.
URL:https://seniorocity.com.au/whats-on-perth/tech-help-girrawheen-library-51/
LOCATION:6 Patrick Ct\, 6 Patrick Court\, Girrawheen\, WA\, 6064\, Australia
CATEGORIES:Tech
ATTACH;FMTTYPE=image/jpeg:https://seniorocity.com.au/wp-content/uploads/2026/02/5e7fa4a1fcdd23cce7739d6be450808b.jpg
END:VEVENT
BEGIN:VEVENT
DTSTART;TZID=Australia/Perth:20260519T133000
DTEND;TZID=Australia/Perth:20260519T140000
DTSTAMP:20260424T043227
CREATED:20260401T145034Z
LAST-MODIFIED:20260401T145054Z
UID:10865194-1779197400-1779199200@seniorocity.com.au
SUMMARY:Tech Help @ Girrawheen Library
DESCRIPTION:Book in for a one-on-one session to go over whatever tech help you need.
URL:https://seniorocity.com.au/whats-on-perth/tech-help-girrawheen-library-52/
LOCATION:6 Patrick Ct\, 6 Patrick Court\, Girrawheen\, WA\, 6064\, Australia
CATEGORIES:Tech
ATTACH;FMTTYPE=image/jpeg:https://seniorocity.com.au/wp-content/uploads/2026/02/5e7fa4a1fcdd23cce7739d6be450808b.jpg
END:VEVENT
BEGIN:VEVENT
DTSTART;TZID=Australia/Perth:20260519T133000
DTEND;TZID=Australia/Perth:20260519T150000
DTSTAMP:20260424T043227
CREATED:20260105T145109Z
LAST-MODIFIED:20260105T145109Z
UID:10860977-1779197400-1779202800@seniorocity.com.au
SUMMARY:Quizdom
DESCRIPTION:Join us for some over 55s quizzing fun and an afternoon with like-minded people. \nLet’s get quizzical and compete as an individual to challenge your brain over 4 rounds of 10 questions! There’ll be prizes\, table games and afternoon tea. This event is for adults over 55.\n\nBook this event
URL:https://seniorocity.com.au/whats-on-perth/quizdom/2026-05-19/
LOCATION:Civic Square Library\, 10 Almondbury Road\, Enter off Davy St\, Booragoon\, WA\, 6154\, Australia
CATEGORIES:Free,Games,Library Events,Social
ATTACH;FMTTYPE=image/jpeg:https://seniorocity.com.au/wp-content/uploads/2026/01/Quizdom.jpg
END:VEVENT
BEGIN:VEVENT
DTSTART;TZID=Australia/Perth:20260519T143000
DTEND;TZID=Australia/Perth:20260519T160000
DTSTAMP:20260424T043227
CREATED:20260103T083215Z
LAST-MODIFIED:20260103T083215Z
UID:10860130-1779201000-1779206400@seniorocity.com.au
SUMMARY:Cambridge Memory Cafe
DESCRIPTION:Join us for a memory café session to meet new friends in a safe and supportive environment. \nCambridge Champions will be able to assist you and provide the information or resources you need. \nTime: 2:30pm – 4:00 pm\nVenue: The Boulevard Centre (South Room)\, 99 The Boulevard\, Floreat. Located below the Cambridge Library. \nCost: Free – food and drinks provided for members.\nFlyer – Memory Cafe(PDF\, 1MB) \nTo register\, please contact Cambridge Senior Services: \n\nTelephone: (08) 9285 3138\nEmail: seniorservices@cambridge.wa.gov.au
URL:https://seniorocity.com.au/whats-on-perth/cambridge-memory-cafe/2026-05-19/
LOCATION:The Boulevard Centre\, 99 The Boulevard\, Floreat\, WA\, 6014\, Australia
CATEGORIES:Free,Meet New People,Social,Social event
ATTACH;FMTTYPE=image/jpeg:https://seniorocity.com.au/wp-content/uploads/2026/01/Cambridge-Memory-Cafe.jpg
END:VEVENT
BEGIN:VEVENT
DTSTART;TZID=Australia/Perth:20260519T174500
DTEND;TZID=Australia/Perth:20260519T200000
DTSTAMP:20260424T043227
CREATED:20260102T080928Z
LAST-MODIFIED:20260102T080928Z
UID:10858175-1779212700-1779220800@seniorocity.com.au
SUMMARY:Listening Lounge Mental Health Peer Support Group - Cloverdale
DESCRIPTION:A welcoming space for connection\, understanding and mutual support.
URL:https://seniorocity.com.au/whats-on-perth/listening-lounge-mental-health-peer-support-group-cloverdale-20/
LOCATION:Consumers of Mental Health WA\, 275 Belmont Avenue\, #14\, Cloverdale\, WA\, 6105\, Australia
CATEGORIES:Health
ATTACH;FMTTYPE=image/jpeg:https://seniorocity.com.au/wp-content/uploads/2026/01/daab8e42a64fba3b865f0b3d0214a624.jpg
END:VEVENT
BEGIN:VEVENT
DTSTART;TZID=Australia/Perth:20260520T090000
DTEND;TZID=Australia/Perth:20260520T100000
DTSTAMP:20260424T043227
CREATED:20260402T151842Z
LAST-MODIFIED:20260402T152207Z
UID:10865248-1779267600-1779271200@seniorocity.com.au
SUMMARY:Hi\, Tech! - Morley Library: basic 1 to 1 tech help - April to June 2026
DESCRIPTION:Get ready to level up your tech skills with personalised 1-to-1 help at Morley Library – it’s your time to shine!
URL:https://seniorocity.com.au/whats-on-perth/hi-tech-morley-library-basic-1-to-1-tech-help-april-to-june-2026-19/
LOCATION:Morley Library\, 240 Walter Road West\, Morley\, WA\, 6062\, Australia
CATEGORIES:Tech
ATTACH;FMTTYPE=image/jpeg:https://seniorocity.com.au/wp-content/uploads/2023/05/9d8a7f09914618be6e7e50f09a533e8d.jpg
END:VEVENT
BEGIN:VEVENT
DTSTART;TZID=Australia/Perth:20260520T090000
DTEND;TZID=Australia/Perth:20260520T110000
DTSTAMP:20260424T043227
CREATED:20260203T085154Z
LAST-MODIFIED:20260203T085308Z
UID:10862653-1779267600-1779274800@seniorocity.com.au
SUMMARY:Caring for the Mental Health Carer: Mind and Body Balance | City Beach
DESCRIPTION:Caring for the Mental Health Carer is a therapeutic group program designed for adult Mental Health Carers aged 18+.
URL:https://seniorocity.com.au/whats-on-perth/caring-for-the-mental-health-carer-mind-and-body-balance-city-beach-8/
LOCATION:Jubilee Crescent\, Jubilee Crescent\, City Beach\, WA\, 6015\, Australia
CATEGORIES:Health
ATTACH;FMTTYPE=image/jpeg:https://seniorocity.com.au/wp-content/uploads/2026/02/91a4ee0bd29c911dd44ce60eff2da8e0.jpg
END:VEVENT
BEGIN:VEVENT
DTSTART;TZID=Australia/Perth:20260520T093000
DTEND;TZID=Australia/Perth:20260520T110000
DTSTAMP:20260424T043227
CREATED:20260401T142705Z
LAST-MODIFIED:20260401T143147Z
UID:10865171-1779269400-1779274800@seniorocity.com.au
SUMMARY:Biscuits & Blooms-  A Plant Swap Morning Tea @ Girrawheen Library
DESCRIPTION:Join us @ Girrawheen Library with our monthly Plant Swap Morning Tea.
URL:https://seniorocity.com.au/whats-on-perth/biscuits-blooms-a-plant-swap-morning-tea-girrawheen-library-2/
LOCATION:Girrawheen Public Library\, 6 Patrick Court\, Girrawheen\, WA\, 6064\, Australia
CATEGORIES:Morning Tea
ATTACH;FMTTYPE=image/jpeg:https://seniorocity.com.au/wp-content/uploads/2026/04/0dddd384591c839dfcac13974fa0ce10.jpg
END:VEVENT
BEGIN:VEVENT
DTSTART;TZID=Australia/Perth:20260520T100000
DTEND;TZID=Australia/Perth:20260520T110000
DTSTAMP:20260424T043227
CREATED:20260402T151842Z
LAST-MODIFIED:20260402T152220Z
UID:10865249-1779271200-1779274800@seniorocity.com.au
SUMMARY:Hi\, Tech! - Morley Library: basic 1 to 1 tech help - April to June 2026
DESCRIPTION:Get ready to level up your tech skills with personalised 1-to-1 help at Morley Library – it’s your time to shine!
URL:https://seniorocity.com.au/whats-on-perth/hi-tech-morley-library-basic-1-to-1-tech-help-april-to-june-2026-20/
LOCATION:Morley Library\, 240 Walter Road West\, Morley\, WA\, 6062\, Australia
CATEGORIES:Tech
ATTACH;FMTTYPE=image/jpeg:https://seniorocity.com.au/wp-content/uploads/2023/05/9d8a7f09914618be6e7e50f09a533e8d.jpg
END:VEVENT
BEGIN:VEVENT
DTSTART;TZID=Australia/Perth:20260520T100000
DTEND;TZID=Australia/Perth:20260520T113000
DTSTAMP:20260424T043227
CREATED:20260204T090403Z
LAST-MODIFIED:20260204T090446Z
UID:10862737-1779271200-1779276600@seniorocity.com.au
SUMMARY:Mindfulness and Stretch | Bassendean
DESCRIPTION:Come and join us for a morning of Mindfulness and Movement in the beautiful surroundings of nature.
URL:https://seniorocity.com.au/whats-on-perth/mindfulness-and-stretch-bassendean-4/
LOCATION:Sandy Beach Reserve\, 203 West Road\, Bassendean\, WA\, 6054\, Australia
CATEGORIES:Health
ATTACH;FMTTYPE=image/jpeg:https://seniorocity.com.au/wp-content/uploads/2026/02/204e39748e72039a55c5a90d218569e5.jpg
GEO:-31.921352386475;115.95030975342
X-APPLE-STRUCTURED-LOCATION;VALUE=URI;X-ADDRESS=Sandy Beach Reserve 203 West Road Bassendean WA 6054 Australia;X-APPLE-RADIUS=500;X-TITLE=203 West Road:geo:115.95030975342,-31.921352386475
END:VEVENT
BEGIN:VEVENT
DTSTART;TZID=Australia/Perth:20260520T100000
DTEND;TZID=Australia/Perth:20260520T113000
DTSTAMP:20260424T043227
CREATED:20260421T131907Z
LAST-MODIFIED:20260421T131907Z
UID:10866052-1779271200-1779276600@seniorocity.com.au
SUMMARY:Practical Home Energy Upgrades for WA Homes
DESCRIPTION:Join Electrify Everything WA for a practical community workshop on common home energy upgrades. \nThinking about solar\, a battery\, a heat-pump hot water system\, induction cooking or an electric vehicle? This session walks through how these technologies work in WA homes\, what they typically cost\, and when they make sense. \nElectrify Everything WA facilitators will explain the most common electrification upgrades and answer your questions in a relaxed\, small-group setting. \nIn this workshop you will: \n\nLearn how rooftop solar\, batteries\, heat-pump hot water systems\, reverse-cycle air conditioning\, induction cooking and EV’s work in typical WA homes\n\n\nSee real examples of local households that have installed these upgrades\n\n\nUnderstand typical costs\, savings and available rebates\n\n\nAsk questions about your own home and possible upgrade options\n\n  \nThis session is designed as a simple first step for residents who are curious about specific upgrades and want clear\, practical information. \nThis is a Free session but registration is required. \nRegister Here
URL:https://seniorocity.com.au/whats-on-perth/practical-home-energy-upgrades-for-wa-homes/
LOCATION:Cambridge Library\, 99 The Boulevard\, Floreat\, WA\, 6014\, Australia
CATEGORIES:Free,Information Session,Library Events
ATTACH;FMTTYPE=image/jpeg:https://seniorocity.com.au/wp-content/uploads/2026/04/Practical-Home-Energy-Upgrades-for-WA-Homes.jpg
GEO:-31.93669;115.79335
X-APPLE-STRUCTURED-LOCATION;VALUE=URI;X-ADDRESS=Cambridge Library 99 The Boulevard Floreat WA 6014 Australia;X-APPLE-RADIUS=500;X-TITLE=99 The Boulevard:geo:115.79335,-31.93669
END:VEVENT
BEGIN:VEVENT
DTSTART;TZID=Australia/Perth:20260520T120000
DTEND;TZID=Australia/Perth:20260520T130000
DTSTAMP:20260424T043228
CREATED:20260416T084951Z
LAST-MODIFIED:20260416T084951Z
UID:10865810-1779278400-1779282000@seniorocity.com.au
SUMMARY:Urban Owls
DESCRIPTION:As part of Tree Month\, the WA Wildlife team will deliver an interactive session on owls in the urban environment. \nLearn which species you might find locally\, the trees and shrubs they depend on\, their food sources\, and the threats they face – along with simple ways we can support them. \n\nFree Event | All Welcome\n\nDiscover how urban trees help protect these fascinating nocturnal birds. \nRegister now
URL:https://seniorocity.com.au/whats-on-perth/urban-owls/
LOCATION:City of Perth Library\, 573 Hay Street\, Perth\, WA\, 6000\, Australia
CATEGORIES:Free,Gardening & Environment,Library Events
ATTACH;FMTTYPE=image/jpeg:https://seniorocity.com.au/wp-content/uploads/2026/04/Urban-Owls.jpg
END:VEVENT
BEGIN:VEVENT
DTSTART;TZID=Australia/Perth:20260520T130000
DTEND;TZID=Australia/Perth:20260520T140000
DTSTAMP:20260424T043228
CREATED:20260402T152633Z
LAST-MODIFIED:20260402T153312Z
UID:10865285-1779282000-1779285600@seniorocity.com.au
SUMMARY:Hi\, Tech! Maylands Library: basic 1-to-1 tech help - April to June 2026
DESCRIPTION:Get ready to level up your IT skills with personalised 1-to-1 help at Maylands Library – it’s your time to shine!
URL:https://seniorocity.com.au/whats-on-perth/hi-tech-maylands-library-basic-1-to-1-tech-help-april-to-june-2026-11/
LOCATION:Maylands Public Library\, The RISE\, 28 Eighth Avenue\, Maylands\, WA\, 6051\, Australia
CATEGORIES:Free
ATTACH;FMTTYPE=image/jpeg:https://seniorocity.com.au/wp-content/uploads/2024/07/47d27fc431d8516939cc37f1f8af6de5.jpg
GEO:-31.9310445;115.8948571
X-APPLE-STRUCTURED-LOCATION;VALUE=URI;X-ADDRESS=Maylands Public Library The RISE 28 Eighth Avenue Maylands WA 6051 Australia;X-APPLE-RADIUS=500;X-TITLE=The RISE\, 28 Eighth Avenue:geo:115.8948571,-31.9310445
END:VEVENT
BEGIN:VEVENT
DTSTART;TZID=Australia/Perth:20260520T134500
DTEND;TZID=Australia/Perth:20260520T160000
DTSTAMP:20260424T043228
CREATED:20251102T132409Z
LAST-MODIFIED:20260102T080611Z
UID:10856465-1779284700-1779292800@seniorocity.com.au
SUMMARY:NEW Listening Lounge Mental Health Peer Support Group- Kelmscott!
DESCRIPTION:A welcoming space for connection\, understanding and mutual support.
URL:https://seniorocity.com.au/whats-on-perth/new-listening-lounge-mental-health-peer-support-group-kelmscott-29/
LOCATION:Creyk Park Pavilion\, 6 Kembla Street\, Kelmscott\, WA\, 6111\, Australia
CATEGORIES:Health
ATTACH;FMTTYPE=image/jpeg:https://seniorocity.com.au/wp-content/uploads/2026/01/0cd8afe91432da0a77137da7b5a4370c.jpg
END:VEVENT
BEGIN:VEVENT
DTSTART;TZID=Australia/Perth:20260520T140000
DTEND;TZID=Australia/Perth:20260520T150000
DTSTAMP:20260424T043228
CREATED:20260204T091644Z
LAST-MODIFIED:20260204T142652Z
UID:10862893-1779285600-1779289200@seniorocity.com.au
SUMMARY:Gardening Club
DESCRIPTION:Nature play for 2–5 year-olds & caregivers\, Wednesdays 2–3 pm! Plant veggies\, explore worms & enjoy outdoor fun together.
URL:https://seniorocity.com.au/whats-on-perth/gardening-club-15/
LOCATION:26A Harris St\, 26A Harris Street\, Bicton\, WA\, 6157\, Australia
CATEGORIES:Gardening & Environment
END:VEVENT
BEGIN:VEVENT
DTSTART;TZID=Australia/Perth:20260520T140000
DTEND;TZID=Australia/Perth:20260520T150000
DTSTAMP:20260424T043228
CREATED:20260402T152633Z
LAST-MODIFIED:20260402T153323Z
UID:10865286-1779285600-1779289200@seniorocity.com.au
SUMMARY:Hi\, Tech! Maylands Library: basic 1-to-1 tech help - April to June 2026
DESCRIPTION:Get ready to level up your IT skills with personalised 1-to-1 help at Maylands Library – it’s your time to shine!
URL:https://seniorocity.com.au/whats-on-perth/hi-tech-maylands-library-basic-1-to-1-tech-help-april-to-june-2026-12/
LOCATION:Maylands Public Library\, The RISE\, 28 Eighth Avenue\, Maylands\, WA\, 6051\, Australia
CATEGORIES:Free
ATTACH;FMTTYPE=image/jpeg:https://seniorocity.com.au/wp-content/uploads/2024/07/47d27fc431d8516939cc37f1f8af6de5.jpg
GEO:-31.9310445;115.8948571
X-APPLE-STRUCTURED-LOCATION;VALUE=URI;X-ADDRESS=Maylands Public Library The RISE 28 Eighth Avenue Maylands WA 6051 Australia;X-APPLE-RADIUS=500;X-TITLE=The RISE\, 28 Eighth Avenue:geo:115.8948571,-31.9310445
END:VEVENT
BEGIN:VEVENT
DTSTART;TZID=Australia/Perth:20260520T140000
DTEND;TZID=Australia/Perth:20260520T160000
DTSTAMP:20260424T043228
CREATED:20260102T072524Z
LAST-MODIFIED:20260102T072524Z
UID:10857539-1779285600-1779292800@seniorocity.com.au
SUMMARY:Jigsaw Group
DESCRIPTION:Challenge your memory and spatial reasoning as you explore a variety of puzzles and connect with fellow puzzle lovers. \nIt’s a fun\, social way to keep your brain active and enjoy the satisfaction of solving puzzles together.
URL:https://seniorocity.com.au/whats-on-perth/jigsaw-group/2026-05-20/
LOCATION:Duncraig Library\, Cnr Warwick Road and Marmion Avenue\, Duncraig\, WA\, Australia
CATEGORIES:Games,Library Events
ATTACH;FMTTYPE=image/jpeg:https://seniorocity.com.au/wp-content/uploads/2026/01/Jigsaws.jpg
GEO:-31.8348164;115.7644252
X-APPLE-STRUCTURED-LOCATION;VALUE=URI;X-ADDRESS=Duncraig Library Cnr Warwick Road and Marmion Avenue Duncraig WA Australia;X-APPLE-RADIUS=500;X-TITLE=Cnr Warwick Road and Marmion Avenue:geo:115.7644252,-31.8348164
END:VEVENT
BEGIN:VEVENT
DTSTART;TZID=Australia/Perth:20260520T140000
DTEND;TZID=Australia/Perth:20260520T160000
DTSTAMP:20260424T043228
CREATED:20260119T022352Z
LAST-MODIFIED:20260119T022352Z
UID:10862517-1779285600-1779292800@seniorocity.com.au
SUMMARY:Jigsaw group
DESCRIPTION:Challenge your memory and spatial reasoning as you explore a variety of puzzles and connect with fellow puzzle lovers. \nIt’s a fun\, social way to keep your brain active and enjoy the satisfaction of solving puzzles together.
URL:https://seniorocity.com.au/whats-on-perth/jigsaw-group-2/2026-05-20/
LOCATION:Duncraig Library\, Cnr Warwick Road and Marmion Avenue\, Duncraig\, WA\, Australia
CATEGORIES:Free,Games,Library Events,Social
ATTACH;FMTTYPE=image/jpeg:https://seniorocity.com.au/wp-content/uploads/2026/01/Jigsaw-group.jpg
GEO:-31.8348164;115.7644252
X-APPLE-STRUCTURED-LOCATION;VALUE=URI;X-ADDRESS=Duncraig Library Cnr Warwick Road and Marmion Avenue Duncraig WA Australia;X-APPLE-RADIUS=500;X-TITLE=Cnr Warwick Road and Marmion Avenue:geo:115.7644252,-31.8348164
END:VEVENT
BEGIN:VEVENT
DTSTART;TZID=Australia/Perth:20260520T173000
DTEND;TZID=Australia/Perth:20260520T183000
DTSTAMP:20260424T043228
CREATED:20260415T143720Z
LAST-MODIFIED:20260415T143720Z
UID:10865732-1779298200-1779301800@seniorocity.com.au
SUMMARY:Only You: the unexpected gift of being alone
DESCRIPTION:In a world obsessed with finding “the one\,” therapist and mindset coach Dr Marny Lishman is asking a radical question: What if the most transformative relationship you’ll ever have is the one with yourself? \nIn her book Only You: The Unexpected Gift of Being Alone she offers evidence-based strategies for transforming solitude from something to fear into a powerful catalyst for personal growth. \nBooks will be available to purchase on the night and the author on hand for signing. \nThis session is for adults. \nPlease Note: Bookings open 20 April 2026. \nBook Online
URL:https://seniorocity.com.au/whats-on-perth/only-you-the-unexpected-gift-of-being-alone/
LOCATION:Armadale Library\, Armadale Central Shopping Centre\, Shop 64/10 Armadale Central Shopping Centre\, Orchard Ave\, Armadale WA 6112\, Armadale\, Australia
CATEGORIES:Free,Library Events
ATTACH;FMTTYPE=image/jpeg:https://seniorocity.com.au/wp-content/uploads/2026/04/Only-You-the-unexpected-gift-of-being-alone.jpg
GEO:-32.153;116.015
X-APPLE-STRUCTURED-LOCATION;VALUE=URI;X-ADDRESS=Armadale Library Armadale Central Shopping Centre Shop 64/10 Armadale Central Shopping Centre Orchard Ave Armadale WA 6112 Armadale Australia;X-APPLE-RADIUS=500;X-TITLE=Armadale Central Shopping Centre\, Shop 64/10 Armadale Central Shopping Centre\, Orchard Ave\, Armadale WA 6112:geo:116.015,-32.153
END:VEVENT
END:VCALENDAR