BEGIN:VCALENDAR
VERSION:2.0
PRODID:-//Seniorocity - Seniors / Over 55&#039;s Guide to Perth - ECPv6.15.11//NONSGML v1.0//EN
CALSCALE:GREGORIAN
METHOD:PUBLISH
X-WR-CALNAME:Seniorocity - Seniors / Over 55&#039;s Guide to Perth
X-ORIGINAL-URL:https://seniorocity.com.au
X-WR-CALDESC:Events for Seniorocity - Seniors / Over 55&#039;s Guide to Perth
REFRESH-INTERVAL;VALUE=DURATION:PT1H
X-Robots-Tag:noindex
X-PUBLISHED-TTL:PT1H
BEGIN:VTIMEZONE
TZID:Australia/Perth
BEGIN:STANDARD
TZOFFSETFROM:+0800
TZOFFSETTO:+0800
TZNAME:AWST
DTSTART:20250101T000000
END:STANDARD
END:VTIMEZONE
BEGIN:VEVENT
DTSTART;TZID=Australia/Perth:20260513T130000
DTEND;TZID=Australia/Perth:20260513T140000
DTSTAMP:20260424T030043
CREATED:20260402T152616Z
LAST-MODIFIED:20260402T153248Z
UID:10865283-1778677200-1778680800@seniorocity.com.au
SUMMARY:Hi\, Tech! Maylands Library: basic 1-to-1 tech help - April to June 2026
DESCRIPTION:Get ready to level up your IT skills with personalised 1-to-1 help at Maylands Library – it’s your time to shine!
URL:https://seniorocity.com.au/whats-on-perth/hi-tech-maylands-library-basic-1-to-1-tech-help-april-to-june-2026-9/
LOCATION:Maylands Public Library\, The RISE\, 28 Eighth Avenue\, Maylands\, WA\, 6051\, Australia
CATEGORIES:Free
ATTACH;FMTTYPE=image/jpeg:https://seniorocity.com.au/wp-content/uploads/2024/07/47d27fc431d8516939cc37f1f8af6de5.jpg
GEO:-31.9310445;115.8948571
X-APPLE-STRUCTURED-LOCATION;VALUE=URI;X-ADDRESS=Maylands Public Library The RISE 28 Eighth Avenue Maylands WA 6051 Australia;X-APPLE-RADIUS=500;X-TITLE=The RISE\, 28 Eighth Avenue:geo:115.8948571,-31.9310445
END:VEVENT
BEGIN:VEVENT
DTSTART;TZID=Australia/Perth:20260513T130000
DTEND;TZID=Australia/Perth:20260513T150000
DTSTAMP:20260424T030043
CREATED:20260108T152224Z
LAST-MODIFIED:20260108T152224Z
UID:10861260-1778677200-1778684400@seniorocity.com.au
SUMMARY:Knit 'n' Yarn - Wednesdays
DESCRIPTION:Knitting\, crochet or needlecraft – bring your project\, share ideas or learn something new with this friendly bunch of crafters! \nFrom beginners to experienced knitters\, no bookings required\, all are welcome.
URL:https://seniorocity.com.au/whats-on-perth/knit-n-yarn-wednesdays-2/2026-05-13/
LOCATION:Murray Library\, Pinjarra Road\, Pinjarra\, WA\, 6208\, Australia
CATEGORIES:Free,Knitting
ATTACH;FMTTYPE=image/png:https://seniorocity.com.au/wp-content/uploads/2026/01/Knit-n-Yarn-Wednesdays.png
END:VEVENT
BEGIN:VEVENT
DTSTART;TZID=Australia/Perth:20260513T134500
DTEND;TZID=Australia/Perth:20260513T160000
DTSTAMP:20260424T030043
CREATED:20251102T132408Z
LAST-MODIFIED:20260102T080610Z
UID:10856464-1778679900-1778688000@seniorocity.com.au
SUMMARY:NEW Listening Lounge Mental Health Peer Support Group- Kelmscott!
DESCRIPTION:A welcoming space for connection\, understanding and mutual support.
URL:https://seniorocity.com.au/whats-on-perth/new-listening-lounge-mental-health-peer-support-group-kelmscott-28/
LOCATION:Creyk Park Pavilion\, 6 Kembla Street\, Kelmscott\, WA\, 6111\, Australia
CATEGORIES:Health
ATTACH;FMTTYPE=image/jpeg:https://seniorocity.com.au/wp-content/uploads/2026/01/0cd8afe91432da0a77137da7b5a4370c.jpg
END:VEVENT
BEGIN:VEVENT
DTSTART;TZID=Australia/Perth:20260513T140000
DTEND;TZID=Australia/Perth:20260513T150000
DTSTAMP:20260424T030043
CREATED:20260204T091643Z
LAST-MODIFIED:20260204T142650Z
UID:10862892-1778680800-1778684400@seniorocity.com.au
SUMMARY:Gardening Club
DESCRIPTION:Nature play for 2–5 year-olds & caregivers\, Wednesdays 2–3 pm! Plant veggies\, explore worms & enjoy outdoor fun together.
URL:https://seniorocity.com.au/whats-on-perth/gardening-club-14/
LOCATION:26A Harris St\, 26A Harris Street\, Bicton\, WA\, 6157\, Australia
CATEGORIES:Gardening & Environment
END:VEVENT
BEGIN:VEVENT
DTSTART;TZID=Australia/Perth:20260513T140000
DTEND;TZID=Australia/Perth:20260513T150000
DTSTAMP:20260424T030043
CREATED:20260402T152617Z
LAST-MODIFIED:20260402T153258Z
UID:10865284-1778680800-1778684400@seniorocity.com.au
SUMMARY:Hi\, Tech! Maylands Library: basic 1-to-1 tech help - April to June 2026
DESCRIPTION:Get ready to level up your IT skills with personalised 1-to-1 help at Maylands Library – it’s your time to shine!
URL:https://seniorocity.com.au/whats-on-perth/hi-tech-maylands-library-basic-1-to-1-tech-help-april-to-june-2026-10/
LOCATION:Maylands Public Library\, The RISE\, 28 Eighth Avenue\, Maylands\, WA\, 6051\, Australia
CATEGORIES:Free
ATTACH;FMTTYPE=image/jpeg:https://seniorocity.com.au/wp-content/uploads/2024/07/47d27fc431d8516939cc37f1f8af6de5.jpg
GEO:-31.9310445;115.8948571
X-APPLE-STRUCTURED-LOCATION;VALUE=URI;X-ADDRESS=Maylands Public Library The RISE 28 Eighth Avenue Maylands WA 6051 Australia;X-APPLE-RADIUS=500;X-TITLE=The RISE\, 28 Eighth Avenue:geo:115.8948571,-31.9310445
END:VEVENT
BEGIN:VEVENT
DTSTART;TZID=Australia/Perth:20260513T140000
DTEND;TZID=Australia/Perth:20260513T160000
DTSTAMP:20260424T030043
CREATED:20260121T134844Z
LAST-MODIFIED:20260121T134844Z
UID:10862542-1778680800-1778688000@seniorocity.com.au
SUMMARY:Knitting group - Duncraig Library
DESCRIPTION:Join our friendly knitters and work on your own creations\, knit something for charity or participate in a community project. \nNo cost. No need to book.
URL:https://seniorocity.com.au/whats-on-perth/knitting-group-duncraig-library/2026-05-13/
LOCATION:Duncraig Library\, Cnr Warwick Road and Marmion Avenue\, Duncraig\, WA\, Australia
CATEGORIES:Free,Knitting,Library Events
ATTACH;FMTTYPE=image/jpeg:https://seniorocity.com.au/wp-content/uploads/2026/01/Knitting-group-Duncraig-Library-scaled.jpg
GEO:-31.8348164;115.7644252
X-APPLE-STRUCTURED-LOCATION;VALUE=URI;X-ADDRESS=Duncraig Library Cnr Warwick Road and Marmion Avenue Duncraig WA Australia;X-APPLE-RADIUS=500;X-TITLE=Cnr Warwick Road and Marmion Avenue:geo:115.7644252,-31.8348164
END:VEVENT
BEGIN:VEVENT
DTSTART;TZID=Australia/Perth:20260513T143000
DTEND;TZID=Australia/Perth:20260513T153000
DTSTAMP:20260424T030043
CREATED:20260401T145931Z
LAST-MODIFIED:20260401T150039Z
UID:10865225-1778682600-1778686200@seniorocity.com.au
SUMMARY:Cockman House Guided Tour
DESCRIPTION:Join us during the Australian Heritage Festival for a guided tour of this historic local gem.
URL:https://seniorocity.com.au/whats-on-perth/cockman-house-guided-tour-6/
LOCATION:Cockman House\, Wanneroo\, Ancestor Retreat (off Woodvale Drive)\, Woodvale\, WA\, 6026\, Australia
CATEGORIES:Tour
ATTACH;FMTTYPE=image/jpeg:https://seniorocity.com.au/wp-content/uploads/2026/04/2782bd8e24a8327884502972eb1d263d-1.jpg
END:VEVENT
BEGIN:VEVENT
DTSTART;TZID=Australia/Perth:20260513T173000
DTEND;TZID=Australia/Perth:20260513T190000
DTSTAMP:20260424T030043
CREATED:20260421T061246Z
LAST-MODIFIED:20260421T061246Z
UID:10866049-1778693400-1778698800@seniorocity.com.au
SUMMARY:Belmont's Clay Industry
DESCRIPTION:Join the museum team for an engaging talk on Belmont’s early clay industry and how it shaped the development of Perth.\n\n\n\n\n\n\nExplore the rise of the clay industry in the City of Belmont and its crucial role in shaping early development along the Swan River. With rich riverbank deposits and direct transport access\, Belmont became a hub for brickworks and clay products that supplied a growing Perth. \nJoin us to uncover the local stories behind the materials that helped build Perth. \nRegistration is required for this event. If you cannot register online\, please contact the library on (08) 9477 7150.
URL:https://seniorocity.com.au/whats-on-perth/belmonts-clay-industry/
LOCATION:Events Room\, Ruth Faulkner Library\, 213 Wright Street\, Cloverdale\, WA\, 6105\, Australia
CATEGORIES:Free,History,Library Events
ATTACH;FMTTYPE=image/png:https://seniorocity.com.au/wp-content/uploads/2026/04/Belmonts-Clay-Industry.png
END:VEVENT
BEGIN:VEVENT
DTSTART;TZID=Australia/Perth:20260513T182000
DTEND;TZID=Australia/Perth:20260513T203000
DTSTAMP:20260424T030043
CREATED:20260402T152849Z
LAST-MODIFIED:20260402T153509Z
UID:10865299-1778696400-1778704200@seniorocity.com.au
SUMMARY:Habla Hispanic Bilingual Toastmasters Club
DESCRIPTION:Join our Habla Hispanic Bilingual Toastmasters club meeting and practice your public speaking skills in Spanish and English
URL:https://seniorocity.com.au/whats-on-perth/habla-hispanic-bilingual-toastmasters-club-2/
LOCATION:45 Thelma St\, 45 Thelma Street\, Como\, WA\, 6152\, Australia
CATEGORIES:Club
ATTACH;FMTTYPE=image/jpeg:https://seniorocity.com.au/wp-content/uploads/2026/04/3e7554fcb07ae0e045c0f3ca853cf2ba.jpg
END:VEVENT
BEGIN:VEVENT
DTSTART;TZID=Australia/Perth:20260513T183000
DTEND;TZID=Australia/Perth:20260513T203000
DTSTAMP:20260424T030043
CREATED:20260418T135543Z
LAST-MODIFIED:20260418T135543Z
UID:10865980-1778697000-1778704200@seniorocity.com.au
SUMMARY:Sir Dave – Trivia Night
DESCRIPTION:The amazing Sir David Attenborough turns 100 this May – a huge milestone for a legend of a man who has done so much to foster our love of the natural world. \nTo celebrate Rocky Ridge\, Dux Nuts and the Urban Forest team at the Town of Vic Park are hosting a Sir Dave inspired Trivia Night. Get a team together and test your knowledge of obscure animals\, remote landscapes\, climate triggers and the man himself! \nRegister from 6:30pm\, Trivia starts 7pm\nWednesday 13 May\nVenue: Rocky Ridge\, Burswood
URL:https://seniorocity.com.au/whats-on-perth/sir-dave-trivia-night/
LOCATION:Rocky Ridge\, 84/88 Goodwood Pde\, Burswood\, WA\, 6100\, Australia
CATEGORIES:Free,Games,Social
ATTACH;FMTTYPE=image/jpeg:https://seniorocity.com.au/wp-content/uploads/2026/04/Sir-Dave-–-Trivia-Night.jpg
END:VEVENT
BEGIN:VEVENT
DTSTART;TZID=Australia/Perth:20260513T190000
DTEND;TZID=Australia/Perth:20260513T210000
DTSTAMP:20260424T030043
CREATED:20260102T073631Z
LAST-MODIFIED:20260401T141450Z
UID:10857631-1778698800-1778706000@seniorocity.com.au
SUMMARY:HILTON HAHAS
DESCRIPTION:New material Comedy Night\, come get a 1/2 priced dinner and have a laugh at some fresh new comedy !!
URL:https://seniorocity.com.au/whats-on-perth/hilton-hahas-19/
LOCATION:South Street Ale House & Bottleshop\, 277 South Street\, Hilton\, WA\, 6163\, Australia
CATEGORIES:Free,Theatre & Shows
ATTACH;FMTTYPE=image/jpeg:https://seniorocity.com.au/wp-content/uploads/2026/01/d1384d782c9a02cbe61db6a5afb92cd0.jpg
END:VEVENT
BEGIN:VEVENT
DTSTART;TZID=Australia/Perth:20260513T191500
DTEND;TZID=Australia/Perth:20260513T201500
DTSTAMP:20260424T030043
CREATED:20250713T072938Z
LAST-MODIFIED:20260102T081030Z
UID:10791368-1778699700-1778703300@seniorocity.com.au
SUMMARY:FREE Community Yoga
DESCRIPTION:A class taught by teachers in training. Free of charge.
URL:https://seniorocity.com.au/whats-on-perth/free-community-yoga-44/
LOCATION:The Yoga Space\, 79 Colin Street\, #6\, West Perth\, WA\, 6005\, Australia
CATEGORIES:Free
ATTACH;FMTTYPE=image/jpeg:https://seniorocity.com.au/wp-content/uploads/2025/07/620679d6cce180570dcf21a88ec64011.jpg
END:VEVENT
BEGIN:VEVENT
DTSTART;TZID=Australia/Perth:20260513T193000
DTEND;TZID=Australia/Perth:20260513T210000
DTSTAMP:20260424T030043
CREATED:20260215T141057Z
LAST-MODIFIED:20260215T141057Z
UID:10863651-1778700600-1778706000@seniorocity.com.au
SUMMARY:The singing circle Fremantle
DESCRIPTION:A safe place for people to meet and sing. \n\n\nSing for the love of it\, for the fun of it\, to feed your soul and let our songs do the talking. \nNo performances\, just a safe space to explore your voice and sing. No experience or skill necessary\, just enthusiasm! \nFREE! Bookings required. \n 
URL:https://seniorocity.com.au/whats-on-perth/the-singing-circle-fremantle/2026-05-13/
LOCATION:North Fremantle Community Hall\, 2 Thompson Road\, North Fremantle\, WA\, 6159\, Australia
CATEGORIES:Free,Meet New People,Music Event,Social
ATTACH;FMTTYPE=image/jpeg:https://seniorocity.com.au/wp-content/uploads/2026/02/The-singing-circle-Fremantle.jpg
END:VEVENT
BEGIN:VEVENT
DTSTART;TZID=Australia/Perth:20260514T093000
DTEND;TZID=Australia/Perth:20260514T103000
DTSTAMP:20260424T030043
CREATED:20260102T080307Z
LAST-MODIFIED:20260401T150359Z
UID:10858085-1778751000-1778754600@seniorocity.com.au
SUMMARY:Tech Connect @ Wanneroo Library
DESCRIPTION:FREE weekly morning tea to connect with others and get more comfortable with technology.
URL:https://seniorocity.com.au/whats-on-perth/tech-connect-wanneroo-library-19/
LOCATION:Wanneroo Library and Cultural Centre\, 3 Rocca Way\, Wanneroo\, WA\, 6065\, Australia
CATEGORIES:Tech
ATTACH;FMTTYPE=image/jpeg:https://seniorocity.com.au/wp-content/uploads/2026/01/0cf7f50887955559e3bbd40a37b621a8.jpg
END:VEVENT
BEGIN:VEVENT
DTSTART;TZID=Australia/Perth:20260514T093000
DTEND;TZID=Australia/Perth:20260514T113000
DTSTAMP:20260424T030043
CREATED:20260102T085259Z
LAST-MODIFIED:20260102T085259Z
UID:10858344-1778751000-1778758200@seniorocity.com.au
SUMMARY:Crocheting and Knitting Group
DESCRIPTION:Do you love to knit or crochet? \nIf you want to meet new people and have a chat while doing something that you love\, then come along to this social crocheting and knitting group. \nWhether you are a beginner or seasoned expert\, all are welcome to attend. \nJust bring your own supplies and come along to our friendly group at the library. \nBookings are not required.
URL:https://seniorocity.com.au/whats-on-perth/crocheting-and-knitting-group/2026-05-14/
LOCATION:Armadale Library\, Armadale Central Shopping Centre\, Shop 64/10 Armadale Central Shopping Centre\, Orchard Ave\, Armadale WA 6112\, Armadale\, Australia
CATEGORIES:Free,Knitting
ATTACH;FMTTYPE=image/jpeg:https://seniorocity.com.au/wp-content/uploads/2026/01/Crocheting-and-Knitting-Group.jpg
GEO:-32.153;116.015
X-APPLE-STRUCTURED-LOCATION;VALUE=URI;X-ADDRESS=Armadale Library Armadale Central Shopping Centre Shop 64/10 Armadale Central Shopping Centre Orchard Ave Armadale WA 6112 Armadale Australia;X-APPLE-RADIUS=500;X-TITLE=Armadale Central Shopping Centre\, Shop 64/10 Armadale Central Shopping Centre\, Orchard Ave\, Armadale WA 6112:geo:116.015,-32.153
END:VEVENT
BEGIN:VEVENT
DTSTART;TZID=Australia/Perth:20260514T093000
DTEND;TZID=Australia/Perth:20260514T120000
DTSTAMP:20260424T030043
CREATED:20260102T074647Z
LAST-MODIFIED:20260401T142428Z
UID:10857749-1778751000-1778760000@seniorocity.com.au
SUMMARY:Art for Art's Sake - Social Art Group for Adults
DESCRIPTION:Enjoy a relaxed\, welcoming space where you can work on your own projects alongside fellow artists.
URL:https://seniorocity.com.au/whats-on-perth/art-for-arts-sake-social-art-group-for-adults-29/
LOCATION:Maylands Public Library\, The RISE\, 28 Eighth Avenue\, Maylands\, WA\, 6051\, Australia
CATEGORIES:Free,Library Events
ATTACH;FMTTYPE=image/jpeg:https://seniorocity.com.au/wp-content/uploads/2025/10/403cde6a2174f39678d165fd948c9cc5.jpg
GEO:-31.9310445;115.8948571
X-APPLE-STRUCTURED-LOCATION;VALUE=URI;X-ADDRESS=Maylands Public Library The RISE 28 Eighth Avenue Maylands WA 6051 Australia;X-APPLE-RADIUS=500;X-TITLE=The RISE\, 28 Eighth Avenue:geo:115.8948571,-31.9310445
END:VEVENT
BEGIN:VEVENT
DTSTART;TZID=Australia/Perth:20260514T093000
DTEND;TZID=Australia/Perth:20260514T153000
DTSTAMP:20260424T030043
CREATED:20260319T135237Z
LAST-MODIFIED:20260319T135237Z
UID:10864447-1778751000-1778772600@seniorocity.com.au
SUMMARY:Tuart Hill Retirees Club: Bowls and Bingo
DESCRIPTION:The Tuart Hill Retirees Club run Carpet Bowls and then Bingo at the Osborne Community Hub Thursday’s from 9.30am – 3.30pm. The club also has other activities such as social outings\, lunches and volleyball. \nPlease contact the club for fees and membership pricing. \nContact details \n\nJenny Breen\nbreen@iinet.net.au\n0419925627
URL:https://seniorocity.com.au/whats-on-perth/tuart-hill-retirees-club-bowls-and-bingo-2/2026-05-14/
LOCATION:Osborne Community Hub\, 11 Royal Street\, Osborne Park\, WA\, 6017\, Australia
CATEGORIES:Club,Meet New People,Social
ATTACH;FMTTYPE=image/jpeg:https://seniorocity.com.au/wp-content/uploads/2026/03/Tuart-Hill-Retirees-Club-Bowls-and-Bingo.jpg
END:VEVENT
BEGIN:VEVENT
DTSTART;TZID=Australia/Perth:20260514T100000
DTEND;TZID=Australia/Perth:20260514T113000
DTSTAMP:20260424T030043
CREATED:20260108T145807Z
LAST-MODIFIED:20260108T145807Z
UID:10861210-1778752800-1778758200@seniorocity.com.au
SUMMARY:Knit 'n' Yarn - Thursdays
DESCRIPTION:Knitting\, crochet or needlecraft – bring your project\, share ideas or learn something new with this friendly bunch of crafters! \nFrom beginners to experienced knitters\, no bookings required\, all are welcome. \n 
URL:https://seniorocity.com.au/whats-on-perth/knit-n-yarn-thursdays/2026-05-14/
LOCATION:Murray Library\, Pinjarra Road\, Pinjarra\, WA\, 6208\, Australia
CATEGORIES:Craft,Free,Knitting
ATTACH;FMTTYPE=image/png:https://seniorocity.com.au/wp-content/uploads/2026/01/Knit-n-Yarn-Thursdays.png
END:VEVENT
BEGIN:VEVENT
DTSTART;TZID=Australia/Perth:20260514T100000
DTEND;TZID=Australia/Perth:20260514T120000
DTSTAMP:20260424T030043
CREATED:20260108T085422Z
LAST-MODIFIED:20260108T085422Z
UID:10861111-1778752800-1778760000@seniorocity.com.au
SUMMARY:Seniors Craft Group
DESCRIPTION:Cost is $2 and includes refreshments. Proudly supported by Shire of Mundaring. \n\n\n\n\n\n\nTime: 10am to 12pm \nLocation: The Hub of the Hills\, 8 Craig Street\, Mundaring
URL:https://seniorocity.com.au/whats-on-perth/seniors-craft-group/2026-05-14/
LOCATION:Hub of the Hills\, Craig Street\, Mundaring\, WA\, Australia
CATEGORIES:Craft,Social
ATTACH;FMTTYPE=image/jpeg:https://seniorocity.com.au/wp-content/uploads/2026/01/Seniors-Craft-Group.jpg
END:VEVENT
BEGIN:VEVENT
DTSTART;TZID=Australia/Perth:20260514T100000
DTEND;TZID=Australia/Perth:20260514T120000
DTSTAMP:20260424T030043
CREATED:20260204T144311Z
LAST-MODIFIED:20260206T152711Z
UID:10863062-1778752800-1778760000@seniorocity.com.au
SUMMARY:Coffee and Craft | Midland
DESCRIPTION:Coffee and Craft is a therapeutic group program designed for adult Mental Health Carers aged 18+.
URL:https://seniorocity.com.au/whats-on-perth/coffee-and-craft-midland-4/
LOCATION:1A Sayer St\, 1A Sayer Street\, Midland\, WA\, 6056\, Australia
CATEGORIES:Craft
ATTACH;FMTTYPE=image/jpeg:https://seniorocity.com.au/wp-content/uploads/2026/02/a1a2cff9524413c0bebe060092ad1c35-1.jpg
END:VEVENT
BEGIN:VEVENT
DTSTART;TZID=Australia/Perth:20260514T100000
DTEND;TZID=Australia/Perth:20260514T123000
DTSTAMP:20260424T030043
CREATED:20260415T140640Z
LAST-MODIFIED:20260415T140640Z
UID:10865694-1778752800-1778761800@seniorocity.com.au
SUMMARY:Positive Ageing High Teas 2026
DESCRIPTION:Fancy adding a bit of extravagance to your day? \nEnjoy a little indulgence at one of the Positive Ageing High Tea events being held at the historic Armadale District Hall. Delight in being served a morning tea of delicious treats by Bedfordale Country Women’s Association and local hospitality students from the following high schools: \n• Kelmscott Senior High School \n• John Wollaston Anglican Community College \n• Armadale Senior High School \n• Roleystone Community College \nAfter morning tea\, guests will be invited to explore the thought-provoking works of the Minnawarra Art Awards. As one of the City’s premium events\, the renowned Minnawarra Art Awards presents a beautifully curated exhibition showcasing a variety of mediums from some of Western Australia’s most prestigious artists. \nThis is a free event\, but places are limited. Book now to avoid disappointment.
URL:https://seniorocity.com.au/whats-on-perth/positive-ageing-high-teas-2026-2/
LOCATION:Armadale District Hall\, Cnr Jull Street & Church Avenue\, Armadale\, WA\, 6112\, Australia
CATEGORIES:Free,Meet New People,Morning Tea,Social
ATTACH;FMTTYPE=image/jpeg:https://seniorocity.com.au/wp-content/uploads/2026/04/Positive-Ageing-High-Teas-2026.jpg
END:VEVENT
BEGIN:VEVENT
DTSTART;TZID=Australia/Perth:20260514T110000
DTEND;TZID=Australia/Perth:20260514T123000
DTSTAMP:20260424T030043
CREATED:20260417T072521Z
LAST-MODIFIED:20260417T072521Z
UID:10865955-1778756400-1778761800@seniorocity.com.au
SUMMARY:Damper Making Class
DESCRIPTION:Join us at the Walyalup Aboriginal Cultural Centre during Djeran Season for a session on damper making with Noongar yorga\, Kaya Carson. \nIn this class\, you will learn how damper was traditionally made by Aboriginal people\, and create your own damper to take home or eat right here at the centre. \nDisclaimer: Contains gluten. \nBook Now \n 
URL:https://seniorocity.com.au/whats-on-perth/damper-making-class/
LOCATION:Walyalup Aboriginal Cultural Centre\, 12 Captains Lane\, Fremantle\, WA\, 6160\, Australia
CATEGORIES:Activity Class,Cooking,Workshop
ATTACH;FMTTYPE=image/png:https://seniorocity.com.au/wp-content/uploads/2026/04/Damper-Making-Class.png
END:VEVENT
BEGIN:VEVENT
DTSTART;TZID=Australia/Perth:20260514T123000
DTEND;TZID=Australia/Perth:20260514T140000
DTSTAMP:20260424T030043
CREATED:20260419T134756Z
LAST-MODIFIED:20260419T134756Z
UID:10866004-1778761800-1778767200@seniorocity.com.au
SUMMARY:Community Crochet Classes (4 Week Program) May 2026
DESCRIPTION:SJ Library Services have partnered with Julia Clark from Yulia Designs to provide Community Crochet Classes. \nWould you like to learn the craft of crocheting this a perfect opportunity to learn the basics with Julia in a small group environment at the Byford Library \nThis 4 week program will run on Thursdays 1230pm to 2pm each week and covering the following topics: \nWeek 1 – 7th May 2026 – Introduction to Crochet\, Choose a crochet Hook\, Yarn and how to make a Crochet Chain \nWeek 2 – 14th May 2026 – Single Crochet and Double Crochet \nWeek 3 – 21st May 2026 – Granny Square \nWeek 4 – 28th May 2025 – Learn how to Crochet in a circle and make a Hat or Homeware \n(All Materials provided) \n18+ \nCost $5 per person \nBooking this Ticket will book into all 4 class dates of the program \nBookings Required: \nhttps://events.humanitix.com/community-crochet-classes-4-week-program-may-2026
URL:https://seniorocity.com.au/whats-on-perth/community-crochet-classes-4-week-program-may-2026/2026-05-14/
LOCATION:Byford Library\, 858 South Western Highway\, Byford\, WA\, 6122\, Australia
CATEGORIES:Craft,Knitting,Library Events,Week day events,Workshop
ATTACH;FMTTYPE=image/png:https://seniorocity.com.au/wp-content/uploads/2026/04/Community-Crochet-Classes-4-Week-Program-May-2026.png
END:VEVENT
BEGIN:VEVENT
DTSTART;TZID=Australia/Perth:20260514T123000
DTEND;TZID=Australia/Perth:20260514T160000
DTSTAMP:20260424T030043
CREATED:20260207T135220Z
LAST-MODIFIED:20260207T135220Z
UID:10863196-1778761800-1778774400@seniorocity.com.au
SUMMARY:Kitchen Bridge
DESCRIPTION:Enjoy kitchen bridge with the Duncraig Seniors Club every Thursday from 15 January-17 December 2026. \nCome for the bridge\, stay for the chats. \nEmail duncraigseniors@gmail.com for further information.
URL:https://seniorocity.com.au/whats-on-perth/kitchen-bridge/2026-05-14/
LOCATION:Mildenhall\, 49 Beddi Road\, Duncraig\, WA\, 6023\, Australia
CATEGORIES:Club,Games,Social
ATTACH;FMTTYPE=image/jpeg:https://seniorocity.com.au/wp-content/uploads/2026/02/Kitchen-Bridge-scaled.jpg
END:VEVENT
BEGIN:VEVENT
DTSTART;TZID=Australia/Perth:20260514T130000
DTEND;TZID=Australia/Perth:20260514T150000
DTSTAMP:20260424T030043
CREATED:20260108T085836Z
LAST-MODIFIED:20260108T085836Z
UID:10861156-1778763600-1778770800@seniorocity.com.au
SUMMARY:Cryptic Crosswords Group
DESCRIPTION:All levels welcome. Cost is $2\, includes refreshments. \n\n\n\n\n\n\nTime: 1pm to 3pm \nLocation: The Hub of the Hills\, 8 Craig Street\, Mundaring
URL:https://seniorocity.com.au/whats-on-perth/cryptic-crosswords-group/2026-05-14/
LOCATION:Hub of the Hills\, Craig Street\, Mundaring\, WA\, Australia
CATEGORIES:Games,Social
ATTACH;FMTTYPE=image/jpeg:https://seniorocity.com.au/wp-content/uploads/2026/01/Cryptic-Crosswords-Group.jpg
END:VEVENT
BEGIN:VEVENT
DTSTART;TZID=Australia/Perth:20260514T130000
DTEND;TZID=Australia/Perth:20260514T153000
DTSTAMP:20260424T030043
CREATED:20260207T135556Z
LAST-MODIFIED:20260207T135556Z
UID:10863241-1778763600-1778772600@seniorocity.com.au
SUMMARY:Table tennis
DESCRIPTION:If you are aged over 55 years come along and enjoy a few hours playing table tennis at the Duncraig Seniors’ Club every Thursday afternoon.
URL:https://seniorocity.com.au/whats-on-perth/table-tennis/2026-05-14/
LOCATION:Mildenhall\, 49 Beddi Road\, Duncraig\, WA\, 6023\, Australia
CATEGORIES:Club,Games,Social,Sport Activities
ATTACH;FMTTYPE=image/png:https://seniorocity.com.au/wp-content/uploads/2026/02/Table-tennis.png
END:VEVENT
BEGIN:VEVENT
DTSTART;TZID=Australia/Perth:20260514T134500
DTEND;TZID=Australia/Perth:20260514T160000
DTSTAMP:20260424T030043
CREATED:20260102T075144Z
LAST-MODIFIED:20260102T080159Z
UID:10857859-1778766300-1778774400@seniorocity.com.au
SUMMARY:NOW ON WEEKLY!  The Listening Lounge - Fremantle Group!
DESCRIPTION:A welcoming space for connection\, understanding and mutual support.
URL:https://seniorocity.com.au/whats-on-perth/now-on-weekly-the-listening-lounge-fremantle-group-19/
LOCATION:Hampton House\, 33 Moss Street\, East Fremantle\, WA\, 6158\, Australia
CATEGORIES:Health
ATTACH;FMTTYPE=image/jpeg:https://seniorocity.com.au/wp-content/uploads/2026/01/f7784d010f62842c46d0bec8424fdcca.jpg
END:VEVENT
BEGIN:VEVENT
DTSTART;TZID=Australia/Perth:20260514T140000
DTEND;TZID=Australia/Perth:20260514T150000
DTSTAMP:20260424T030043
CREATED:20250116T103431Z
LAST-MODIFIED:20250116T103431Z
UID:10017453-1778767200-1778770800@seniorocity.com.au
SUMMARY:Digital Drop-In
DESCRIPTION:Need some help with your phone or tablet? \nWant to learn new digital skills? Get online or master your smartphone? \nThis is the group for you! \n\nBring your device along to our free Digital Drop-In every Thursday\, 2pm – 3pm at Murray Library. \nAll welcome! No need to register.
URL:https://seniorocity.com.au/whats-on-perth/digital-drop-in/2026-05-14/
LOCATION:Murray Library\, Pinjarra Road\, Pinjarra\, WA\, 6208\, Australia
CATEGORIES:Free,Library Events,Tech
ATTACH;FMTTYPE=image/png:https://seniorocity.com.au/wp-content/uploads/2025/01/Digital-Drop-In.png
END:VEVENT
BEGIN:VEVENT
DTSTART;TZID=Australia/Perth:20260514T140000
DTEND;TZID=Australia/Perth:20260514T160000
DTSTAMP:20260424T030043
CREATED:20260102T091143Z
LAST-MODIFIED:20260102T091143Z
UID:10858633-1778767200-1778774400@seniorocity.com.au
SUMMARY:Men's Social Group
DESCRIPTION:This group is for men interested in meeting and socialising \ntogether. Enjoy the conversation and attend activities regularly \norganised by the group. \nNew members are welcome. \nFirst time attendees are advised to come to the first session of the month as the second session held the fourth Thursday of the Month is out and about. \nRegistrations are not required.
URL:https://seniorocity.com.au/whats-on-perth/mens-social-group-5/2026-05-14/
LOCATION:Armadale Library\, Armadale Central Shopping Centre\, Shop 64/10 Armadale Central Shopping Centre\, Orchard Ave\, Armadale WA 6112\, Armadale\, Australia
CATEGORIES:Free,Library Events,Social
ATTACH;FMTTYPE=image/jpeg:https://seniorocity.com.au/wp-content/uploads/2026/01/Mens-Social-Group.jpg
GEO:-32.153;116.015
X-APPLE-STRUCTURED-LOCATION;VALUE=URI;X-ADDRESS=Armadale Library Armadale Central Shopping Centre Shop 64/10 Armadale Central Shopping Centre Orchard Ave Armadale WA 6112 Armadale Australia;X-APPLE-RADIUS=500;X-TITLE=Armadale Central Shopping Centre\, Shop 64/10 Armadale Central Shopping Centre\, Orchard Ave\, Armadale WA 6112:geo:116.015,-32.153
END:VEVENT
BEGIN:VEVENT
DTSTART;TZID=Australia/Perth:20260514T140000
DTEND;TZID=Australia/Perth:20260514T160000
DTSTAMP:20260424T030043
CREATED:20260303T141231Z
LAST-MODIFIED:20260303T141231Z
UID:10864054-1778767200-1778774400@seniorocity.com.au
SUMMARY:Board Games Group
DESCRIPTION:Board Games – Fun for everyone \nFor anyone who loves to play board games or wants to learn to play. Bring a friend or neighbour. Games like bingo\, Mexican train and scrabble are played regularly.
URL:https://seniorocity.com.au/whats-on-perth/board-games-group/2026-05-14/
LOCATION:Blue Gum Community Centre\, 33 Moolyeen Road\, Brentwood\, WA\, 6153\, Australia
CATEGORIES:Games,Meet New People,Social
ATTACH;FMTTYPE=image/jpeg:https://seniorocity.com.au/wp-content/uploads/2026/03/Board-Games-Group.jpg
END:VEVENT
END:VCALENDAR