BEGIN:VCALENDAR
VERSION:2.0
PRODID:-//Seniorocity - Seniors / Over 55&#039;s Guide to Perth - ECPv6.15.11//NONSGML v1.0//EN
CALSCALE:GREGORIAN
METHOD:PUBLISH
X-ORIGINAL-URL:https://seniorocity.com.au
X-WR-CALDESC:Events for Seniorocity - Seniors / Over 55&#039;s Guide to Perth
REFRESH-INTERVAL;VALUE=DURATION:PT1H
X-Robots-Tag:noindex
X-PUBLISHED-TTL:PT1H
BEGIN:VTIMEZONE
TZID:Australia/Perth
BEGIN:STANDARD
TZOFFSETFROM:+0800
TZOFFSETTO:+0800
TZNAME:AWST
DTSTART:20250101T000000
END:STANDARD
END:VTIMEZONE
BEGIN:VEVENT
DTSTART;TZID=Australia/Perth:20260411T110000
DTEND;TZID=Australia/Perth:20260411T223000
DTSTAMP:20260423T065523
CREATED:20260324T135046Z
LAST-MODIFIED:20260324T135046Z
UID:10865116-1775905200-1775946600@seniorocity.com.au
SUMMARY:Perth Italian Festival 2026
DESCRIPTION:𝗖𝗶𝗮𝗼 𝗣𝗲𝗿𝘁𝗵! 𝗧𝗵𝗲 𝗣𝗲𝗿𝘁𝗵 𝗜𝘁𝗮𝗹𝗶𝗮𝗻 𝗙𝗲𝘀𝘁𝗶𝘃𝗮𝗹 𝗶𝘀 𝗯𝗮𝗰𝗸 𝗳𝗼𝗿 𝟮𝟬𝟮𝟲!\n\nGet ready to celebrate la dolce vita at Langley Park on Saturday 11 April 2026\, a full day of Italian food\, music\, culture and community.\n Indulge in authentic Italian cuisine – from pasta\, pizza\, and gelato to delicious zeppole! Enjoy live entertainment\, traditional performances and vibrant Italian music. Admire a stunning display of classic and luxury Italian cars. Relax with a refreshing spritz\, birra\, or a glass of vino! Explore the Italian market with crafts\, gifts and specialty products. Fun for the whole family plus\, don’t miss the spectacular fireworks.\nMark your calendars and invite your amici to enjoy a celebration of everything Italian.\n\n𝗦𝗮𝘁𝘂𝗿𝗱𝗮𝘆 𝟭𝟭 𝗔𝗽𝗿𝗶𝗹 𝟮𝟬𝟮𝟲𝗟𝗮𝗻𝗴𝗹𝗲𝘆 𝗣𝗮𝗿𝗸\, 𝗣𝗲𝗿𝘁𝗵𝟭𝟭:𝟬𝟬 𝗔𝗠 – 𝟭𝟬:𝟯𝟬 𝗣𝗠\n\nSave the date and stay tuned for highlights and announcements!
URL:https://seniorocity.com.au/whats-on-perth/perth-italian-festival-2026/
LOCATION:Langley Park\, Perth\, WA\, Australia
CATEGORIES:Community Event,Festival,Free
ATTACH;FMTTYPE=image/jpeg:https://seniorocity.com.au/wp-content/uploads/2026/03/Perth-Italian-Festival-2026.jpg
END:VEVENT
BEGIN:VEVENT
DTSTART;TZID=Australia/Perth:20260411T130000
DTEND;TZID=Australia/Perth:20260411T140000
DTSTAMP:20260423T065523
CREATED:20260314T153748Z
LAST-MODIFIED:20260314T153748Z
UID:10864285-1775912400-1775916000@seniorocity.com.au
SUMMARY:Seated Tai Chi Saturdays @ Mirrabooka
DESCRIPTION:Seated and Wheelchair Authentic Yang Style Tai Chi is a low impact gentle form of exercise that promotes long life through improved health and well-being. Comfortable loose-fitting clothing to allow body movement is recommended. \nAll ages and abilities\, carers and support workers welcome. \nSeven Stars Tai Chi Association of Australia Incorporated is a registered not-for-profit association. In memory of Grandmaster Fu Sheng Yuan (1931 – 2017).
URL:https://seniorocity.com.au/whats-on-perth/seated-tai-chi-saturdays-mirrabooka/2026-04-11/
LOCATION:Stirling Leisure – Mirrabooka\, 38 Ashbury Crescent\, Mirrabooka\, WA\, 6061\, Australia
CATEGORIES:Health,Sport Activities,Weekend events
ATTACH;FMTTYPE=image/jpeg:https://seniorocity.com.au/wp-content/uploads/2026/03/Seated-Tai-Chi-Saturdays-@-Mirrabooka.jpg
END:VEVENT
BEGIN:VEVENT
DTSTART;TZID=Australia/Perth:20260411T133000
DTEND;TZID=Australia/Perth:20260411T153000
DTSTAMP:20260423T065523
CREATED:20260204T091058Z
LAST-MODIFIED:20260401T143245Z
UID:10862753-1775914200-1775921400@seniorocity.com.au
SUMMARY:Make New & Mend Craft Group
DESCRIPTION:Make New & Mend  meets Sat 1:30-3:30pm\, Grove Library. Drop in any time to learn or share crochet\, knitting\, sewing. Inclusive & welcoming.
URL:https://seniorocity.com.au/whats-on-perth/make-new-mend-craft-group-10/
LOCATION:The Grove Library\, 1 Leake Street\, Peppermint Grove\, WA\, 6011\, Australia
CATEGORIES:Craft
END:VEVENT
BEGIN:VEVENT
DTSTART;TZID=Australia/Perth:20260412T110000
DTEND;TZID=Australia/Perth:20260412T140000
DTSTAMP:20260423T065523
CREATED:20250712T075130Z
LAST-MODIFIED:20260102T072954Z
UID:10785987-1775991600-1776002400@seniorocity.com.au
SUMMARY:Origami Group @ Cambridge Library (All ages)
DESCRIPTION:Learn all about the art of Japanese paper folding with some local Origami experts. All ages and abilities are welcome.
URL:https://seniorocity.com.au/whats-on-perth/origami-group-cambridge-library-all-ages-16/
LOCATION:Cambridge Library\, 99 The Boulevard\, Floreat\, WA\, 6014\, Australia
CATEGORIES:Craft,Library Events
ATTACH;FMTTYPE=image/jpeg:https://seniorocity.com.au/wp-content/uploads/2023/08/2f4b95f36195d25f112bdddb3cc7f878.jpg
GEO:-31.93669;115.79335
X-APPLE-STRUCTURED-LOCATION;VALUE=URI;X-ADDRESS=Cambridge Library 99 The Boulevard Floreat WA 6014 Australia;X-APPLE-RADIUS=500;X-TITLE=99 The Boulevard:geo:115.79335,-31.93669
END:VEVENT
BEGIN:VEVENT
DTSTART;TZID=Australia/Perth:20260413T100000
DTEND;TZID=Australia/Perth:20260413T113000
DTSTAMP:20260423T065523
CREATED:20260204T090310Z
LAST-MODIFIED:20260204T090343Z
UID:10862731-1776074400-1776079800@seniorocity.com.au
SUMMARY:Mandarin Conversation Group for Seniors
DESCRIPTION:我们是一个为年长者提供的中文会话小组，让您可以练习和提高您的普通话水平和可以社交互动，欢迎加入我们！
URL:https://seniorocity.com.au/whats-on-perth/mandarin-conversation-group-for-seniors-8/
LOCATION:Willetton Library\, 37 Burrendah Boulevard\, Willetton\, WA\, 6155\, Australia
CATEGORIES:Language Class
ATTACH;FMTTYPE=image/jpeg:https://seniorocity.com.au/wp-content/uploads/2026/02/4e7b5071f7538329f8c4d7cdbe265400.jpg
GEO:-32.0576661;115.8795741
X-APPLE-STRUCTURED-LOCATION;VALUE=URI;X-ADDRESS=Willetton Library 37 Burrendah Boulevard Willetton WA 6155 Australia;X-APPLE-RADIUS=500;X-TITLE=37 Burrendah Boulevard:geo:115.8795741,-32.0576661
END:VEVENT
BEGIN:VEVENT
DTSTART;TZID=Australia/Perth:20260413T130000
DTEND;TZID=Australia/Perth:20260413T160000
DTSTAMP:20260423T065523
CREATED:20260405T124857Z
LAST-MODIFIED:20260405T124857Z
UID:10865371-1776085200-1776096000@seniorocity.com.au
SUMMARY:TECH Connect
DESCRIPTION:Personalised help with your specific queries relating to the internet and technology.
URL:https://seniorocity.com.au/whats-on-perth/tech-connect-47/
LOCATION:Australind Public Library\, 7 Mulgara Street\, Australind\, WA\, 6233\, Australia
CATEGORIES:Tech
ATTACH;FMTTYPE=image/jpeg:https://seniorocity.com.au/wp-content/uploads/2025/07/c32d4cac6d25bcb1b7f9ffb031165fb0.jpg
END:VEVENT
BEGIN:VEVENT
DTSTART;TZID=Australia/Perth:20260413T133000
DTEND;TZID=Australia/Perth:20260413T143000
DTSTAMP:20260423T065523
CREATED:20250713T082748Z
LAST-MODIFIED:20260206T160541Z
UID:10791569-1776087000-1776090600@seniorocity.com.au
SUMMARY:Book and Movie Club
DESCRIPTION:Are you looking for a book club with a difference? Then this one is for you!
URL:https://seniorocity.com.au/whats-on-perth/book-and-movie-club-9/
LOCATION:Australind Public Library\, 7 Mulgara Street\, Australind\, WA\, 6233\, Australia
CATEGORIES:Club,Movies
ATTACH;FMTTYPE=image/jpeg:https://seniorocity.com.au/wp-content/uploads/2025/07/a9d68383f6aa5c1c885649b6c7b42e5a.jpg
END:VEVENT
BEGIN:VEVENT
DTSTART;TZID=Australia/Perth:20260413T140000
DTEND;TZID=Australia/Perth:20260413T143000
DTSTAMP:20260423T065523
CREATED:20260203T090428Z
LAST-MODIFIED:20260203T090428Z
UID:10862699-1776088800-1776090600@seniorocity.com.au
SUMMARY:Tech Help @ Wanneroo Library (Monday)
DESCRIPTION:Book in for a one-on-one session to go over whatever tech help you need.
URL:https://seniorocity.com.au/whats-on-perth/tech-help-wanneroo-library-monday-132/
LOCATION:Wanneroo Library\, 3 Rocca Way\, Wanneroo\, WA\, 6065\, Australia
CATEGORIES:Tech
ATTACH;FMTTYPE=image/jpeg:https://seniorocity.com.au/wp-content/uploads/2025/04/1846f0357c7a791a8fd4ed3d29e5a0ba.jpg
GEO:-31.750643;115.805954
X-APPLE-STRUCTURED-LOCATION;VALUE=URI;X-ADDRESS=Wanneroo Library 3 Rocca Way Wanneroo WA 6065 Australia;X-APPLE-RADIUS=500;X-TITLE=3 Rocca Way:geo:115.805954,-31.750643
END:VEVENT
BEGIN:VEVENT
DTSTART;TZID=Australia/Perth:20260413T143000
DTEND;TZID=Australia/Perth:20260413T150000
DTSTAMP:20260423T065523
CREATED:20260203T090429Z
LAST-MODIFIED:20260203T090429Z
UID:10862700-1776090600-1776092400@seniorocity.com.au
SUMMARY:Tech Help @ Wanneroo Library (Monday)
DESCRIPTION:Book in for a one-on-one session to go over whatever tech help you need.
URL:https://seniorocity.com.au/whats-on-perth/tech-help-wanneroo-library-monday-133/
LOCATION:Wanneroo Library\, 3 Rocca Way\, Wanneroo\, WA\, 6065\, Australia
CATEGORIES:Tech
ATTACH;FMTTYPE=image/jpeg:https://seniorocity.com.au/wp-content/uploads/2025/04/1846f0357c7a791a8fd4ed3d29e5a0ba.jpg
GEO:-31.750643;115.805954
X-APPLE-STRUCTURED-LOCATION;VALUE=URI;X-ADDRESS=Wanneroo Library 3 Rocca Way Wanneroo WA 6065 Australia;X-APPLE-RADIUS=500;X-TITLE=3 Rocca Way:geo:115.805954,-31.750643
END:VEVENT
BEGIN:VEVENT
DTSTART;TZID=Australia/Perth:20260413T150000
DTEND;TZID=Australia/Perth:20260413T153000
DTSTAMP:20260423T065523
CREATED:20260203T090458Z
LAST-MODIFIED:20260203T090458Z
UID:10862701-1776092400-1776094200@seniorocity.com.au
SUMMARY:Tech Help @ Wanneroo Library (Monday)
DESCRIPTION:Book in for a one-on-one session to go over whatever tech help you need.
URL:https://seniorocity.com.au/whats-on-perth/tech-help-wanneroo-library-monday-134/
LOCATION:Wanneroo Library\, 3 Rocca Way\, Wanneroo\, WA\, 6065\, Australia
CATEGORIES:Tech
ATTACH;FMTTYPE=image/jpeg:https://seniorocity.com.au/wp-content/uploads/2025/04/1846f0357c7a791a8fd4ed3d29e5a0ba.jpg
GEO:-31.750643;115.805954
X-APPLE-STRUCTURED-LOCATION;VALUE=URI;X-ADDRESS=Wanneroo Library 3 Rocca Way Wanneroo WA 6065 Australia;X-APPLE-RADIUS=500;X-TITLE=3 Rocca Way:geo:115.805954,-31.750643
END:VEVENT
BEGIN:VEVENT
DTSTART;TZID=Australia/Perth:20260413T153000
DTEND;TZID=Australia/Perth:20260413T160000
DTSTAMP:20260423T065523
CREATED:20260203T090458Z
LAST-MODIFIED:20260203T090458Z
UID:10862702-1776094200-1776096000@seniorocity.com.au
SUMMARY:Tech Help @ Wanneroo Library (Monday)
DESCRIPTION:Book in for a one-on-one session to go over whatever tech help you need.
URL:https://seniorocity.com.au/whats-on-perth/tech-help-wanneroo-library-monday-135/
LOCATION:Wanneroo Library\, 3 Rocca Way\, Wanneroo\, WA\, 6065\, Australia
CATEGORIES:Tech
ATTACH;FMTTYPE=image/jpeg:https://seniorocity.com.au/wp-content/uploads/2025/04/1846f0357c7a791a8fd4ed3d29e5a0ba.jpg
GEO:-31.750643;115.805954
X-APPLE-STRUCTURED-LOCATION;VALUE=URI;X-ADDRESS=Wanneroo Library 3 Rocca Way Wanneroo WA 6065 Australia;X-APPLE-RADIUS=500;X-TITLE=3 Rocca Way:geo:115.805954,-31.750643
END:VEVENT
BEGIN:VEVENT
DTSTART;TZID=Australia/Perth:20260413T174500
DTEND;TZID=Australia/Perth:20260413T200000
DTSTAMP:20260423T065523
CREATED:20260102T080717Z
LAST-MODIFIED:20260204T145856Z
UID:10858129-1776102300-1776110400@seniorocity.com.au
SUMMARY:NEW! Listening Lounge Mental Health Peer Support Group - Joondalup
DESCRIPTION:A welcoming space for connection\, understanding and mutual support.
URL:https://seniorocity.com.au/whats-on-perth/new-listening-lounge-mental-health-peer-support-group-joondalup-12/
LOCATION:Joondalup Family Centre\, 25 Jolstra Crescent\, Joondalup\, WA\, 6027\, Australia
CATEGORIES:Health
ATTACH;FMTTYPE=image/jpeg:https://seniorocity.com.au/wp-content/uploads/2026/01/633e950438bb36cdcb2805d326328360.jpg
END:VEVENT
BEGIN:VEVENT
DTSTART;TZID=Australia/Perth:20260413T180000
DTEND;TZID=Australia/Perth:20260413T203000
DTSTAMP:20260423T065523
CREATED:20260314T160010Z
LAST-MODIFIED:20260314T160010Z
UID:10864363-1776103200-1776112200@seniorocity.com.au
SUMMARY:Art Group meetup
DESCRIPTION:If you paint\, draw\, do textiles\, craft\, love being creative or want to learn\, then this group is a welcoming space to connect\, share ideas\, grow together. \nAll skill levels are welcome — from complete beginners to experienced artists. \nOur goals are simple: \n✨ Get to know like minded people \n✨ Host creative sessions\, share inspiration and skills \n✨ Build a vibrant local art community. \nTo find out more information and register for our first meeting on Monday 16 March\, email Tristan and Jan at tristancoleman12@gmail.com. \nPlease come along for a meet and greet evening to explore ideas and set up.
URL:https://seniorocity.com.au/whats-on-perth/art-group-meetup/2026-04-13/
LOCATION:Stirling Leisure – Scarborough Community Centre\, 173 Gildercliffe Street\, Scarborough\, WA\, 6019\, Australia
CATEGORIES:Club,Library Events,Meet New People,Social,Week day events
ATTACH;FMTTYPE=image/png:https://seniorocity.com.au/wp-content/uploads/2026/03/Art-Group-meetup.png
END:VEVENT
BEGIN:VEVENT
DTSTART;TZID=Australia/Perth:20260413T190000
DTEND;TZID=Australia/Perth:20260413T200000
DTSTAMP:20260423T065523
CREATED:20250907T024545Z
LAST-MODIFIED:20251102T040827Z
UID:10855564-1776106800-1776110400@seniorocity.com.au
SUMMARY:Ballroom  and Latin Beginners Dancing Class Mondays
DESCRIPTION:Weekly Ballroom Dancing and Latin Beginners Class new dancers for Mondays from 7 to 8 pm.
URL:https://seniorocity.com.au/whats-on-perth/ballroom-and-latin-beginners-dancing-class-mondays-32/
LOCATION:Belmont Hub\, 213 Wright Street\, Cloverdale\, WA\, 6105\, Australia
CATEGORIES:Sport Activities
ATTACH;FMTTYPE=image/jpeg:https://seniorocity.com.au/wp-content/uploads/2025/09/c582fe5adf5726f7c2896c043591a1a1.jpg
GEO:-31.963159561157;115.9342880249
X-APPLE-STRUCTURED-LOCATION;VALUE=URI;X-ADDRESS=Belmont Hub 213 Wright Street Cloverdale WA 6105 Australia;X-APPLE-RADIUS=500;X-TITLE=213 Wright Street:geo:115.9342880249,-31.963159561157
END:VEVENT
BEGIN:VEVENT
DTSTART;TZID=Australia/Perth:20260413T190000
DTEND;TZID=Australia/Perth:20260413T203000
DTSTAMP:20260423T065523
CREATED:20260102T075244Z
LAST-MODIFIED:20260203T091932Z
UID:10857930-1776106800-1776112200@seniorocity.com.au
SUMMARY:Transform Your Relationships and Communication
DESCRIPTION:Learn new techniques and skills to help you communicate effectively with others\, resolve issues\, and heal and strengthen your relationships
URL:https://seniorocity.com.au/whats-on-perth/transform-your-relationships-and-communication-15/
LOCATION:Dorchester Hall\, 2 Dugdale Street\, Warwick\, WA\, 6024\, Australia
CATEGORIES:Free
ATTACH;FMTTYPE=image/jpeg:https://seniorocity.com.au/wp-content/uploads/2026/01/2d2f2c5208b06c6160bbfb3ac3185367.jpg
END:VEVENT
BEGIN:VEVENT
DTSTART;VALUE=DATE:20260414
DTEND;VALUE=DATE:20260415
DTSTAMP:20260423T065523
CREATED:20260312T133436Z
LAST-MODIFIED:20260312T133436Z
UID:10864184-1776124800-1776211199@seniorocity.com.au
SUMMARY:BOUNTY Exhibition
DESCRIPTION:A trove of printmaking in all its forms\, celebrating the value of creativity and community connection. \nHosted by the Vic Park Printmaking Collective\, a volunteer-run creative community gem for all who seek belonging through exploration\, experimentation and expression in printmaking. \nDate: 14 – 26 April \nTime: 10am-2.30pm Monday\, 10am-4pm Tuesday-Friday\, and 9am-3pm Saturday-Sunday. Closed public holidays. \nLocation: Victoria Park Centre for the Arts\, 12 Kent Street\, East Victoria Park \nCost: Free – no booking required \nThis exhibition is part of our 2026 Arts Season program. Click here for more information about Arts Season. 
URL:https://seniorocity.com.au/whats-on-perth/bounty-exhibition/2026-04-14/
LOCATION:Victoria Park Centre for the Arts\, 12 Kent Street\, East Victoria Park\, WA\, 6101\, Australia
CATEGORIES:Exhibition,Free
ATTACH;FMTTYPE=image/jpeg:https://seniorocity.com.au/wp-content/uploads/2026/03/BOUNTY-Exhibition.jpg
END:VEVENT
BEGIN:VEVENT
DTSTART;TZID=Australia/Perth:20260414T090000
DTEND;TZID=Australia/Perth:20260414T100000
DTSTAMP:20260423T065523
CREATED:20260316T144007Z
LAST-MODIFIED:20260316T144007Z
UID:10864435-1776157200-1776160800@seniorocity.com.au
SUMMARY:Living actively: Free yoga
DESCRIPTION:You’re invited to join us for a free local yoga session. \nCome down and enjoy one hour of free flowing fun\, where you can meet other locals and enjoy the outdoors. \nHosted by Suzanne Garcia from Sunflow Yoga\, all levels are welcome! Please register via the link \nTuesday 14 April\nTime: 9.00am – 10.00am\nLocation: Dryandra Pendula Reserve\, Mirrabooka\nNote: BYO yoga mat \nTo learn more about this event and the City’s Living Actively programs\, visit: www.stirling.wa.gov.au/livinglocally
URL:https://seniorocity.com.au/whats-on-perth/living-actively-free-yoga-2/
LOCATION:Dryandra Pendula Reserve\, 1 Pendula Gardens\, Mirrabooka\, WA\, 6061\, Australia
CATEGORIES:Free,Health
ATTACH;FMTTYPE=image/png:https://seniorocity.com.au/wp-content/uploads/2026/03/Living-actively-Free-yoga.png
END:VEVENT
BEGIN:VEVENT
DTSTART;TZID=Australia/Perth:20260414T100000
DTEND;TZID=Australia/Perth:20260414T110000
DTSTAMP:20260423T065523
CREATED:20260206T145650Z
LAST-MODIFIED:20260206T150815Z
UID:10863148-1776160800-1776164400@seniorocity.com.au
SUMMARY:Port Walks - General
DESCRIPTION:Stroll with us around Victoria Quay and listen as port experts tell you about different aspects of Fremantle Ports and the Inner Harbour.
URL:https://seniorocity.com.au/whats-on-perth/port-walks-general-154/
LOCATION:Fremantle Ports\, 1 Cliff Street\, Fremantle\, WA\, 6160\, Australia
CATEGORIES:Walks
ATTACH;FMTTYPE=image/jpeg:https://seniorocity.com.au/wp-content/uploads/2024/11/139bb6ca0281574198356e89e7b97636.jpg
END:VEVENT
BEGIN:VEVENT
DTSTART;TZID=Australia/Perth:20260414T100000
DTEND;TZID=Australia/Perth:20260414T113000
DTSTAMP:20260423T065523
CREATED:20260217T153438Z
LAST-MODIFIED:20260217T153438Z
UID:10863744-1776160800-1776166200@seniorocity.com.au
SUMMARY:Village Morning Tea
DESCRIPTION:A community morning tea where everyone is welcome for a chat\, peer support and some arts and crafts. Morning tea and art and craft materials supplied. \nWho: People with disability\, family members\, support workers – everyone is welcome. \nAccessibility: Accessible toilet at the library\, ACROD parking at the shopping centre\, spaces in the library to access for breaks from the group\, option to dim the\nlighting. \nThis is a free event hosted by Diversity South and supported by the City of Mandurah and the Lakelands Shopping Centre. \n** On Tuesday\, 28 October 2025 there will be a special Safety presentation to celebrate Community Safety Month.** \nEnquiries: communityaccess@diversitysouth.org.au  \nVillage Morning Tea Social Story
URL:https://seniorocity.com.au/whats-on-perth/village-morning-tea/2026-04-14/
LOCATION:City of Mandurah – Lakelands Library and Community Centre\, 49 Banksiadale Gate\, Lakelands\, WA\, 6180\, Australia
CATEGORIES:Coffee Catchup,Free,Meet New People,Morning Tea,Social
ATTACH;FMTTYPE=image/jpeg:https://seniorocity.com.au/wp-content/uploads/2026/02/Village-Morning-Tea.jpg
END:VEVENT
BEGIN:VEVENT
DTSTART;TZID=Australia/Perth:20260414T100000
DTEND;TZID=Australia/Perth:20260414T113000
DTSTAMP:20260423T065523
CREATED:20260304T095908Z
LAST-MODIFIED:20260304T095908Z
UID:10864101-1776160800-1776166200@seniorocity.com.au
SUMMARY:Canning Bridge Mural Art Tours
DESCRIPTION:We are excited to offer a new series of tours in the Canning Bridge Art Precinct\, created with support from the City of Melville. \nThese tours get you off the highway and into the real precinct. You’ll wander riverside paths\, stand beneath large-scale murals and sculptures\, and hear the behind-the-scenes stories that bring the art and the place to life. It’s relaxed\, local and a bit surprising.\nGuests tell us that they had no idea there was so much street art around Canning Bridge and love learning the fun facts about the artists and the area. \nFor more information please visit Oh Hey WA’s website. \n 
URL:https://seniorocity.com.au/whats-on-perth/canning-bridge-mural-art-tours/2026-04-14/1/
LOCATION:Canning Bridge\, Canning Bridge community space\, Applecross\, WA\, 6153\, Australia
CATEGORIES:Tour,Walk
ATTACH;FMTTYPE=image/jpeg:https://seniorocity.com.au/wp-content/uploads/2026/03/Canning-Bridge-Mural-Art-Tours.jpg
END:VEVENT
BEGIN:VEVENT
DTSTART;TZID=Australia/Perth:20260414T100000
DTEND;TZID=Australia/Perth:20260414T120000
DTSTAMP:20260423T065523
CREATED:20260109T135452Z
LAST-MODIFIED:20260109T135452Z
UID:10861298-1776160800-1776168000@seniorocity.com.au
SUMMARY:The Write Stuff
DESCRIPTION:A creative writing group that meets fortnightly every 2nd Tuesday from 10:00am to 12:00pm in the Murray Library. \nThis is a self-led group that shares the progress of their work (including short stories\, novellas\, and novels) in a supportive environment\, and offers feedback to those who request it. In the meetings\, the group uses writing prompts\, undertakes writing sprints\, and voluntarily sets their own personal homework tasks to assist with the progress of their individual projects. \nContact the library if you are interested in joining!
URL:https://seniorocity.com.au/whats-on-perth/the-write-stuff/2026-04-14/
LOCATION:Murray Library\, Pinjarra Road\, Pinjarra\, WA\, 6208\, Australia
CATEGORIES:Free,Library Events,Writers Groups
ATTACH;FMTTYPE=image/png:https://seniorocity.com.au/wp-content/uploads/2026/01/The-Write-Stuff.png
END:VEVENT
BEGIN:VEVENT
DTSTART;TZID=Australia/Perth:20260414T100000
DTEND;TZID=Australia/Perth:20260414T120000
DTSTAMP:20260423T065523
CREATED:20260204T091248Z
LAST-MODIFIED:20260401T144038Z
UID:10862793-1776160800-1776168000@seniorocity.com.au
SUMMARY:Scrabble
DESCRIPTION:Hey word enthusiasts!  Come along to our Scrabble group.  Bring your friends or join to make new ones.
URL:https://seniorocity.com.au/whats-on-perth/scrabble-73/
LOCATION:Bayswater Library\, 25 King William Street\, Bayswater\, WA\, 6053\, Australia
CATEGORIES:Games
ATTACH;FMTTYPE=image/jpeg:https://seniorocity.com.au/wp-content/uploads/2023/12/395216af19fc80e3a7d31b811f79a441.jpg
END:VEVENT
BEGIN:VEVENT
DTSTART;TZID=Australia/Perth:20260414T100000
DTEND;TZID=Australia/Perth:20260414T140000
DTSTAMP:20260423T065523
CREATED:20260323T132952Z
LAST-MODIFIED:20260323T132952Z
UID:10865108-1776160800-1776175200@seniorocity.com.au
SUMMARY:Simple Sewing to Improve Your Wardrobe
DESCRIPTION:Join Margie Dabala for a creative\, hands-on session where you’ll learn quick and easy ways to revamp your clothes and give them a fresh\, stylish twist. \nThis is a free event for ages 18+. Bookings are essential. \nFor more information contact Mary Davies Library on 9591 0800 or email rockinghamlibraries@rockingham.wa.gov.au. \nMary Davies Library and Community Centre has two ACROD parking bays (Nancy Alley)\, disabled bathroom and lift access to first floor. \nIf you have any specific needs or require accommodations in order to comfortably attend this event\, such as visual aids\, a quiet space\, or accessible seating\, please let us know. \nRegister now
URL:https://seniorocity.com.au/whats-on-perth/simple-sewing-to-improve-your-wardrobe/
LOCATION:Mary Davies Library and Community Centre\, 17 Settlers Avenue\, Baldivis\, WA\, 6171\, Australia
CATEGORIES:Craft,Free,Library Events
ATTACH;FMTTYPE=image/png:https://seniorocity.com.au/wp-content/uploads/2026/03/Simple-Sewing-to-Improve-Your-Wardrobe.png
GEO:-32.332702636719;115.81385040283
X-APPLE-STRUCTURED-LOCATION;VALUE=URI;X-ADDRESS=Mary Davies Library and Community Centre 17 Settlers Avenue Baldivis WA 6171 Australia;X-APPLE-RADIUS=500;X-TITLE=17 Settlers Avenue:geo:115.81385040283,-32.332702636719
END:VEVENT
BEGIN:VEVENT
DTSTART;TZID=Australia/Perth:20260414T103000
DTEND;TZID=Australia/Perth:20260414T113000
DTSTAMP:20260423T065523
CREATED:20260102T094915Z
LAST-MODIFIED:20260102T094915Z
UID:10858901-1776162600-1776166200@seniorocity.com.au
SUMMARY:NovelNibbles Days
DESCRIPTION:Have you read a good book lately? \nCome along to one of our NovelNibbles sessions and meet with other book lovers! \nYou may be tempted to read new and different authors\, try another genre\, or perhaps rediscover some forgotten favourites. \nBookings are not required.
URL:https://seniorocity.com.au/whats-on-perth/novelnibbles-days/2026-04-14/
LOCATION:Kelmscott Library\, 2784 Albany Highway\, Kelmscott\, WA\, 6111\, Australia
CATEGORIES:Free,Library Events
ATTACH;FMTTYPE=image/jpeg:https://seniorocity.com.au/wp-content/uploads/2026/01/NovelNibbles-Days.jpg
GEO:-32.1126577;116.0146208
X-APPLE-STRUCTURED-LOCATION;VALUE=URI;X-ADDRESS=Kelmscott Library 2784 Albany Highway Kelmscott WA 6111 Australia;X-APPLE-RADIUS=500;X-TITLE=2784 Albany Highway:geo:116.0146208,-32.1126577
END:VEVENT
BEGIN:VEVENT
DTSTART;TZID=Australia/Perth:20260414T103000
DTEND;TZID=Australia/Perth:20260414T123000
DTSTAMP:20260423T065523
CREATED:20260314T143453Z
LAST-MODIFIED:20260314T143453Z
UID:10864236-1776162600-1776169800@seniorocity.com.au
SUMMARY:Tech Tuesdays: Holiday Planning Online
DESCRIPTION:Not sure where to begin your travel plans? Join us as we explore top websites to compare prices\, research destinations\, and book online safely so you avoid scams and surprises. \nWe’ll also guide you through the new online passport application process to make sure you’re fully prepared for your well-earned getaway. \nOne hour with us could save you time and money. \nPlease book in as spaces are limited. \nThis program is suitable for adults\, aged 18+ and is a hands-on workshop. Please book one ticket for each person attending. Photography and videography may be taken at this event. Images and footage may be used by the City of Swan and event organisers for marketing and promotional purposes. \nDate and time\nTuesday\, April 14\, 2026 | 10:30 AM – 12:30 PM
URL:https://seniorocity.com.au/whats-on-perth/tech-tuesdays-holiday-planning-online/
LOCATION:Bullsbrook Public Library\, 3 Maroubra Avenue\, Bullsbrook\, WA\, 6084\, Australia
CATEGORIES:Free,Information Session,Library Events,Tech
ATTACH;FMTTYPE=image/png:https://seniorocity.com.au/wp-content/uploads/2026/03/Tech-Tuesdays-Holiday-Planning-Online.png
END:VEVENT
BEGIN:VEVENT
DTSTART;TZID=Australia/Perth:20260414T110000
DTEND;TZID=Australia/Perth:20260414T120000
DTSTAMP:20260423T065523
CREATED:20260316T145810Z
LAST-MODIFIED:20260316T145810Z
UID:10864436-1776164400-1776168000@seniorocity.com.au
SUMMARY:Be Connected - Using Canva
DESCRIPTION:Come along to learn how to create your own designs in Canva. Tea and coffee will be provided; attendees are encouraged to BYO reusable coffee cup. Bookings are essential as places are limited. \nBook now
URL:https://seniorocity.com.au/whats-on-perth/be-connected-using-canva/
LOCATION:Stirling Libraries – Dianella\, Waverley Street\, Dianella\, WA\, 6059\, Australia
CATEGORIES:Free,Library Events,Tech
ATTACH;FMTTYPE=image/png:https://seniorocity.com.au/wp-content/uploads/2026/03/Be-Connected-Using-Canva.png
END:VEVENT
BEGIN:VEVENT
DTSTART;TZID=Australia/Perth:20260414T174500
DTEND;TZID=Australia/Perth:20260414T200000
DTSTAMP:20260423T065523
CREATED:20260102T080923Z
LAST-MODIFIED:20260102T080923Z
UID:10858170-1776188700-1776196800@seniorocity.com.au
SUMMARY:Listening Lounge Mental Health Peer Support Group - Cloverdale
DESCRIPTION:A welcoming space for connection\, understanding and mutual support.
URL:https://seniorocity.com.au/whats-on-perth/listening-lounge-mental-health-peer-support-group-cloverdale-15/
LOCATION:Consumers of Mental Health WA\, 275 Belmont Avenue\, #14\, Cloverdale\, WA\, 6105\, Australia
CATEGORIES:Health
ATTACH;FMTTYPE=image/jpeg:https://seniorocity.com.au/wp-content/uploads/2026/01/daab8e42a64fba3b865f0b3d0214a624.jpg
END:VEVENT
BEGIN:VEVENT
DTSTART;TZID=Australia/Perth:20260415T090000
DTEND;TZID=Australia/Perth:20260415T100000
DTSTAMP:20260423T065523
CREATED:20260402T151808Z
LAST-MODIFIED:20260402T151845Z
UID:10865232-1776243600-1776247200@seniorocity.com.au
SUMMARY:Hi\, Tech! - Morley Library: basic 1 to 1 tech help - April to June 2026
DESCRIPTION:Get ready to level up your tech skills with personalised 1-to-1 help at Morley Library – it’s your time to shine!
URL:https://seniorocity.com.au/whats-on-perth/hi-tech-morley-library-basic-1-to-1-tech-help-april-to-june-2026-3/
LOCATION:Morley Library\, 240 Walter Road West\, Morley\, WA\, 6062\, Australia
CATEGORIES:Tech
ATTACH;FMTTYPE=image/jpeg:https://seniorocity.com.au/wp-content/uploads/2023/05/9d8a7f09914618be6e7e50f09a533e8d.jpg
END:VEVENT
BEGIN:VEVENT
DTSTART;TZID=Australia/Perth:20260415T090000
DTEND;TZID=Australia/Perth:20260415T120000
DTSTAMP:20260423T065523
CREATED:20260405T122201Z
LAST-MODIFIED:20260405T122201Z
UID:10865357-1776243600-1776254400@seniorocity.com.au
SUMMARY:Expressive Therapies: Exploring Collage for Mental Health Carers
DESCRIPTION:Join us for a supportive self-care group learning about mindfulness and how it can be incorporated into your life to positively support.
URL:https://seniorocity.com.au/whats-on-perth/expressive-therapies-exploring-collage-for-mental-health-carers/
LOCATION:Joondalup Lotteries House\, 70 Davidson Terrace\, Joondalup\, WA\, 6027\, Australia
CATEGORIES:Health
ATTACH;FMTTYPE=image/jpeg:https://seniorocity.com.au/wp-content/uploads/2026/04/c7401ac29d07d55635f5e048c31684e7.jpg
END:VEVENT
BEGIN:VEVENT
DTSTART;TZID=Australia/Perth:20260415T093000
DTEND;TZID=Australia/Perth:20260415T110000
DTSTAMP:20260423T065523
CREATED:20260401T142700Z
LAST-MODIFIED:20260401T143137Z
UID:10865170-1776245400-1776250800@seniorocity.com.au
SUMMARY:Biscuits & Blooms-  A Plant Swap Morning Tea @ Girrawheen Library
DESCRIPTION:Join us @ Girrawheen Library with our monthly Plant Swap Morning Tea.
URL:https://seniorocity.com.au/whats-on-perth/biscuits-blooms-a-plant-swap-morning-tea-girrawheen-library/
LOCATION:Girrawheen Public Library\, 6 Patrick Court\, Girrawheen\, WA\, 6064\, Australia
CATEGORIES:Morning Tea
ATTACH;FMTTYPE=image/jpeg:https://seniorocity.com.au/wp-content/uploads/2026/04/0dddd384591c839dfcac13974fa0ce10.jpg
END:VEVENT
END:VCALENDAR