BEGIN:VCALENDAR
VERSION:2.0
PRODID:-//Seniorocity - Seniors / Over 55&#039;s Guide to Perth - ECPv6.15.11//NONSGML v1.0//EN
CALSCALE:GREGORIAN
METHOD:PUBLISH
X-WR-CALNAME:Seniorocity - Seniors / Over 55&#039;s Guide to Perth
X-ORIGINAL-URL:https://seniorocity.com.au
X-WR-CALDESC:Events for Seniorocity - Seniors / Over 55&#039;s Guide to Perth
REFRESH-INTERVAL;VALUE=DURATION:PT1H
X-Robots-Tag:noindex
X-PUBLISHED-TTL:PT1H
BEGIN:VTIMEZONE
TZID:Australia/Perth
BEGIN:STANDARD
TZOFFSETFROM:+0800
TZOFFSETTO:+0800
TZNAME:AWST
DTSTART:20250101T000000
END:STANDARD
END:VTIMEZONE
BEGIN:VEVENT
DTSTART;TZID=Australia/Perth:20260204T140000
DTEND;TZID=Australia/Perth:20260204T150000
DTSTAMP:20260423T115758
CREATED:20260102T074318Z
LAST-MODIFIED:20260203T085352Z
UID:10857681-1770213600-1770217200@seniorocity.com.au
SUMMARY:Hi\, Tech! Maylands Library: basic 1-to-1 tech help - January-March 2026
DESCRIPTION:Get ready to level up your IT skills with personalised 1-to-1 help at Maylands Library – it’s your time to shine!
URL:https://seniorocity.com.au/whats-on-perth/hi-tech-maylands-library-basic-1-to-1-tech-help-january-march-2026-10/
LOCATION:Maylands Public Library\, The RISE\, 28 Eighth Avenue\, Maylands\, WA\, 6051\, Australia
CATEGORIES:Tech
ATTACH;FMTTYPE=image/jpeg:https://seniorocity.com.au/wp-content/uploads/2024/07/47d27fc431d8516939cc37f1f8af6de5.jpg
GEO:-31.9310445;115.8948571
X-APPLE-STRUCTURED-LOCATION;VALUE=URI;X-ADDRESS=Maylands Public Library The RISE 28 Eighth Avenue Maylands WA 6051 Australia;X-APPLE-RADIUS=500;X-TITLE=The RISE\, 28 Eighth Avenue:geo:115.8948571,-31.9310445
END:VEVENT
BEGIN:VEVENT
DTSTART;TZID=Australia/Perth:20260204T173000
DTEND;TZID=Australia/Perth:20260204T183000
DTSTAMP:20260423T115758
CREATED:20260113T145805Z
LAST-MODIFIED:20260113T145805Z
UID:10861716-1770226200-1770229800@seniorocity.com.au
SUMMARY:Garden Ecology
DESCRIPTION:Curious about companion planting? \nTake your gardening skills to the next level and learn how to boost both the beauty and productivity of your garden. \nThis workshop explores how plants naturally form communities in nature and why this is so important for our local biodiversity and a healthy garden. \nStay after for a cuppa and a chat. \nRegistrations essential\, priority given to City of Vincent residents.
URL:https://seniorocity.com.au/whats-on-perth/garden-ecology/
LOCATION:City of Vincent Community Centre\, 99 Loftus Street\, Leederville\, WA\, 6007\, Australia
CATEGORIES:Free,Gardening & Environment,Workshop
ATTACH;FMTTYPE=image/jpeg:https://seniorocity.com.au/wp-content/uploads/2026/01/Garden-Ecology.jpg
END:VEVENT
BEGIN:VEVENT
DTSTART;TZID=Australia/Perth:20260204T190000
DTEND;TZID=Australia/Perth:20260204T200000
DTSTAMP:20260423T115758
CREATED:20260102T073856Z
LAST-MODIFIED:20260102T074648Z
UID:10857667-1770231600-1770235200@seniorocity.com.au
SUMMARY:Free Fringe Comedy Gala
DESCRIPTION:Free Fringe Comedy Gala showcases the festival’s sharpest comedians every Wednesday & Thursday! Yes! The tickets are free!
URL:https://seniorocity.com.au/whats-on-perth/free-fringe-comedy-gala-5/
LOCATION:Universal Bar\, 221 William Street\, Perth\, WA\, 6003\, Australia
CATEGORIES:Free
ATTACH;FMTTYPE=image/jpeg:https://seniorocity.com.au/wp-content/uploads/2026/01/63e84f0383319136e7a550bb92a807ca.jpg
END:VEVENT
BEGIN:VEVENT
DTSTART;TZID=Australia/Perth:20260204T190000
DTEND;TZID=Australia/Perth:20260204T210000
DTSTAMP:20260423T115758
CREATED:20260102T073552Z
LAST-MODIFIED:20260203T085037Z
UID:10857615-1770231600-1770238800@seniorocity.com.au
SUMMARY:HILTON HAHAS
DESCRIPTION:New material Comedy Night\, come get a 1/2 priced dinner and have a laugh at some fresh new comedy !!
URL:https://seniorocity.com.au/whats-on-perth/hilton-hahas-5/
LOCATION:South Street Ale House & Bottleshop\, 277 South Street\, Hilton\, WA\, 6163\, Australia
CATEGORIES:Free,Theatre & Shows
ATTACH;FMTTYPE=image/jpeg:https://seniorocity.com.au/wp-content/uploads/2026/01/d1384d782c9a02cbe61db6a5afb92cd0.jpg
END:VEVENT
BEGIN:VEVENT
DTSTART;TZID=Australia/Perth:20260204T190000
DTEND;TZID=Australia/Perth:20260204T210000
DTSTAMP:20260423T115758
CREATED:20260106T151639Z
LAST-MODIFIED:20260106T151639Z
UID:10861013-1770231600-1770238800@seniorocity.com.au
SUMMARY:City Beats Disco for Over 55’s – Kick off 2026 with a Boogie!
DESCRIPTION:City Beats Disco for Over 55’s is back Wednesday 4 February and we’re ready to groove \nCity Beats Disco for Over 55’s is back Wednesday 4 February\, and we’re starting the year with a packed dance floor and plenty of disco magic! Our DJ will be spinning pure disco energy: upbeat\, funky and dance-ready tracks from the 70s\, 80s and beyond. \nIt’s mid-summer\, it’s hot\, and we’re ready to groove – so dress to dance! Whether you sparkle\, shimmer or keep it cool and comfy\, we can’t wait to see your style on the floor. \nWhat to Expect:\nFeel-Good Vibes: Classic disco hits and timeless tunes that’ll keep you on your feet.\nPhoto Fun: Snap unforgettable moments at our free photobooth -props and big smiles included!\nBar Refreshments: Enjoy a variety of drinks (cashless bar)\, from soft drinks to wine\, beer\, and bubbly. \nTickets are limited and always sell fast! \nBook this event
URL:https://seniorocity.com.au/whats-on-perth/city-beats-disco-for-over-55s-kick-off-2026-with-a-boogie/
LOCATION:City of Melville Civic Centre\, 10 Almondbury Rd\, Booragoon\, WA\, 6154\, Australia
CATEGORIES:Meet New People,Music Event,Social,Social event
ATTACH;FMTTYPE=image/jpeg:https://seniorocity.com.au/wp-content/uploads/2026/01/City-Beats-Disco-for-Over-55s-–-Kick-off-2026-with-a-Boogie.jpg
END:VEVENT
BEGIN:VEVENT
DTSTART;TZID=Australia/Perth:20260204T191500
DTEND;TZID=Australia/Perth:20260204T201500
DTSTAMP:20260423T115758
CREATED:20250713T072933Z
LAST-MODIFIED:20260102T081001Z
UID:10791354-1770232500-1770236100@seniorocity.com.au
SUMMARY:FREE Community Yoga
DESCRIPTION:A class taught by teachers in training. Free of charge.
URL:https://seniorocity.com.au/whats-on-perth/free-community-yoga-30/
LOCATION:The Yoga Space\, 79 Colin Street\, #6\, West Perth\, WA\, 6005\, Australia
CATEGORIES:Free
ATTACH;FMTTYPE=image/jpeg:https://seniorocity.com.au/wp-content/uploads/2025/07/620679d6cce180570dcf21a88ec64011.jpg
END:VEVENT
BEGIN:VEVENT
DTSTART;TZID=Australia/Perth:20260205T090000
DTEND;TZID=Australia/Perth:20260205T100000
DTSTAMP:20260423T115758
CREATED:20260111T124853Z
LAST-MODIFIED:20260111T124853Z
UID:10861469-1770282000-1770285600@seniorocity.com.au
SUMMARY:Get Active Outdoors
DESCRIPTION:Ready to get fitter\, meet new people and soak up the fresh air? Join us for free group workout sessions using the City’s outdoor gym equipment at Lions Park. \nThese sessions will be led by qualified personal trainers from Aqua Jetty and are perfect for all fitness levels\, whether you’re new to exercise or looking to build confidence. You’ll receive simple\, practical tips to help you train safely and make the most of the outdoor gym. \nWhat to expect: \n\nguided\, supervised exercise sessions led by qualified personal trainers\nsimple tips to help you train safely and confidently\na welcoming space for all fitness levels\, ages and abilities.\n\nDon’t forget to bring a water bottle\, wear comfy clothes and bring a hat\, apply your sunscreen and get ready to get fit in the fresh air. \nRegister your spot and join us for some sunshine\, movement and community spirit. \nFind more outdoor gyms around the City and exercise video guides visit Outdoor gyms. \nRegister now
URL:https://seniorocity.com.au/whats-on-perth/get-active-outdoors-2/
LOCATION:Lions Park Shoalwater\, Arcadia Drive\, Shoalwater\, WA\, 6169\, Australia
CATEGORIES:Free,Health,Sport Activities
ATTACH;FMTTYPE=image/jpeg:https://seniorocity.com.au/wp-content/uploads/2026/01/Get-Active-Outdoors.jpg
END:VEVENT
BEGIN:VEVENT
DTSTART;TZID=Australia/Perth:20260205T093000
DTEND;TZID=Australia/Perth:20260205T103000
DTSTAMP:20260423T115758
CREATED:20260102T080230Z
LAST-MODIFIED:20260204T145416Z
UID:10858071-1770283800-1770287400@seniorocity.com.au
SUMMARY:Tech Connect @ Wanneroo Library
DESCRIPTION:FREE weekly morning tea to connect with others and get more comfortable with technology.
URL:https://seniorocity.com.au/whats-on-perth/tech-connect-wanneroo-library-5/
LOCATION:Wanneroo Library and Cultural Centre\, 3 Rocca Way\, Wanneroo\, WA\, 6065\, Australia
CATEGORIES:Tech
ATTACH;FMTTYPE=image/jpeg:https://seniorocity.com.au/wp-content/uploads/2026/01/0cf7f50887955559e3bbd40a37b621a8.jpg
END:VEVENT
BEGIN:VEVENT
DTSTART;TZID=Australia/Perth:20260205T093000
DTEND;TZID=Australia/Perth:20260205T113000
DTSTAMP:20260423T115758
CREATED:20260111T130357Z
LAST-MODIFIED:20260111T130357Z
UID:10861481-1770283800-1770291000@seniorocity.com.au
SUMMARY:Adult English Conversation Group
DESCRIPTION:Meet new people in the community and practice everyday English through conversation. Suitable for adults with beginner English levels for lifelong learning. \nEveryone welcome. Weekly with no need to book. School term times only. \nFor further information contact Rockingham Library on 9528 8683 or email rockinghamlibraries@rockingham.wa.gov.au \nTwo ACROD parking bays are available\, along with a drop-off and pick-up zone. The library also has an accessible bathroom and lift access to the first floor. \nIf you have any specific needs or require accommodations in order to comfortably attend this event\, such as visual aids\, a quiet space or accessible seating\, please let us know. \nRegister now
URL:https://seniorocity.com.au/whats-on-perth/adult-english-conversation-group/
LOCATION:Rockingham Library\, 107 Dixon Road\, #Campus\, Building\, Rockingham\, WA\, 6168\, Australia
CATEGORIES:Free,Library Events
ATTACH;FMTTYPE=image/png:https://seniorocity.com.au/wp-content/uploads/2026/01/Adult-English-Conversation-Group.png
END:VEVENT
BEGIN:VEVENT
DTSTART;TZID=Australia/Perth:20260205T093000
DTEND;TZID=Australia/Perth:20260205T120000
DTSTAMP:20260423T115758
CREATED:20260102T074612Z
LAST-MODIFIED:20260203T090229Z
UID:10857725-1770283800-1770292800@seniorocity.com.au
SUMMARY:Art for Art's Sake - Social Art Group for Adults
DESCRIPTION:Enjoy a relaxed\, welcoming space where you can work on your own projects alongside fellow artists.
URL:https://seniorocity.com.au/whats-on-perth/art-for-arts-sake-social-art-group-for-adults-15/
LOCATION:Maylands Public Library\, The RISE\, 28 Eighth Avenue\, Maylands\, WA\, 6051\, Australia
CATEGORIES:Free,Library Events
ATTACH;FMTTYPE=image/jpeg:https://seniorocity.com.au/wp-content/uploads/2025/10/403cde6a2174f39678d165fd948c9cc5.jpg
GEO:-31.9310445;115.8948571
X-APPLE-STRUCTURED-LOCATION;VALUE=URI;X-ADDRESS=Maylands Public Library The RISE 28 Eighth Avenue Maylands WA 6051 Australia;X-APPLE-RADIUS=500;X-TITLE=The RISE\, 28 Eighth Avenue:geo:115.8948571,-31.9310445
END:VEVENT
BEGIN:VEVENT
DTSTART;TZID=Australia/Perth:20260205T093000
DTEND;TZID=Australia/Perth:20260205T140000
DTSTAMP:20260423T115758
CREATED:20260106T152136Z
LAST-MODIFIED:20260106T152136Z
UID:10861014-1770283800-1770300000@seniorocity.com.au
SUMMARY:Upcycle Sewing - Make a Bag or Purse
DESCRIPTION:Bring old clothes or even a tea towel and we can upcycle them into a fabulous bag or purse! \nBring a pair of trousers\, jeans or T-shirt you can’t wear anymore and watch as we transform them into a fabulous bag or purse!\nPrior sewing machine experience is recommended\, 2 sewing machines will be provided. \nBook this event
URL:https://seniorocity.com.au/whats-on-perth/upcycle-sewing-make-a-bag-or-purse-2/
LOCATION:City of Melville EcoHub\, 555 Leach Highway\, Winthrop\, WA\, 6150\, Australia
CATEGORIES:Activity Class,Workshop
ATTACH;FMTTYPE=image/png:https://seniorocity.com.au/wp-content/uploads/2026/01/Upcycle-Sewing-Make-a-Bag-or-Purse-2.png
END:VEVENT
BEGIN:VEVENT
DTSTART;TZID=Australia/Perth:20260205T100000
DTEND;TZID=Australia/Perth:20260205T120000
DTSTAMP:20260423T115758
CREATED:20260106T152610Z
LAST-MODIFIED:20260106T152610Z
UID:10861015-1770285600-1770292800@seniorocity.com.au
SUMMARY:Life Skills and Well Being Workshops
DESCRIPTION:Join CoMHWA with their mission to building connection and supporting each other in the community with a coffee and a yarn! \n\n\n\n\nJoin Elaine\, Engagement and In-reach Co-Ordinator for COMHWA\, in this monthly catchup. Come along and have coffee and a yarn\, share stories and explore ways to live a happier and more meaningful life. Light morning tea provided\, open to all.\nNo need to book just turn up! Led by Consumers of Mental Health WA.\nThis group runs the 1st Friday of every month\, from 10am-12pm and is located at the Willagee Community Centre
URL:https://seniorocity.com.au/whats-on-perth/life-skills-and-well-being-workshops/2026-02-05/
LOCATION:Willagee Community Centre\, 41 Winnacott Street\, Willagee\, WA\, 6156\, Australia
CATEGORIES:Coffee Catchup,Free,Health,Workshop
ATTACH;FMTTYPE=image/jpeg:https://seniorocity.com.au/wp-content/uploads/2026/01/Life-Skills-and-Well-Being-Workshops.jpg
END:VEVENT
BEGIN:VEVENT
DTSTART;TZID=Australia/Perth:20260205T100000
DTEND;TZID=Australia/Perth:20260205T120000
DTSTAMP:20260423T115758
CREATED:20260108T085422Z
LAST-MODIFIED:20260108T085422Z
UID:10861097-1770285600-1770292800@seniorocity.com.au
SUMMARY:Seniors Craft Group
DESCRIPTION:Cost is $2 and includes refreshments. Proudly supported by Shire of Mundaring. \n\n\n\n\n\n\nTime: 10am to 12pm \nLocation: The Hub of the Hills\, 8 Craig Street\, Mundaring
URL:https://seniorocity.com.au/whats-on-perth/seniors-craft-group/2026-02-05/
LOCATION:Hub of the Hills\, Craig Street\, Mundaring\, WA\, Australia
CATEGORIES:Craft,Social
ATTACH;FMTTYPE=image/jpeg:https://seniorocity.com.au/wp-content/uploads/2026/01/Seniors-Craft-Group.jpg
END:VEVENT
BEGIN:VEVENT
DTSTART;TZID=Australia/Perth:20260205T100000
DTEND;TZID=Australia/Perth:20260205T120000
DTSTAMP:20260423T115758
CREATED:20260113T124649Z
LAST-MODIFIED:20260113T124649Z
UID:10861513-1770285600-1770292800@seniorocity.com.au
SUMMARY:Bin there\, sorted that | FOGO Workshop
DESCRIPTION:Get ready to talk rubbish – the fun kind! ♻️💚 \nJoin us at the Harold Hawthorn Community Centre on 5 February for a hands-on introduction to FOGO (Food Organics and Garden Organics)! \nThis free session will help residents understand how the new three-bin system works\, what goes where\, and how small changes at home can make a big difference for our environment. \nExpect practical tips\, live demonstrations\, and plenty of time for Q&A. Come along\, get confident with FOGO\, and feel supported as we transition to a cleaner\, greener waste system together. \nBookings are essential and can be made online here. Alternatively\, contact the Town on 9311 8111 or admin@vicpark.wa.gov.au
URL:https://seniorocity.com.au/whats-on-perth/bin-there-sorted-that-fogo-workshop/
LOCATION:Harold Hawthorne Community Centre\, 2 Memorial Ave\, Carlisle\, WA\, 6101\, Australia
CATEGORIES:Free,Information Session
ATTACH;FMTTYPE=image/png:https://seniorocity.com.au/wp-content/uploads/2026/01/Bin-there-sorted-that-FOGO-Workshop.png
END:VEVENT
BEGIN:VEVENT
DTSTART;TZID=Australia/Perth:20260205T110000
DTEND;TZID=Australia/Perth:20260205T223000
DTSTAMP:20260423T115758
CREATED:20260112T122004Z
LAST-MODIFIED:20260112T122004Z
UID:10861495-1770289200-1770330600@seniorocity.com.au
SUMMARY:FringeConnect Stirling @ Scarborough
DESCRIPTION:FringeConnect Stirling is a vibrant Fringe World hub located at the Scarborough Sports and Community Club. Held from the 5 -15 February 2026 and showcasing an exciting mix of more than 50 local and international artists you won’t want to miss. The program features comedy\, cabaret\, circus\, music\, kids’ entertainment and late-night shows. \nWith two intimate performance spaces\, a relaxed community atmosphere\, and something on offer from morning to midnight\, FringeConnect Stirling is the perfect place to discover fresh talent\, support independent artists\, and soak up the summer festival vibe. \nProudly supported by the City of Stirling’s Community Grants Program. \n Book now
URL:https://seniorocity.com.au/whats-on-perth/fringeconnect-stirling-scarborough/2026-02-05/
LOCATION:Scarborough Sports and Community Club\, Deanmore Rd\, Scarborough\, WA\, 6019\, Australia
CATEGORIES:Fringe
ATTACH;FMTTYPE=image/gif:https://seniorocity.com.au/wp-content/uploads/2026/01/FringeConnect-Stirling-@-Scarborough.gif
END:VEVENT
BEGIN:VEVENT
DTSTART;TZID=Australia/Perth:20260205T120000
DTEND;TZID=Australia/Perth:20260205T140000
DTSTAMP:20260423T115758
CREATED:20260111T125302Z
LAST-MODIFIED:20260111T125302Z
UID:10861470-1770292800-1770300000@seniorocity.com.au
SUMMARY:First Thursday Films
DESCRIPTION:Enjoy a free lunch time film at the Safety Bay Library. Tea and coffee supplied. \nThis is a free event for ages 18+. \nBookings are essential and will open Thursday 8 January. \nFor further information contact Safety Bay Library on 9528 8611 or rockinghamlibraries@rockingham.wa.gov.au.\nRegister now
URL:https://seniorocity.com.au/whats-on-perth/first-thursday-films/2026-02-05/
LOCATION:Safety Bay Library\, 197 Safety Bay Road\, Safety Bay\, WA\, 6169\, Australia
CATEGORIES:Free,Movies
ATTACH;FMTTYPE=image/jpeg:https://seniorocity.com.au/wp-content/uploads/2026/01/First-Thursday-Films.jpg
END:VEVENT
BEGIN:VEVENT
DTSTART;TZID=Australia/Perth:20260205T123000
DTEND;TZID=Australia/Perth:20260205T140000
DTSTAMP:20260423T115758
CREATED:20260203T085736Z
LAST-MODIFIED:20260203T090200Z
UID:10862656-1770294600-1770300000@seniorocity.com.au
SUMMARY:Kensington Ability Dance
DESCRIPTION:Join us for a fun\, inclusive dance class designed especially for people with an intellectual disability. Delivered by DanceSport coaches.
URL:https://seniorocity.com.au/whats-on-perth/kensington-ability-dance/
LOCATION:Moresby Street Hall\, 4 Moresby Street\, Kensington\, WA\, 6151\, Australia
CATEGORIES:Free
ATTACH;FMTTYPE=image/jpeg:https://seniorocity.com.au/wp-content/uploads/2026/02/adceed0625e731f962d3ba11441c831e.jpg
END:VEVENT
BEGIN:VEVENT
DTSTART;TZID=Australia/Perth:20260205T130000
DTEND;TZID=Australia/Perth:20260205T140000
DTSTAMP:20260423T115758
CREATED:20260102T073436Z
LAST-MODIFIED:20260204T090923Z
UID:10857584-1770296400-1770300000@seniorocity.com.au
SUMMARY:Hi\, Tech! Bayswater Library:  basic 1-to-1 tech help- January to March 2026
DESCRIPTION:Get ready to level up your tech skills with personalised 1-to-1 help at Bayswater Library – it’s your time to shine!
URL:https://seniorocity.com.au/whats-on-perth/hi-tech-bayswater-library-basic-1-to-1-tech-help-january-to-march-2026-22/
LOCATION:Bayswater Library\, 25 King William Street\, Bayswater\, WA\, 6053\, Australia
CATEGORIES:Tech
ATTACH;FMTTYPE=image/jpeg:https://seniorocity.com.au/wp-content/uploads/2023/04/558c99d491271827e52d2dce5803d12d.jpg
END:VEVENT
BEGIN:VEVENT
DTSTART;TZID=Australia/Perth:20260205T130000
DTEND;TZID=Australia/Perth:20260205T150000
DTSTAMP:20260423T115758
CREATED:20260108T085836Z
LAST-MODIFIED:20260108T085836Z
UID:10861142-1770296400-1770303600@seniorocity.com.au
SUMMARY:Cryptic Crosswords Group
DESCRIPTION:All levels welcome. Cost is $2\, includes refreshments. \n\n\n\n\n\n\nTime: 1pm to 3pm \nLocation: The Hub of the Hills\, 8 Craig Street\, Mundaring
URL:https://seniorocity.com.au/whats-on-perth/cryptic-crosswords-group/2026-02-05/
LOCATION:Hub of the Hills\, Craig Street\, Mundaring\, WA\, Australia
CATEGORIES:Games,Social
ATTACH;FMTTYPE=image/jpeg:https://seniorocity.com.au/wp-content/uploads/2026/01/Cryptic-Crosswords-Group.jpg
END:VEVENT
BEGIN:VEVENT
DTSTART;TZID=Australia/Perth:20260205T134500
DTEND;TZID=Australia/Perth:20260205T160000
DTSTAMP:20260423T115758
CREATED:20260102T075104Z
LAST-MODIFIED:20260102T080121Z
UID:10857845-1770299100-1770307200@seniorocity.com.au
SUMMARY:NOW ON WEEKLY!  The Listening Lounge - Fremantle Group!
DESCRIPTION:A welcoming space for connection\, understanding and mutual support.
URL:https://seniorocity.com.au/whats-on-perth/now-on-weekly-the-listening-lounge-fremantle-group-5/
LOCATION:Hampton House\, 33 Moss Street\, East Fremantle\, WA\, 6158\, Australia
CATEGORIES:Health
ATTACH;FMTTYPE=image/jpeg:https://seniorocity.com.au/wp-content/uploads/2026/01/f7784d010f62842c46d0bec8424fdcca.jpg
END:VEVENT
BEGIN:VEVENT
DTSTART;TZID=Australia/Perth:20260205T140000
DTEND;TZID=Australia/Perth:20260205T150000
DTSTAMP:20260423T115758
CREATED:20260102T073437Z
LAST-MODIFIED:20260204T090936Z
UID:10857585-1770300000-1770303600@seniorocity.com.au
SUMMARY:Hi\, Tech! Bayswater Library:  basic 1-to-1 tech help- January to March 2026
DESCRIPTION:Get ready to level up your tech skills with personalised 1-to-1 help at Bayswater Library – it’s your time to shine!
URL:https://seniorocity.com.au/whats-on-perth/hi-tech-bayswater-library-basic-1-to-1-tech-help-january-to-march-2026-23/
LOCATION:Bayswater Library\, 25 King William Street\, Bayswater\, WA\, 6053\, Australia
CATEGORIES:Tech
ATTACH;FMTTYPE=image/jpeg:https://seniorocity.com.au/wp-content/uploads/2023/04/558c99d491271827e52d2dce5803d12d.jpg
END:VEVENT
BEGIN:VEVENT
DTSTART;TZID=Australia/Perth:20260205T170000
DTEND;TZID=Australia/Perth:20260205T190000
DTSTAMP:20260423T115758
CREATED:20260102T065007Z
LAST-MODIFIED:20260102T065007Z
UID:10857388-1770310800-1770318000@seniorocity.com.au
SUMMARY:Embroidery Group
DESCRIPTION:Bring along your own embroidery project and join this friendly group for chats and craft. \nBeginner friendly and all experience levels welcome. \nNo cost. No need to book.
URL:https://seniorocity.com.au/whats-on-perth/embroidery-group-2/2026-02-05/
LOCATION:Woodvale Library\, 5 Trappers Drive\, Woodvale\, WA\, 6026\, Australia
CATEGORIES:Craft,Library Events
ATTACH;FMTTYPE=image/jpeg:https://seniorocity.com.au/wp-content/uploads/2026/01/embroidery-3524900_1.jpg
END:VEVENT
BEGIN:VEVENT
DTSTART;TZID=Australia/Perth:20260205T183000
DTEND;TZID=Australia/Perth:20260205T213000
DTSTAMP:20260423T115758
CREATED:20260102T081157Z
LAST-MODIFIED:20260102T081157Z
UID:10858195-1770316200-1770327000@seniorocity.com.au
SUMMARY:Quiz Night - Palace Arcade Northbridge
DESCRIPTION:A night of laughs\, banter and head scratching questions. Every Thursday at Palace Arcade. Book at thepalacearcade.com.au or just walk in!
URL:https://seniorocity.com.au/whats-on-perth/quiz-night-palace-arcade-northbridge-5/
LOCATION:The Palace Arcade\, 84 Beaufort Street\, Perth\, WA\, 6000\, Australia
CATEGORIES:Games
ATTACH;FMTTYPE=image/jpeg:https://seniorocity.com.au/wp-content/uploads/2026/01/c5e68d32a2985bec0bbcdbd687286ed5.jpg
END:VEVENT
BEGIN:VEVENT
DTSTART;TZID=Australia/Perth:20260205T190000
DTEND;TZID=Australia/Perth:20260205T200000
DTSTAMP:20260423T115758
CREATED:20260102T073857Z
LAST-MODIFIED:20260102T074650Z
UID:10857668-1770318000-1770321600@seniorocity.com.au
SUMMARY:Free Fringe Comedy Gala
DESCRIPTION:Free Fringe Comedy Gala showcases the festival’s sharpest comedians every Wednesday & Thursday! Yes! The tickets are free!
URL:https://seniorocity.com.au/whats-on-perth/free-fringe-comedy-gala-6/
LOCATION:Universal Bar\, 221 William Street\, Perth\, WA\, 6003\, Australia
CATEGORIES:Free
ATTACH;FMTTYPE=image/jpeg:https://seniorocity.com.au/wp-content/uploads/2026/01/63e84f0383319136e7a550bb92a807ca.jpg
END:VEVENT
BEGIN:VEVENT
DTSTART;TZID=Australia/Perth:20260206T063000
DTEND;TZID=Australia/Perth:20260206T071500
DTSTAMP:20260423T115758
CREATED:20251102T131708Z
LAST-MODIFIED:20260102T080651Z
UID:10856404-1770359400-1770362100@seniorocity.com.au
SUMMARY:Free Friday Morning Pilates - Karrinyup
DESCRIPTION:45min Pilates session on the grass at Tuart Estate\, Karrinyup.
URL:https://seniorocity.com.au/whats-on-perth/free-friday-morning-pilates-karrinyup-14/
LOCATION:Tuart Estate\, 102 Marmion Avenue\, Karrinyup\, WA\, 6018\, Australia
CATEGORIES:Free
ATTACH;FMTTYPE=image/jpeg:https://seniorocity.com.au/wp-content/uploads/2025/11/ee6aa16f8d6bb8d14fc3c28f71759450.jpg
END:VEVENT
BEGIN:VEVENT
DTSTART;TZID=Australia/Perth:20260206T090000
DTEND;TZID=Australia/Perth:20260206T100000
DTSTAMP:20260423T115758
CREATED:20260102T074544Z
LAST-MODIFIED:20260203T085552Z
UID:10857713-1770368400-1770372000@seniorocity.com.au
SUMMARY:Hi\, Tech! - Morley Library: basic 1 to 1 tech help - January to March 2026
DESCRIPTION:Get ready to level up your tech skills with personalised 1-to-1 help at Morley Library – it’s your time to shine!
URL:https://seniorocity.com.au/whats-on-perth/hi-tech-morley-library-basic-1-to-1-tech-help-january-to-march-2026-23/
LOCATION:Morley Library\, 240 Walter Road West\, Morley\, WA\, 6062\, Australia
CATEGORIES:Tech
ATTACH;FMTTYPE=image/jpeg:https://seniorocity.com.au/wp-content/uploads/2023/05/9d8a7f09914618be6e7e50f09a533e8d.jpg
END:VEVENT
BEGIN:VEVENT
DTSTART;TZID=Australia/Perth:20260206T093000
DTEND;TZID=Australia/Perth:20260206T113000
DTSTAMP:20260423T115758
CREATED:20260204T091443Z
LAST-MODIFIED:20260204T093756Z
UID:10862832-1770370200-1770377400@seniorocity.com.au
SUMMARY:English Conversation Group - Maylands Library
DESCRIPTION:English Conversation Group – Fluency\, Fun and Friendship
URL:https://seniorocity.com.au/whats-on-perth/english-conversation-group-maylands-library/
LOCATION:Maylands Public Library\, The RISE\, 28 Eighth Avenue\, Maylands\, WA\, 6051\, Australia
CATEGORIES:Language Class
ATTACH;FMTTYPE=image/jpeg:https://seniorocity.com.au/wp-content/uploads/2026/02/007c29eb8664b505b73d07efa56ec846.jpg
GEO:-31.9310445;115.8948571
X-APPLE-STRUCTURED-LOCATION;VALUE=URI;X-ADDRESS=Maylands Public Library The RISE 28 Eighth Avenue Maylands WA 6051 Australia;X-APPLE-RADIUS=500;X-TITLE=The RISE\, 28 Eighth Avenue:geo:115.8948571,-31.9310445
END:VEVENT
BEGIN:VEVENT
DTSTART;TZID=Australia/Perth:20260206T100000
DTEND;TZID=Australia/Perth:20260206T110000
DTSTAMP:20260423T115758
CREATED:20260102T074545Z
LAST-MODIFIED:20260203T085604Z
UID:10857714-1770372000-1770375600@seniorocity.com.au
SUMMARY:Hi\, Tech! - Morley Library: basic 1 to 1 tech help - January to March 2026
DESCRIPTION:Get ready to level up your tech skills with personalised 1-to-1 help at Morley Library – it’s your time to shine!
URL:https://seniorocity.com.au/whats-on-perth/hi-tech-morley-library-basic-1-to-1-tech-help-january-to-march-2026-24/
LOCATION:Morley Library\, 240 Walter Road West\, Morley\, WA\, 6062\, Australia
CATEGORIES:Tech
ATTACH;FMTTYPE=image/jpeg:https://seniorocity.com.au/wp-content/uploads/2023/05/9d8a7f09914618be6e7e50f09a533e8d.jpg
END:VEVENT
BEGIN:VEVENT
DTSTART;TZID=Australia/Perth:20260206T100000
DTEND;TZID=Australia/Perth:20260206T110000
DTSTAMP:20260423T115758
CREATED:20260102T080753Z
LAST-MODIFIED:20260114T030512Z
UID:10858147-1770372000-1770375600@seniorocity.com.au
SUMMARY:Port Walks - General
DESCRIPTION:Stroll with us around Victoria Quay and listen as port experts tell you about different aspects of Fremantle Ports and the Inner Harbour.
URL:https://seniorocity.com.au/whats-on-perth/port-walks-general-130/
LOCATION:Fremantle Ports\, 1 Cliff Street\, Fremantle\, WA\, 6160\, Australia
CATEGORIES:Walks
ATTACH;FMTTYPE=image/jpeg:https://seniorocity.com.au/wp-content/uploads/2024/11/139bb6ca0281574198356e89e7b97636.jpg
END:VEVENT
BEGIN:VEVENT
DTSTART;TZID=Australia/Perth:20260206T100000
DTEND;TZID=Australia/Perth:20260206T113000
DTSTAMP:20260423T115758
CREATED:20260108T133103Z
LAST-MODIFIED:20260108T133103Z
UID:10861187-1770372000-1770377400@seniorocity.com.au
SUMMARY:Open Eyed Sound Meditation for Seniors
DESCRIPTION:Experienced facilitators will guide you through a relaxing meditation\, followed by morning tea. Proudly supported by Shire of Mundaring. \nTime: 10am to 11.30am \nLocation: The Hub of the Hills\, 8 Craig Street\, Mundraing \nCost: $2
URL:https://seniorocity.com.au/whats-on-perth/open-eyed-sound-meditation-for-seniors/
LOCATION:Hub of the Hills\, Craig Street\, Mundaring\, WA\, Australia
CATEGORIES:Health,Workshop
ATTACH;FMTTYPE=image/png:https://seniorocity.com.au/wp-content/uploads/2026/01/Open-Eyed-Sound-Meditation-for-Seniors.png
END:VEVENT
END:VCALENDAR