BEGIN:VCALENDAR
VERSION:2.0
PRODID:-//Seniorocity - Seniors / Over 55&#039;s Guide to Perth - ECPv6.15.11//NONSGML v1.0//EN
CALSCALE:GREGORIAN
METHOD:PUBLISH
X-WR-CALNAME:Seniorocity - Seniors / Over 55&#039;s Guide to Perth
X-ORIGINAL-URL:https://seniorocity.com.au
X-WR-CALDESC:Events for Seniorocity - Seniors / Over 55&#039;s Guide to Perth
REFRESH-INTERVAL;VALUE=DURATION:PT1H
X-Robots-Tag:noindex
X-PUBLISHED-TTL:PT1H
BEGIN:VTIMEZONE
TZID:Australia/Perth
BEGIN:STANDARD
TZOFFSETFROM:+0800
TZOFFSETTO:+0800
TZNAME:AWST
DTSTART:20250101T000000
END:STANDARD
END:VTIMEZONE
BEGIN:VEVENT
DTSTART;TZID=Australia/Perth:20260223T153000
DTEND;TZID=Australia/Perth:20260223T160000
DTSTAMP:20260422T074731
CREATED:20260203T090347Z
LAST-MODIFIED:20260203T090347Z
UID:10862682-1771860600-1771862400@seniorocity.com.au
SUMMARY:Tech Help @ Wanneroo Library (Monday)
DESCRIPTION:Book in for a one-on-one session to go over whatever tech help you need.
URL:https://seniorocity.com.au/whats-on-perth/tech-help-wanneroo-library-monday-115/
LOCATION:Wanneroo Library\, 3 Rocca Way\, Wanneroo\, WA\, 6065\, Australia
CATEGORIES:Tech
ATTACH;FMTTYPE=image/jpeg:https://seniorocity.com.au/wp-content/uploads/2025/04/1846f0357c7a791a8fd4ed3d29e5a0ba.jpg
GEO:-31.750643;115.805954
X-APPLE-STRUCTURED-LOCATION;VALUE=URI;X-ADDRESS=Wanneroo Library 3 Rocca Way Wanneroo WA 6065 Australia;X-APPLE-RADIUS=500;X-TITLE=3 Rocca Way:geo:115.805954,-31.750643
END:VEVENT
BEGIN:VEVENT
DTSTART;TZID=Australia/Perth:20260223T174500
DTEND;TZID=Australia/Perth:20260223T200000
DTSTAMP:20260422T074731
CREATED:20260102T080647Z
LAST-MODIFIED:20260204T145851Z
UID:10858124-1771868700-1771876800@seniorocity.com.au
SUMMARY:NEW! Listening Lounge Mental Health Peer Support Group - Joondalup
DESCRIPTION:A welcoming space for connection\, understanding and mutual support.
URL:https://seniorocity.com.au/whats-on-perth/new-listening-lounge-mental-health-peer-support-group-joondalup-7/
LOCATION:Joondalup Family Centre\, 25 Jolstra Crescent\, Joondalup\, WA\, 6027\, Australia
CATEGORIES:Health
ATTACH;FMTTYPE=image/jpeg:https://seniorocity.com.au/wp-content/uploads/2026/01/633e950438bb36cdcb2805d326328360.jpg
END:VEVENT
BEGIN:VEVENT
DTSTART;TZID=Australia/Perth:20260223T180000
DTEND;TZID=Australia/Perth:20260223T200000
DTSTAMP:20260422T074731
CREATED:20250403T041944Z
LAST-MODIFIED:20250403T041944Z
UID:10119996-1771869600-1771876800@seniorocity.com.au
SUMMARY:Mens Circle
DESCRIPTION:Looking for a place to discuss life as a man with other like minded men? Manhood Perth provides a safe non-judgmental place to do that.
URL:https://seniorocity.com.au/whats-on-perth/mens-circle-49/
LOCATION:51 Anketell St\, 51 Anketell Street\, Kensington\, WA\, 6151\, Australia
CATEGORIES:Social
ATTACH;FMTTYPE=image/jpeg:https://seniorocity.com.au/wp-content/uploads/2025/04/e4b1369659ba650f186095cfa79a7ae9.jpg
END:VEVENT
BEGIN:VEVENT
DTSTART;TZID=Australia/Perth:20260223T190000
DTEND;TZID=Australia/Perth:20260223T200000
DTSTAMP:20260422T074731
CREATED:20250907T024512Z
LAST-MODIFIED:20251102T040806Z
UID:10855557-1771873200-1771876800@seniorocity.com.au
SUMMARY:Ballroom  and Latin Beginners Dancing Class Mondays
DESCRIPTION:Weekly Ballroom Dancing and Latin Beginners Class new dancers for Mondays from 7 to 8 pm.
URL:https://seniorocity.com.au/whats-on-perth/ballroom-and-latin-beginners-dancing-class-mondays-25/
LOCATION:Belmont Hub\, 213 Wright Street\, Cloverdale\, WA\, 6105\, Australia
CATEGORIES:Sport Activities
ATTACH;FMTTYPE=image/jpeg:https://seniorocity.com.au/wp-content/uploads/2025/09/c582fe5adf5726f7c2896c043591a1a1.jpg
GEO:-31.963159561157;115.9342880249
X-APPLE-STRUCTURED-LOCATION;VALUE=URI;X-ADDRESS=Belmont Hub 213 Wright Street Cloverdale WA 6105 Australia;X-APPLE-RADIUS=500;X-TITLE=213 Wright Street:geo:115.9342880249,-31.963159561157
END:VEVENT
BEGIN:VEVENT
DTSTART;TZID=Australia/Perth:20260223T190000
DTEND;TZID=Australia/Perth:20260223T203000
DTSTAMP:20260422T074731
CREATED:20260102T075212Z
LAST-MODIFIED:20260203T091926Z
UID:10857923-1771873200-1771878600@seniorocity.com.au
SUMMARY:Transform Your Relationships and Communication
DESCRIPTION:Learn new techniques and skills to help you communicate effectively with others\, resolve issues\, and heal and strengthen your relationships
URL:https://seniorocity.com.au/whats-on-perth/transform-your-relationships-and-communication-8/
LOCATION:Dorchester Hall\, 2 Dugdale Street\, Warwick\, WA\, 6024\, Australia
CATEGORIES:Free
ATTACH;FMTTYPE=image/jpeg:https://seniorocity.com.au/wp-content/uploads/2026/01/2d2f2c5208b06c6160bbfb3ac3185367.jpg
END:VEVENT
BEGIN:VEVENT
DTSTART;TZID=Australia/Perth:20260224T100000
DTEND;TZID=Australia/Perth:20260224T110000
DTSTAMP:20260422T074731
CREATED:20260102T080827Z
LAST-MODIFIED:20260206T145705Z
UID:10858154-1771927200-1771930800@seniorocity.com.au
SUMMARY:Port Walks - General
DESCRIPTION:Stroll with us around Victoria Quay and listen as port experts tell you about different aspects of Fremantle Ports and the Inner Harbour.
URL:https://seniorocity.com.au/whats-on-perth/port-walks-general-137/
LOCATION:Fremantle Ports\, 1 Cliff Street\, Fremantle\, WA\, 6160\, Australia
CATEGORIES:Walks
ATTACH;FMTTYPE=image/jpeg:https://seniorocity.com.au/wp-content/uploads/2024/11/139bb6ca0281574198356e89e7b97636.jpg
END:VEVENT
BEGIN:VEVENT
DTSTART;TZID=Australia/Perth:20260224T100000
DTEND;TZID=Australia/Perth:20260224T110000
DTSTAMP:20260422T074731
CREATED:20260102T073510Z
LAST-MODIFIED:20260204T091211Z
UID:10857596-1771927200-1771930800@seniorocity.com.au
SUMMARY:Hi\, Tech! Bayswater Library:  basic 1-to-1 tech help- January to March 2026
DESCRIPTION:Get ready to level up your tech skills with personalised 1-to-1 help at Bayswater Library – it’s your time to shine!
URL:https://seniorocity.com.au/whats-on-perth/hi-tech-bayswater-library-basic-1-to-1-tech-help-january-to-march-2026-34/
LOCATION:Bayswater Library\, 25 King William Street\, Bayswater\, WA\, 6053\, Australia
CATEGORIES:Tech
ATTACH;FMTTYPE=image/jpeg:https://seniorocity.com.au/wp-content/uploads/2023/04/558c99d491271827e52d2dce5803d12d.jpg
END:VEVENT
BEGIN:VEVENT
DTSTART;TZID=Australia/Perth:20260224T100000
DTEND;TZID=Australia/Perth:20260224T120000
DTSTAMP:20260422T074731
CREATED:20260204T091243Z
LAST-MODIFIED:20260204T092941Z
UID:10862784-1771927200-1771934400@seniorocity.com.au
SUMMARY:Scrabble
DESCRIPTION:Hey word enthusiasts!  Come along to our Scrabble group.  Bring your friends or join to make new ones.
URL:https://seniorocity.com.au/whats-on-perth/scrabble-66/
LOCATION:Bayswater Library\, 25 King William Street\, Bayswater\, WA\, 6053\, Australia
CATEGORIES:Games
ATTACH;FMTTYPE=image/jpeg:https://seniorocity.com.au/wp-content/uploads/2023/12/395216af19fc80e3a7d31b811f79a441.jpg
END:VEVENT
BEGIN:VEVENT
DTSTART;TZID=Australia/Perth:20260224T100000
DTEND;TZID=Australia/Perth:20260224T170000
DTSTAMP:20260422T074731
CREATED:20260204T150151Z
LAST-MODIFIED:20260204T150151Z
UID:10863099-1771927200-1771952400@seniorocity.com.au
SUMMARY:PERTH FESTIVAL: Brad Rimmer | Loom of the Land
DESCRIPTION:Loom of the Land brings together 3 interconnected bodies of work from artist Brad Rimmer’s Wheatbelt trilogy in a major survey exhibition.
URL:https://seniorocity.com.au/whats-on-perth/perth-festival-brad-rimmer-loom-of-the-land-18/
LOCATION:Walyalup Fremantle Arts Centre\, 1 Finnerty Street\, Fremantle\, WA\, 6160\, Australia
CATEGORIES:Exhibition
ATTACH;FMTTYPE=image/jpeg:https://seniorocity.com.au/wp-content/uploads/2026/02/d575ffdc5d64126502242cb4ddd17dee.jpg
END:VEVENT
BEGIN:VEVENT
DTSTART;TZID=Australia/Perth:20260224T103000
DTEND;TZID=Australia/Perth:20260224T123000
DTSTAMP:20260422T074731
CREATED:20260102T072444Z
LAST-MODIFIED:20260102T072448Z
UID:10857534-1771929000-1771936200@seniorocity.com.au
SUMMARY:Make end-of-life planning  simple with Critical Info
DESCRIPTION:Join us for a calm\, practical\, in-person session to learn how Critical Info’s tools and resources can support you.
URL:https://seniorocity.com.au/whats-on-perth/make-end-of-life-planning-simple-with-critical-info/
LOCATION:City of Fremantle – Walyalup Civic Centre\, 151 High Street\, Fremantle\, WA\, 6160\, Australia
CATEGORIES:Health
END:VEVENT
BEGIN:VEVENT
DTSTART;TZID=Australia/Perth:20260224T110000
DTEND;TZID=Australia/Perth:20260224T120000
DTSTAMP:20260422T074731
CREATED:20260102T073511Z
LAST-MODIFIED:20260204T091223Z
UID:10857597-1771930800-1771934400@seniorocity.com.au
SUMMARY:Hi\, Tech! Bayswater Library:  basic 1-to-1 tech help- January to March 2026
DESCRIPTION:Get ready to level up your tech skills with personalised 1-to-1 help at Bayswater Library – it’s your time to shine!
URL:https://seniorocity.com.au/whats-on-perth/hi-tech-bayswater-library-basic-1-to-1-tech-help-january-to-march-2026-35/
LOCATION:Bayswater Library\, 25 King William Street\, Bayswater\, WA\, 6053\, Australia
CATEGORIES:Tech
ATTACH;FMTTYPE=image/jpeg:https://seniorocity.com.au/wp-content/uploads/2023/04/558c99d491271827e52d2dce5803d12d.jpg
END:VEVENT
BEGIN:VEVENT
DTSTART;TZID=Australia/Perth:20260224T120000
DTEND;TZID=Australia/Perth:20260224T123000
DTSTAMP:20260422T074731
CREATED:20260204T091729Z
LAST-MODIFIED:20260204T142831Z
UID:10862922-1771934400-1771936200@seniorocity.com.au
SUMMARY:Tech Help @ Girrawheen Library
DESCRIPTION:Book in for a one-on-one session to go over whatever tech help you need.
URL:https://seniorocity.com.au/whats-on-perth/tech-help-girrawheen-library-9/
LOCATION:6 Patrick Ct\, 6 Patrick Court\, Girrawheen\, WA\, 6064\, Australia
CATEGORIES:Tech
ATTACH;FMTTYPE=image/jpeg:https://seniorocity.com.au/wp-content/uploads/2026/02/5e7fa4a1fcdd23cce7739d6be450808b.jpg
END:VEVENT
BEGIN:VEVENT
DTSTART;TZID=Australia/Perth:20260224T120000
DTEND;TZID=Australia/Perth:20260224T130000
DTSTAMP:20260422T074731
CREATED:20260102T073512Z
LAST-MODIFIED:20260204T091234Z
UID:10857598-1771934400-1771938000@seniorocity.com.au
SUMMARY:Hi\, Tech! Bayswater Library:  basic 1-to-1 tech help- January to March 2026
DESCRIPTION:Get ready to level up your tech skills with personalised 1-to-1 help at Bayswater Library – it’s your time to shine!
URL:https://seniorocity.com.au/whats-on-perth/hi-tech-bayswater-library-basic-1-to-1-tech-help-january-to-march-2026-36/
LOCATION:Bayswater Library\, 25 King William Street\, Bayswater\, WA\, 6053\, Australia
CATEGORIES:Tech
ATTACH;FMTTYPE=image/jpeg:https://seniorocity.com.au/wp-content/uploads/2023/04/558c99d491271827e52d2dce5803d12d.jpg
END:VEVENT
BEGIN:VEVENT
DTSTART;TZID=Australia/Perth:20260224T123000
DTEND;TZID=Australia/Perth:20260224T130000
DTSTAMP:20260422T074731
CREATED:20260204T091730Z
LAST-MODIFIED:20260204T142833Z
UID:10862923-1771936200-1771938000@seniorocity.com.au
SUMMARY:Tech Help @ Girrawheen Library
DESCRIPTION:Book in for a one-on-one session to go over whatever tech help you need.
URL:https://seniorocity.com.au/whats-on-perth/tech-help-girrawheen-library-10/
LOCATION:6 Patrick Ct\, 6 Patrick Court\, Girrawheen\, WA\, 6064\, Australia
CATEGORIES:Tech
ATTACH;FMTTYPE=image/jpeg:https://seniorocity.com.au/wp-content/uploads/2026/02/5e7fa4a1fcdd23cce7739d6be450808b.jpg
END:VEVENT
BEGIN:VEVENT
DTSTART;TZID=Australia/Perth:20260224T130000
DTEND;TZID=Australia/Perth:20260224T133000
DTSTAMP:20260422T074731
CREATED:20260204T091758Z
LAST-MODIFIED:20260204T142836Z
UID:10862934-1771938000-1771939800@seniorocity.com.au
SUMMARY:Tech Help @ Girrawheen Library
DESCRIPTION:Book in for a one-on-one session to go over whatever tech help you need.
URL:https://seniorocity.com.au/whats-on-perth/tech-help-girrawheen-library-11/
LOCATION:6 Patrick Ct\, 6 Patrick Court\, Girrawheen\, WA\, 6064\, Australia
CATEGORIES:Tech
ATTACH;FMTTYPE=image/jpeg:https://seniorocity.com.au/wp-content/uploads/2026/02/5e7fa4a1fcdd23cce7739d6be450808b.jpg
END:VEVENT
BEGIN:VEVENT
DTSTART;TZID=Australia/Perth:20260224T133000
DTEND;TZID=Australia/Perth:20260224T140000
DTSTAMP:20260422T074731
CREATED:20260204T091759Z
LAST-MODIFIED:20260204T142838Z
UID:10862935-1771939800-1771941600@seniorocity.com.au
SUMMARY:Tech Help @ Girrawheen Library
DESCRIPTION:Book in for a one-on-one session to go over whatever tech help you need.
URL:https://seniorocity.com.au/whats-on-perth/tech-help-girrawheen-library-12/
LOCATION:6 Patrick Ct\, 6 Patrick Court\, Girrawheen\, WA\, 6064\, Australia
CATEGORIES:Tech
ATTACH;FMTTYPE=image/jpeg:https://seniorocity.com.au/wp-content/uploads/2026/02/5e7fa4a1fcdd23cce7739d6be450808b.jpg
END:VEVENT
BEGIN:VEVENT
DTSTART;TZID=Australia/Perth:20260224T174500
DTEND;TZID=Australia/Perth:20260224T200000
DTSTAMP:20260422T074731
CREATED:20260102T080850Z
LAST-MODIFIED:20260102T080850Z
UID:10858163-1771955100-1771963200@seniorocity.com.au
SUMMARY:Listening Lounge Mental Health Peer Support Group - Cloverdale
DESCRIPTION:A welcoming space for connection\, understanding and mutual support.
URL:https://seniorocity.com.au/whats-on-perth/listening-lounge-mental-health-peer-support-group-cloverdale-8/
LOCATION:Consumers of Mental Health WA\, 275 Belmont Avenue\, #14\, Cloverdale\, WA\, 6105\, Australia
CATEGORIES:Health
ATTACH;FMTTYPE=image/jpeg:https://seniorocity.com.au/wp-content/uploads/2026/01/daab8e42a64fba3b865f0b3d0214a624.jpg
END:VEVENT
BEGIN:VEVENT
DTSTART;TZID=Australia/Perth:20260224T190000
DTEND;TZID=Australia/Perth:20260224T210000
DTSTAMP:20260422T074731
CREATED:20260102T103635Z
LAST-MODIFIED:20260102T103635Z
UID:10859646-1771959600-1771966800@seniorocity.com.au
SUMMARY:Mens Social Group
DESCRIPTION:Looking to meet new mates\, share a laugh\, or just enjoy a bit of company? Perhaps consider joining our Men’s Social group – it’s free to attend\, friendly and there’s always a cuppa waiting for you. No need to register or book a seat just show up! Open to all men 18+ No pressure\, no fuss – just good conversation Drop in and say G’day This group is meeting up every Tuesday at John Wellard Community Centre located on Runnymede Gate\, Wellard. Whether you are retired\, working\, new to the area or just looking for a bit of connection – this is your space. COME AS YOU ARE – STAY FOR THE CHAT Hosted by Volunteers Roger\, Bas & Rod
URL:https://seniorocity.com.au/whats-on-perth/mens-social-group-6/2026-02-24/
LOCATION:John Wellard Community Centre\, Runneymede Gate Wellard\, Perth\, meetup4\, Australia
ATTACH;FMTTYPE=image/jpeg:https://seniorocity.com.au/wp-content/uploads/2026/01/maxim-hopman-8cT5ja0P_N4-unsplash_1-scaled.jpg
GEO:-32.262714;115.81554
X-APPLE-STRUCTURED-LOCATION;VALUE=URI;X-ADDRESS=John Wellard Community Centre Runneymede Gate Wellard Perth meetup4 Australia;X-APPLE-RADIUS=500;X-TITLE=Runneymede Gate Wellard:geo:115.81554,-32.262714
END:VEVENT
BEGIN:VEVENT
DTSTART;TZID=Australia/Perth:20260225T090000
DTEND;TZID=Australia/Perth:20260225T100000
DTSTAMP:20260422T074731
CREATED:20260102T074549Z
LAST-MODIFIED:20260203T085720Z
UID:10857720-1772010000-1772013600@seniorocity.com.au
SUMMARY:Hi\, Tech! - Morley Library: basic 1 to 1 tech help - January to March 2026
DESCRIPTION:Get ready to level up your tech skills with personalised 1-to-1 help at Morley Library – it’s your time to shine!
URL:https://seniorocity.com.au/whats-on-perth/hi-tech-morley-library-basic-1-to-1-tech-help-january-to-march-2026-30/
LOCATION:Morley Library\, 240 Walter Road West\, Morley\, WA\, 6062\, Australia
CATEGORIES:Tech
ATTACH;FMTTYPE=image/jpeg:https://seniorocity.com.au/wp-content/uploads/2023/05/9d8a7f09914618be6e7e50f09a533e8d.jpg
END:VEVENT
BEGIN:VEVENT
DTSTART;TZID=Australia/Perth:20260225T090000
DTEND;TZID=Australia/Perth:20260225T110000
DTSTAMP:20260422T074731
CREATED:20260203T085150Z
LAST-MODIFIED:20260203T085251Z
UID:10862647-1772010000-1772017200@seniorocity.com.au
SUMMARY:Caring for the Mental Health Carer: Mind and Body Balance | City Beach
DESCRIPTION:Caring for the Mental Health Carer is a therapeutic group program designed for adult Mental Health Carers aged 18+.
URL:https://seniorocity.com.au/whats-on-perth/caring-for-the-mental-health-carer-mind-and-body-balance-city-beach-2/
LOCATION:Jubilee Crescent\, Jubilee Crescent\, City Beach\, WA\, 6015\, Australia
CATEGORIES:Health
ATTACH;FMTTYPE=image/jpeg:https://seniorocity.com.au/wp-content/uploads/2026/02/91a4ee0bd29c911dd44ce60eff2da8e0.jpg
END:VEVENT
BEGIN:VEVENT
DTSTART;TZID=Australia/Perth:20260225T093000
DTEND;TZID=Australia/Perth:20260225T103000
DTSTAMP:20260422T074731
CREATED:20260104T141011Z
LAST-MODIFIED:20260104T141011Z
UID:10860487-1772011800-1772015400@seniorocity.com.au
SUMMARY:Chair yoga ~ over 55s
DESCRIPTION:Classes are held Wednesdays at Sullivan Hall and Fridays at Fremantle Library\, from 9.30 – 10.30am \nEnjoy the benefits of yoga in a gentle class accessible to anyone. Practice seated poses to help benefit your mobility\, flexibility and relaxation\, with the chair providing you more support. Please ensure you have your doctor’s approval to attend. \nEmail your interest.
URL:https://seniorocity.com.au/whats-on-perth/chair-yoga-over-55s/2026-02-25/
LOCATION:Sullivan Hall\, 2 Nannine Avenue\, White Gum Valley\, WA\, 6162\, Australia
CATEGORIES:Health,Sport Activities
ATTACH;FMTTYPE=image/jpeg:https://seniorocity.com.au/wp-content/uploads/2026/01/Chair-yoga-over-55s.jpg
END:VEVENT
BEGIN:VEVENT
DTSTART;TZID=Australia/Perth:20260225T100000
DTEND;TZID=Australia/Perth:20260225T110000
DTSTAMP:20260422T074731
CREATED:20260102T074616Z
LAST-MODIFIED:20260203T085732Z
UID:10857728-1772013600-1772017200@seniorocity.com.au
SUMMARY:Hi\, Tech! - Morley Library: basic 1 to 1 tech help - January to March 2026
DESCRIPTION:Get ready to level up your tech skills with personalised 1-to-1 help at Morley Library – it’s your time to shine!
URL:https://seniorocity.com.au/whats-on-perth/hi-tech-morley-library-basic-1-to-1-tech-help-january-to-march-2026-31/
LOCATION:Morley Library\, 240 Walter Road West\, Morley\, WA\, 6062\, Australia
CATEGORIES:Tech
ATTACH;FMTTYPE=image/jpeg:https://seniorocity.com.au/wp-content/uploads/2023/05/9d8a7f09914618be6e7e50f09a533e8d.jpg
END:VEVENT
BEGIN:VEVENT
DTSTART;TZID=Australia/Perth:20260225T100000
DTEND;TZID=Australia/Perth:20260225T120000
DTSTAMP:20260422T074731
CREATED:20260112T113151Z
LAST-MODIFIED:20260112T113151Z
UID:10861491-1772013600-1772020800@seniorocity.com.au
SUMMARY:Autumn Feast
DESCRIPTION:Celebrate the flavours of Autumn with a free nutrition and cooking workshop. \nThis workshop explores the benefits of seasonal eating and includes hands-on cooking of fresh\, spring-inspired meals. Come along to connect\, cook\, and enjoy nutritious food together in a supportive environment. \nWhat’s included: \n\nGroup cooking session using [season] produce\nMeal tasting and take-home recipes\nMoney saving tips\nAll ingredients and equipment provided\n\nThis is a free event for ages 18+. Bookings are essential and will open Wednesday 28 January 2026. \nIf you have any specific needs or require accommodations in order to comfortably attend this event\, such as visual aids\, a quiet space\, or accessible seating\, please let us know. \nFor further information contact Safety Bay Library on 9528 8611 or rockinghamlibraries@rockingham.wa.gov.au. \nRegister now
URL:https://seniorocity.com.au/whats-on-perth/autumn-feast/
LOCATION:Safety Bay Library\, 197 Safety Bay Road\, Safety Bay\, WA\, 6169\, Australia
CATEGORIES:Cooking,Foodie event,Free,Workshop
ATTACH;FMTTYPE=image/jpeg:https://seniorocity.com.au/wp-content/uploads/2026/01/Autumn-Feast.jpg
END:VEVENT
BEGIN:VEVENT
DTSTART;TZID=Australia/Perth:20260225T100000
DTEND;TZID=Australia/Perth:20260225T120000
DTSTAMP:20260422T074731
CREATED:20260107T155232Z
LAST-MODIFIED:20260107T155232Z
UID:10861042-1772013600-1772020800@seniorocity.com.au
SUMMARY:Age Friendly Melville - South of the River Forum
DESCRIPTION:End of Life Planning Forum – Vital steps towards peace of mind \nEnd of Life Planning Forum – Vital steps towards peace of mind\nJoin Melville Cares and a panel of experts who will talk about the legal\, emotional\, practical\, family and community elements of planning ahead so you and your family member can die where you or they choose and be fully prepared. \nStart early. Plan ahead. It’s not an easy conversation but an important one to have. \nThis event will include short presentations\, a panel discussion\, Q&A and morning tea. \n*Please indicate any access needs when registering. Information is available in alternative formats on request* \nBook this event
URL:https://seniorocity.com.au/whats-on-perth/age-friendly-melville-south-of-the-river-forum/
LOCATION:City of Melville Civic Centre – Conference Room\, 10 Almondbury Rd\, Booragoon\, WA\, 6154\, Australia
CATEGORIES:Free,Health,Information Session
ATTACH;FMTTYPE=image/jpeg:https://seniorocity.com.au/wp-content/uploads/2026/01/Age-Friendly-Melville-South-of-the-River-Forum.jpg
END:VEVENT
BEGIN:VEVENT
DTSTART;TZID=Australia/Perth:20260225T100000
DTEND;TZID=Australia/Perth:20260225T160000
DTSTAMP:20260422T074731
CREATED:20251023T130818Z
LAST-MODIFIED:20260102T101248Z
UID:10859621-1772013600-1772035200@seniorocity.com.au
SUMMARY:Bertram Pop Up Community Lounge
DESCRIPTION:Come join us every Wednesday from 10am to 4pm at the William Bertram Community Centre for a heartwarming slice of community life at our Befriend-hosted Pop-Up Community Lounge — a space made for connection\, creativity and good conversation! Pull up a chair\, pour yourself a free cuppa (the kettle’s always one click away from boiling!) and make yourself at home. Browse our Community Library\, where you can swap a book\, drop a book\, or pick up something new to enjoy. Stay a little longer at one of our Linger Longer stations\, or join in on a friendly board or card game. There’s no agenda\, no registration and no membership required — just show up\, relax and enjoy being part of your local community. One of our friendly Community Lounge Connectors will be on hand to welcome you\, show you around and introduce you to the space. \nWhat’s On Regularly: Fortnightly – Sewcial Repair Café Pop-Up with Jackie: “Where loose threads meet good company and time to enjoy a cuppa!” Monthly – Shazz and the Kwinana Community Wardrobe: Helping clothes find new homes and fresh starts. We’re always brewing up new ideas to make this space even more vibrant — and if you have a community project or skill you’d love to share\, come have a chat with Inger over a cuppa about how Befriend can help bring it to life. At present\, we’re especially on the lookout for fixers\, tinkerers and menders to join our Repair Café offerings. If you or someone you know is handy and available on a Monday or Wednesday\, we’d love to hear from you! And if Wednesdays don’t suit\, you’re welcome to pop by our Monday Pop-Up at John Wellard Community Centre too — because there’s always room for you are our table.
URL:https://seniorocity.com.au/whats-on-perth/bertram-pop-up-community-lounge/2026-02-25/
LOCATION:William Bertram Community Centre\, Hero Crescent\, Bertram\, Australia
CATEGORIES:Coffee Catchup,Community Event,Free,Social,Social event
ATTACH;FMTTYPE=image/jpeg:https://seniorocity.com.au/wp-content/uploads/2025/10/Bertram-Pop-Up-Community-Lounge.jpg
GEO:-32.24673;115.84688
X-APPLE-STRUCTURED-LOCATION;VALUE=URI;X-ADDRESS=William Bertram Community Centre Hero Crescent Bertram Australia;X-APPLE-RADIUS=500;X-TITLE=Hero Crescent:geo:115.84688,-32.24673
END:VEVENT
BEGIN:VEVENT
DTSTART;TZID=Australia/Perth:20260225T100000
DTEND;TZID=Australia/Perth:20260225T170000
DTSTAMP:20260422T074731
CREATED:20260204T150152Z
LAST-MODIFIED:20260204T150152Z
UID:10863100-1772013600-1772038800@seniorocity.com.au
SUMMARY:PERTH FESTIVAL: Brad Rimmer | Loom of the Land
DESCRIPTION:Loom of the Land brings together 3 interconnected bodies of work from artist Brad Rimmer’s Wheatbelt trilogy in a major survey exhibition.
URL:https://seniorocity.com.au/whats-on-perth/perth-festival-brad-rimmer-loom-of-the-land-19/
LOCATION:Walyalup Fremantle Arts Centre\, 1 Finnerty Street\, Fremantle\, WA\, 6160\, Australia
CATEGORIES:Exhibition
ATTACH;FMTTYPE=image/jpeg:https://seniorocity.com.au/wp-content/uploads/2026/02/d575ffdc5d64126502242cb4ddd17dee.jpg
END:VEVENT
BEGIN:VEVENT
DTSTART;TZID=Australia/Perth:20260225T130000
DTEND;TZID=Australia/Perth:20260225T140000
DTSTAMP:20260422T074731
CREATED:20260102T074346Z
LAST-MODIFIED:20260203T085445Z
UID:10857686-1772024400-1772028000@seniorocity.com.au
SUMMARY:Hi\, Tech! Maylands Library: basic 1-to-1 tech help - January-March 2026
DESCRIPTION:Get ready to level up your IT skills with personalised 1-to-1 help at Maylands Library – it’s your time to shine!
URL:https://seniorocity.com.au/whats-on-perth/hi-tech-maylands-library-basic-1-to-1-tech-help-january-march-2026-15/
LOCATION:Maylands Public Library\, The RISE\, 28 Eighth Avenue\, Maylands\, WA\, 6051\, Australia
CATEGORIES:Tech
ATTACH;FMTTYPE=image/jpeg:https://seniorocity.com.au/wp-content/uploads/2024/07/47d27fc431d8516939cc37f1f8af6de5.jpg
GEO:-31.9310445;115.8948571
X-APPLE-STRUCTURED-LOCATION;VALUE=URI;X-ADDRESS=Maylands Public Library The RISE 28 Eighth Avenue Maylands WA 6051 Australia;X-APPLE-RADIUS=500;X-TITLE=The RISE\, 28 Eighth Avenue:geo:115.8948571,-31.9310445
END:VEVENT
BEGIN:VEVENT
DTSTART;TZID=Australia/Perth:20260225T134500
DTEND;TZID=Australia/Perth:20260225T160000
DTSTAMP:20260422T074731
CREATED:20251102T132333Z
LAST-MODIFIED:20260102T080533Z
UID:10856453-1772027100-1772035200@seniorocity.com.au
SUMMARY:NEW Listening Lounge Mental Health Peer Support Group- Kelmscott!
DESCRIPTION:A welcoming space for connection\, understanding and mutual support.
URL:https://seniorocity.com.au/whats-on-perth/new-listening-lounge-mental-health-peer-support-group-kelmscott-17/
LOCATION:Creyk Park Pavilion\, 6 Kembla Street\, Kelmscott\, WA\, 6111\, Australia
CATEGORIES:Health
ATTACH;FMTTYPE=image/jpeg:https://seniorocity.com.au/wp-content/uploads/2026/01/0cd8afe91432da0a77137da7b5a4370c.jpg
END:VEVENT
BEGIN:VEVENT
DTSTART;TZID=Australia/Perth:20260225T140000
DTEND;TZID=Australia/Perth:20260225T150000
DTSTAMP:20260422T074731
CREATED:20260204T091607Z
LAST-MODIFIED:20260204T142624Z
UID:10862871-1772028000-1772031600@seniorocity.com.au
SUMMARY:Gardening Club
DESCRIPTION:Nature play for 2–5 year-olds & caregivers\, Wednesdays 2–3 pm! Plant veggies\, explore worms & enjoy outdoor fun together.
URL:https://seniorocity.com.au/whats-on-perth/gardening-club-3/
LOCATION:26A Harris St\, 26A Harris Street\, Bicton\, WA\, 6157\, Australia
CATEGORIES:Gardening & Environment
END:VEVENT
BEGIN:VEVENT
DTSTART;TZID=Australia/Perth:20260225T140000
DTEND;TZID=Australia/Perth:20260225T150000
DTSTAMP:20260422T074731
CREATED:20260102T074347Z
LAST-MODIFIED:20260203T085457Z
UID:10857687-1772028000-1772031600@seniorocity.com.au
SUMMARY:Hi\, Tech! Maylands Library: basic 1-to-1 tech help - January-March 2026
DESCRIPTION:Get ready to level up your IT skills with personalised 1-to-1 help at Maylands Library – it’s your time to shine!
URL:https://seniorocity.com.au/whats-on-perth/hi-tech-maylands-library-basic-1-to-1-tech-help-january-march-2026-16/
LOCATION:Maylands Public Library\, The RISE\, 28 Eighth Avenue\, Maylands\, WA\, 6051\, Australia
CATEGORIES:Tech
ATTACH;FMTTYPE=image/jpeg:https://seniorocity.com.au/wp-content/uploads/2024/07/47d27fc431d8516939cc37f1f8af6de5.jpg
GEO:-31.9310445;115.8948571
X-APPLE-STRUCTURED-LOCATION;VALUE=URI;X-ADDRESS=Maylands Public Library The RISE 28 Eighth Avenue Maylands WA 6051 Australia;X-APPLE-RADIUS=500;X-TITLE=The RISE\, 28 Eighth Avenue:geo:115.8948571,-31.9310445
END:VEVENT
END:VCALENDAR