BEGIN:VCALENDAR
VERSION:2.0
PRODID:-//Seniorocity - Seniors / Over 55&#039;s Guide to Perth - ECPv6.15.11//NONSGML v1.0//EN
CALSCALE:GREGORIAN
METHOD:PUBLISH
X-ORIGINAL-URL:https://seniorocity.com.au
X-WR-CALDESC:Events for Seniorocity - Seniors / Over 55&#039;s Guide to Perth
REFRESH-INTERVAL;VALUE=DURATION:PT1H
X-Robots-Tag:noindex
X-PUBLISHED-TTL:PT1H
BEGIN:VTIMEZONE
TZID:Australia/Perth
BEGIN:STANDARD
TZOFFSETFROM:+0800
TZOFFSETTO:+0800
TZNAME:AWST
DTSTART:20250101T000000
END:STANDARD
END:VTIMEZONE
BEGIN:VEVENT
DTSTART;TZID=Australia/Perth:20260225T140000
DTEND;TZID=Australia/Perth:20260225T160000
DTSTAMP:20260422T133745
CREATED:20260112T113804Z
LAST-MODIFIED:20260112T113804Z
UID:10861492-1772028000-1772035200@seniorocity.com.au
SUMMARY:Kawaii Brooch Making Workshop with Nami Osaki
DESCRIPTION:Kawaii means cute in Japanese. Nami will show you how to illustrate lovely objects in fun and easy ways\, then your illustration will turn into a brooch of your very own to keep. \nBookings are essential and open on Wednesday 28 January 2026. \nTwo ACROD parking bays are available along with a drop-off and pick-up zone. The library has accessible bathrooms and lift access to the first floor. \nIf you have any specific needs or require accommodations in order to comfortably attend this event\, such as visual aids\, a quiet space or accessible seating\, please let us know. \nFor further information contact Rockingham Library on 9528 8683 or email rockinghamlibraries@rockingham.wa.gov.au \nRegister now
URL:https://seniorocity.com.au/whats-on-perth/kawaii-brooch-making-workshop-with-nami-osaki/
LOCATION:Rockingham Library\, 107 Dixon Road\, #Campus\, Building\, Rockingham\, WA\, 6168\, Australia
CATEGORIES:Craft,Free,Library Events,Workshop
ATTACH;FMTTYPE=image/png:https://seniorocity.com.au/wp-content/uploads/2026/01/Kawaii-Brooch-Making-Workshop-with-Nami-Osaki.png
END:VEVENT
BEGIN:VEVENT
DTSTART;TZID=Australia/Perth:20260225T190000
DTEND;TZID=Australia/Perth:20260225T210000
DTSTAMP:20260422T133745
CREATED:20260226T045047Z
LAST-MODIFIED:20260226T045047Z
UID:10863892-1772046000-1772053200@seniorocity.com.au
SUMMARY:Wednesday Night - Crafty Well @ Wellard
DESCRIPTION:Join Anne-marie\, Kerry-Anne & friends every Wednesday night from 7pm til 9pm at the John Wellard Community Centre for a social craft meetup. BYO craft project to work on\, or come along and see what others are doing that might inspire you to learn or try something new. Entry via rear carpark and please press door bell if entry is locked and we will come & let you in.
URL:https://seniorocity.com.au/whats-on-perth/wednesday-night-crafty-well-wellard-2/
LOCATION:John Wellard Community Centre\, Runneymede Gate Wellard\, Perth\, meetup4\, Australia
CATEGORIES:Craft,Free,Library Events,Meet New People,Social
ATTACH;FMTTYPE=image/webp:https://seniorocity.com.au/wp-content/uploads/2026/02/Wednesday-Night-Crafty-Well-@-Wellard.webp
GEO:-32.262714;115.81554
X-APPLE-STRUCTURED-LOCATION;VALUE=URI;X-ADDRESS=John Wellard Community Centre Runneymede Gate Wellard Perth meetup4 Australia;X-APPLE-RADIUS=500;X-TITLE=Runneymede Gate Wellard:geo:115.81554,-32.262714
END:VEVENT
BEGIN:VEVENT
DTSTART;TZID=Australia/Perth:20260225T190000
DTEND;TZID=Australia/Perth:20260225T210000
DTSTAMP:20260422T133746
CREATED:20260102T073553Z
LAST-MODIFIED:20260203T085045Z
UID:10857620-1772046000-1772053200@seniorocity.com.au
SUMMARY:HILTON HAHAS
DESCRIPTION:New material Comedy Night\, come get a 1/2 priced dinner and have a laugh at some fresh new comedy !!
URL:https://seniorocity.com.au/whats-on-perth/hilton-hahas-8/
LOCATION:South Street Ale House & Bottleshop\, 277 South Street\, Hilton\, WA\, 6163\, Australia
CATEGORIES:Free,Theatre & Shows
ATTACH;FMTTYPE=image/jpeg:https://seniorocity.com.au/wp-content/uploads/2026/01/d1384d782c9a02cbe61db6a5afb92cd0.jpg
END:VEVENT
BEGIN:VEVENT
DTSTART;TZID=Australia/Perth:20260225T191500
DTEND;TZID=Australia/Perth:20260225T201500
DTSTAMP:20260422T133746
CREATED:20250713T072934Z
LAST-MODIFIED:20260102T081005Z
UID:10791357-1772046900-1772050500@seniorocity.com.au
SUMMARY:FREE Community Yoga
DESCRIPTION:A class taught by teachers in training. Free of charge.
URL:https://seniorocity.com.au/whats-on-perth/free-community-yoga-33/
LOCATION:The Yoga Space\, 79 Colin Street\, #6\, West Perth\, WA\, 6005\, Australia
CATEGORIES:Free
ATTACH;FMTTYPE=image/jpeg:https://seniorocity.com.au/wp-content/uploads/2025/07/620679d6cce180570dcf21a88ec64011.jpg
END:VEVENT
BEGIN:VEVENT
DTSTART;TZID=Australia/Perth:20260226T093000
DTEND;TZID=Australia/Perth:20260226T103000
DTSTAMP:20260422T133746
CREATED:20260102T080232Z
LAST-MODIFIED:20260204T145541Z
UID:10858074-1772098200-1772101800@seniorocity.com.au
SUMMARY:Tech Connect @ Wanneroo Library
DESCRIPTION:FREE weekly morning tea to connect with others and get more comfortable with technology.
URL:https://seniorocity.com.au/whats-on-perth/tech-connect-wanneroo-library-8/
LOCATION:Wanneroo Library and Cultural Centre\, 3 Rocca Way\, Wanneroo\, WA\, 6065\, Australia
CATEGORIES:Tech
ATTACH;FMTTYPE=image/jpeg:https://seniorocity.com.au/wp-content/uploads/2026/01/0cf7f50887955559e3bbd40a37b621a8.jpg
END:VEVENT
BEGIN:VEVENT
DTSTART;TZID=Australia/Perth:20260226T093000
DTEND;TZID=Australia/Perth:20260226T120000
DTSTAMP:20260422T133746
CREATED:20260102T074614Z
LAST-MODIFIED:20260206T152918Z
UID:10857729-1772098200-1772107200@seniorocity.com.au
SUMMARY:Art for Art's Sake - Social Art Group for Adults
DESCRIPTION:Enjoy a relaxed\, welcoming space where you can work on your own projects alongside fellow artists.
URL:https://seniorocity.com.au/whats-on-perth/art-for-arts-sake-social-art-group-for-adults-18/
LOCATION:Maylands Public Library\, The RISE\, 28 Eighth Avenue\, Maylands\, WA\, 6051\, Australia
CATEGORIES:Free,Library Events
ATTACH;FMTTYPE=image/jpeg:https://seniorocity.com.au/wp-content/uploads/2025/10/403cde6a2174f39678d165fd948c9cc5.jpg
GEO:-31.9310445;115.8948571
X-APPLE-STRUCTURED-LOCATION;VALUE=URI;X-ADDRESS=Maylands Public Library The RISE 28 Eighth Avenue Maylands WA 6051 Australia;X-APPLE-RADIUS=500;X-TITLE=The RISE\, 28 Eighth Avenue:geo:115.8948571,-31.9310445
END:VEVENT
BEGIN:VEVENT
DTSTART;TZID=Australia/Perth:20260226T100000
DTEND;TZID=Australia/Perth:20260226T120000
DTSTAMP:20260422T133746
CREATED:20260204T145528Z
LAST-MODIFIED:20260204T145528Z
UID:10863071-1772100000-1772107200@seniorocity.com.au
SUMMARY:Forget-Me-Not Memory Cafe @ Wanneroo Library 2026
DESCRIPTION:Forget-Me-Not memory Café – dementia support\, gives those living with memory loss\, their carers and loved ones a supportive social network.
URL:https://seniorocity.com.au/whats-on-perth/forget-me-not-memory-cafe-wanneroo-library-2026/
LOCATION:Wanneroo Library and Cultural Centre\, 3 Rocca Way\, Wanneroo\, WA\, 6065\, Australia
CATEGORIES:Coffee Catchup
ATTACH;FMTTYPE=image/jpeg:https://seniorocity.com.au/wp-content/uploads/2026/02/a5e1447a223622c80720094767c99984.jpg
END:VEVENT
BEGIN:VEVENT
DTSTART;TZID=Australia/Perth:20260226T100000
DTEND;TZID=Australia/Perth:20260226T130000
DTSTAMP:20260422T133746
CREATED:20260102T072401Z
LAST-MODIFIED:20260102T072406Z
UID:10857533-1772100000-1772110800@seniorocity.com.au
SUMMARY:Understanding Changes in Behaviour - Riverton - WA
DESCRIPTION:Understanding Changes in Behaviour session by Dementia Australia.  For: Family carers and family members of people living with dementia.\n\n\nThis session provides an introduction to dementia and changes to the brain\, effects on behaviour and the impacts of changed behaviour. It will introduce problem solving models\, including strategies to minimise and respond to changed behaviour. \nYou will gain knowledge in: \n\nchanged behaviours related to dementia\nrecognising triggers and contributing factors to behaviour change \napproaches to problem solving changed behaviours. \n\nSuitable for: Family carers and family members of people living with dementia. This session is not suitable for professionals employed in the health or aged care sectors.  \nDementia Australia’s facilitators have specialist dementia knowledge\, skills and experience. This session is delivered interactively\, you will be encouraged to share your experiences alongside other participants giving you an opportunity to develop new support networks. \n \n FAQs \nWhat are my transport/parking options for getting to and from the event? \nParking available at the venue. \nHow can I contact the organiser with any questions? \nFor event related enquiries please contact the Client Services team on 08 9225 4094 or email wa.booking@dementia.org.au. \nAlternatively for general enquires you can contact the National Dementia Helpline on 1800 100 500 or email helpline@dementia.org.au. \n Do I have to bring my printed ticket to the event? \nIt is ideal if you can bring your ticket. However\, if you have completed your registration we will have your details and forgetting your ticket won’t be a problem. \nHow can I find out about other events being run by Dementia Australia? \nVisit the Dementia Australia website and view the Events Calendar. \nWhat is available to professionals? \nThis event is not suitable for professional carers or people employed in the health or aged care industries. The resources\, content and delivery will not meet the needs of professionals. To explore Dementia Australia’s range of professional development please visit the Centre for Dementia Learning.
URL:https://seniorocity.com.au/whats-on-perth/understanding-changes-in-behaviour-riverton-wa/
LOCATION:Riverton Library\, 67 Riley Road\, Riverton\, WA\, 6148\, Australia
CATEGORIES:Health
ATTACH;FMTTYPE=image/jpeg:https://seniorocity.com.au/wp-content/uploads/2025/09/9ca08b490128a97fbf00e876cf72e130.jpg
GEO:-32.037567138672;115.9030380249
X-APPLE-STRUCTURED-LOCATION;VALUE=URI;X-ADDRESS=Riverton Library 67 Riley Road Riverton WA 6148 Australia;X-APPLE-RADIUS=500;X-TITLE=67 Riley Road:geo:115.9030380249,-32.037567138672
END:VEVENT
BEGIN:VEVENT
DTSTART;TZID=Australia/Perth:20260226T100000
DTEND;TZID=Australia/Perth:20260226T160000
DTSTAMP:20260422T133746
CREATED:20260204T143212Z
LAST-MODIFIED:20260204T143212Z
UID:10862989-1772100000-1772121600@seniorocity.com.au
SUMMARY:Essence of Place
DESCRIPTION:An exhibition earth\, where sky and memory meet\, artists present evocative landscape works spanning abstract realism to luminous naturalism.
URL:https://seniorocity.com.au/whats-on-perth/essence-of-place-5/
LOCATION:Ellis House Art Centre\, 116 Milne Street\, Bayswater\, WA\, 6053\, Australia
CATEGORIES:Exhibition
ATTACH;FMTTYPE=image/jpeg:https://seniorocity.com.au/wp-content/uploads/2026/02/5a7d9da066dde2d2767850a5a5068661.jpg
END:VEVENT
BEGIN:VEVENT
DTSTART;TZID=Australia/Perth:20260226T100000
DTEND;TZID=Australia/Perth:20260226T170000
DTSTAMP:20260422T133746
CREATED:20260204T150153Z
LAST-MODIFIED:20260204T150153Z
UID:10863101-1772100000-1772125200@seniorocity.com.au
SUMMARY:PERTH FESTIVAL: Brad Rimmer | Loom of the Land
DESCRIPTION:Loom of the Land brings together 3 interconnected bodies of work from artist Brad Rimmer’s Wheatbelt trilogy in a major survey exhibition.
URL:https://seniorocity.com.au/whats-on-perth/perth-festival-brad-rimmer-loom-of-the-land-20/
LOCATION:Walyalup Fremantle Arts Centre\, 1 Finnerty Street\, Fremantle\, WA\, 6160\, Australia
CATEGORIES:Exhibition
ATTACH;FMTTYPE=image/jpeg:https://seniorocity.com.au/wp-content/uploads/2026/02/d575ffdc5d64126502242cb4ddd17dee.jpg
END:VEVENT
BEGIN:VEVENT
DTSTART;TZID=Australia/Perth:20260226T104500
DTEND;TZID=Australia/Perth:20260226T114500
DTSTAMP:20260422T133746
CREATED:20260203T090134Z
LAST-MODIFIED:20260203T090134Z
UID:10862668-1772102700-1772106300@seniorocity.com.au
SUMMARY:Morley Ability Dance Class
DESCRIPTION:Join us for a fun\, inclusive dance class designed especially for people with an intellectual disability. Delivered by DanceSport coaches.
URL:https://seniorocity.com.au/whats-on-perth/morley-ability-dance-class-51/
LOCATION:Personal Advocacy Service\, 28 Holdhurst Way\, Morley\, WA\, 6062\, Australia
CATEGORIES:Free
ATTACH;FMTTYPE=image/jpeg:https://seniorocity.com.au/wp-content/uploads/2026/02/5c4b9b2f1e932d61881f915cb4709901.jpg
END:VEVENT
BEGIN:VEVENT
DTSTART;TZID=Australia/Perth:20260226T120000
DTEND;TZID=Australia/Perth:20260226T150000
DTSTAMP:20260422T133746
CREATED:20260204T092508Z
LAST-MODIFIED:20260204T143215Z
UID:10862973-1772107200-1772118000@seniorocity.com.au
SUMMARY:Caring for the Mental Health Carer: Creative Writing | Hillarys
DESCRIPTION:Caring for the Mental Health Carer is a therapeutic group program designed for adult Mental Health Carers aged 18+.
URL:https://seniorocity.com.au/whats-on-perth/caring-for-the-mental-health-carer-creative-writing-hillarys/
LOCATION:6/32 Endeavour Rd\, Hillarys WA 6025\, 6/32 Endeavour Rd\, Hillarys\, WA\, 6025\, Australia
CATEGORIES:Health
ATTACH;FMTTYPE=image/jpeg:https://seniorocity.com.au/wp-content/uploads/2026/02/4aa1e8a1e74bd01fbe765f3b09d53746.jpg
END:VEVENT
BEGIN:VEVENT
DTSTART;TZID=Australia/Perth:20260226T123000
DTEND;TZID=Australia/Perth:20260226T140000
DTSTAMP:20260422T133746
CREATED:20260203T085741Z
LAST-MODIFIED:20260203T090210Z
UID:10862659-1772109000-1772114400@seniorocity.com.au
SUMMARY:Kensington Ability Dance
DESCRIPTION:Join us for a fun\, inclusive dance class designed especially for people with an intellectual disability. Delivered by DanceSport coaches.
URL:https://seniorocity.com.au/whats-on-perth/kensington-ability-dance-4/
LOCATION:Moresby Street Hall\, 4 Moresby Street\, Kensington\, WA\, 6151\, Australia
CATEGORIES:Free
ATTACH;FMTTYPE=image/jpeg:https://seniorocity.com.au/wp-content/uploads/2026/02/adceed0625e731f962d3ba11441c831e.jpg
END:VEVENT
BEGIN:VEVENT
DTSTART;TZID=Australia/Perth:20260226T130000
DTEND;TZID=Australia/Perth:20260226T140000
DTSTAMP:20260422T133746
CREATED:20260102T073513Z
LAST-MODIFIED:20260204T091246Z
UID:10857599-1772110800-1772114400@seniorocity.com.au
SUMMARY:Hi\, Tech! Bayswater Library:  basic 1-to-1 tech help- January to March 2026
DESCRIPTION:Get ready to level up your tech skills with personalised 1-to-1 help at Bayswater Library – it’s your time to shine!
URL:https://seniorocity.com.au/whats-on-perth/hi-tech-bayswater-library-basic-1-to-1-tech-help-january-to-march-2026-37/
LOCATION:Bayswater Library\, 25 King William Street\, Bayswater\, WA\, 6053\, Australia
CATEGORIES:Tech
ATTACH;FMTTYPE=image/jpeg:https://seniorocity.com.au/wp-content/uploads/2023/04/558c99d491271827e52d2dce5803d12d.jpg
END:VEVENT
BEGIN:VEVENT
DTSTART;TZID=Australia/Perth:20260226T134500
DTEND;TZID=Australia/Perth:20260226T160000
DTSTAMP:20260422T133746
CREATED:20260102T075107Z
LAST-MODIFIED:20260102T080129Z
UID:10857848-1772113500-1772121600@seniorocity.com.au
SUMMARY:NOW ON WEEKLY!  The Listening Lounge - Fremantle Group!
DESCRIPTION:A welcoming space for connection\, understanding and mutual support.
URL:https://seniorocity.com.au/whats-on-perth/now-on-weekly-the-listening-lounge-fremantle-group-8/
LOCATION:Hampton House\, 33 Moss Street\, East Fremantle\, WA\, 6158\, Australia
CATEGORIES:Health
ATTACH;FMTTYPE=image/jpeg:https://seniorocity.com.au/wp-content/uploads/2026/01/f7784d010f62842c46d0bec8424fdcca.jpg
END:VEVENT
BEGIN:VEVENT
DTSTART;TZID=Australia/Perth:20260226T140000
DTEND;TZID=Australia/Perth:20260226T150000
DTSTAMP:20260422T133746
CREATED:20260102T073513Z
LAST-MODIFIED:20260204T091256Z
UID:10857600-1772114400-1772118000@seniorocity.com.au
SUMMARY:Hi\, Tech! Bayswater Library:  basic 1-to-1 tech help- January to March 2026
DESCRIPTION:Get ready to level up your tech skills with personalised 1-to-1 help at Bayswater Library – it’s your time to shine!
URL:https://seniorocity.com.au/whats-on-perth/hi-tech-bayswater-library-basic-1-to-1-tech-help-january-to-march-2026-38/
LOCATION:Bayswater Library\, 25 King William Street\, Bayswater\, WA\, 6053\, Australia
CATEGORIES:Tech
ATTACH;FMTTYPE=image/jpeg:https://seniorocity.com.au/wp-content/uploads/2023/04/558c99d491271827e52d2dce5803d12d.jpg
END:VEVENT
BEGIN:VEVENT
DTSTART;TZID=Australia/Perth:20260226T173000
DTEND;TZID=Australia/Perth:20260226T183000
DTSTAMP:20260422T133746
CREATED:20260112T115236Z
LAST-MODIFIED:20260112T115236Z
UID:10861493-1772127000-1772130600@seniorocity.com.au
SUMMARY:Discover the Power of Podcasting
DESCRIPTION:Could you be the next Stephen Bartlett or Joe Rogan? Rockingham’s free podcasting suite is the perfect place to start your podcasting journey\, and this workshop with The Hybrid Author Joanne Morrell\, will give you the skills to launch with confidence. \nDiscover how podcasting can elevate your personal brand\, grow your audience and open doors to new opportunities. With over 175 episodes of The Hybrid Author streamed in 41 countries\, Joanne brings real-world experience and proven strategies to help you find your voice and build a loyal following. Don’t miss this free opportunity to turn your podcasting ideas into reality. \nBookings are essential and open on Thursday 29 January 2026. \nTwo ACROD parking bays are available along with a drop-off and pick-up zone. The library has accessible bathrooms and lift access to the first floor. \nIf you have any specific needs or require accommodations in order to comfortably attend this event\, such as visual aids\, a quiet space or accessible seating\, please let us know. \nFor further information contact Rockingham Library on 9528 8683 or email rockinghamlibraries@rockingham.wa.gov.au \nRegister now
URL:https://seniorocity.com.au/whats-on-perth/discover-the-power-of-podcasting-2/
LOCATION:Rockingham Library\, 107 Dixon Road\, #Campus\, Building\, Rockingham\, WA\, 6168\, Australia
CATEGORIES:Free,Information Session,Workshop
ATTACH;FMTTYPE=image/png:https://seniorocity.com.au/wp-content/uploads/2026/01/Discover-the-Power-of-Podcasting.png
END:VEVENT
BEGIN:VEVENT
DTSTART;TZID=Australia/Perth:20260226T180000
DTEND;TZID=Australia/Perth:20260226T184500
DTSTAMP:20260422T133746
CREATED:20260102T075417Z
LAST-MODIFIED:20260102T080839Z
UID:10857985-1772128800-1772131500@seniorocity.com.au
SUMMARY:Free Sunset Pilates - Karrinyup
DESCRIPTION:45min Pilates session on the grass at Tuart Estate\, Karrinyup.
URL:https://seniorocity.com.au/whats-on-perth/free-sunset-pilates-karrinyup-8/
LOCATION:Tuart Estate\, 102 Marmion Avenue\, Karrinyup\, WA\, 6018\, Australia
CATEGORIES:Free
ATTACH;FMTTYPE=image/jpeg:https://seniorocity.com.au/wp-content/uploads/2025/11/b0f0c36adc423b73097f4ca85997b089.jpg
END:VEVENT
BEGIN:VEVENT
DTSTART;TZID=Australia/Perth:20260226T180000
DTEND;TZID=Australia/Perth:20260226T193000
DTSTAMP:20260422T133746
CREATED:20260117T141818Z
LAST-MODIFIED:20260117T141818Z
UID:10862028-1772128800-1772134200@seniorocity.com.au
SUMMARY:The art of exhibiting with Sandra Murray
DESCRIPTION:ARTsTNT (Tips & Tools) Professional development talk with Sandra Murray. \n\nSandra is an independent art curator\, consultant and artist mentor. She has a depth of experience working with artists\, including directing and curating for art and museum institutions in WA and NSW. \nHaving curated over 65 exhibitions\, she may know just a little about the art of exhibiting! Join this motivational talk to learn more\, including how to price your artwork\, essential for all artists. \nRegister now \nA confirmation email will be sent out to you. It would be appreciated if you check your email regularly for any changes to this event. \nNo refunds applicable.
URL:https://seniorocity.com.au/whats-on-perth/the-art-of-exhibiting-with-sandra-murray/
LOCATION:Wanneroo Library & Cultural Centre\, 3 Rocca Way\, Wanneroo\, WA\, 6065\, Australia
CATEGORIES:Exhibition,Information Session
ATTACH;FMTTYPE=image/png:https://seniorocity.com.au/wp-content/uploads/2026/01/The-art-of-exhibiting-with-Sandra-Murray.png
GEO:-31.7506534;115.8056356
X-APPLE-STRUCTURED-LOCATION;VALUE=URI;X-ADDRESS=Wanneroo Library & Cultural Centre 3 Rocca Way Wanneroo WA 6065 Australia;X-APPLE-RADIUS=500;X-TITLE=3 Rocca Way:geo:115.8056356,-31.7506534
END:VEVENT
BEGIN:VEVENT
DTSTART;TZID=Australia/Perth:20260226T183000
DTEND;TZID=Australia/Perth:20260226T203000
DTSTAMP:20260422T133746
CREATED:20260114T114010Z
LAST-MODIFIED:20260114T114010Z
UID:10861721-1772130600-1772137800@seniorocity.com.au
SUMMARY:Black Cockatoo Crisis
DESCRIPTION:Join us for a special screening of Black Cockatoo Crisis\, a powerful documentary shining a light on the plight of Western Australia’s endangered black cockatoos. \n  \nDiscover the beauty of these iconic birds and the urgent conservation efforts working to protect them. \n  \nStay after the film for a short discussion and a chance to learn how you can help make a difference. \n  \nBookings are essential. \n  \nPriority given to Vincent residents.
URL:https://seniorocity.com.au/whats-on-perth/black-cockatoo-crisis/
LOCATION:Luna Leederville\, 155 Oxford Street\, Leederville\, WA\, 6007\, Australia
CATEGORIES:Free,Gardening & Environment,Movies
ATTACH;FMTTYPE=image/jpeg:https://seniorocity.com.au/wp-content/uploads/2026/01/Black-Cockatoo-Crisis.jpg
END:VEVENT
BEGIN:VEVENT
DTSTART;TZID=Australia/Perth:20260226T183000
DTEND;TZID=Australia/Perth:20260226T213000
DTSTAMP:20260422T133746
CREATED:20260102T081200Z
LAST-MODIFIED:20260102T081200Z
UID:10858198-1772130600-1772141400@seniorocity.com.au
SUMMARY:Quiz Night - Palace Arcade Northbridge
DESCRIPTION:A night of laughs\, banter and head scratching questions. Every Thursday at Palace Arcade. Book at thepalacearcade.com.au or just walk in!
URL:https://seniorocity.com.au/whats-on-perth/quiz-night-palace-arcade-northbridge-8/
LOCATION:The Palace Arcade\, 84 Beaufort Street\, Perth\, WA\, 6000\, Australia
CATEGORIES:Games
ATTACH;FMTTYPE=image/jpeg:https://seniorocity.com.au/wp-content/uploads/2026/01/c5e68d32a2985bec0bbcdbd687286ed5.jpg
END:VEVENT
BEGIN:VEVENT
DTSTART;TZID=Australia/Perth:20260227T063000
DTEND;TZID=Australia/Perth:20260227T071500
DTSTAMP:20260422T133746
CREATED:20251102T131710Z
LAST-MODIFIED:20260102T080734Z
UID:10856407-1772173800-1772176500@seniorocity.com.au
SUMMARY:Free Friday Morning Pilates - Karrinyup
DESCRIPTION:45min Pilates session on the grass at Tuart Estate\, Karrinyup.
URL:https://seniorocity.com.au/whats-on-perth/free-friday-morning-pilates-karrinyup-17/
LOCATION:Tuart Estate\, 102 Marmion Avenue\, Karrinyup\, WA\, 6018\, Australia
CATEGORIES:Free
ATTACH;FMTTYPE=image/jpeg:https://seniorocity.com.au/wp-content/uploads/2025/11/ee6aa16f8d6bb8d14fc3c28f71759450.jpg
END:VEVENT
BEGIN:VEVENT
DTSTART;TZID=Australia/Perth:20260227T093000
DTEND;TZID=Australia/Perth:20260227T113000
DTSTAMP:20260422T133746
CREATED:20260204T091447Z
LAST-MODIFIED:20260204T093833Z
UID:10862835-1772184600-1772191800@seniorocity.com.au
SUMMARY:English Conversation Group - Maylands Library
DESCRIPTION:English Conversation Group – Fluency\, Fun and Friendship
URL:https://seniorocity.com.au/whats-on-perth/english-conversation-group-maylands-library-4/
LOCATION:Maylands Public Library\, The RISE\, 28 Eighth Avenue\, Maylands\, WA\, 6051\, Australia
CATEGORIES:Language Class
ATTACH;FMTTYPE=image/jpeg:https://seniorocity.com.au/wp-content/uploads/2026/02/007c29eb8664b505b73d07efa56ec846.jpg
GEO:-31.9310445;115.8948571
X-APPLE-STRUCTURED-LOCATION;VALUE=URI;X-ADDRESS=Maylands Public Library The RISE 28 Eighth Avenue Maylands WA 6051 Australia;X-APPLE-RADIUS=500;X-TITLE=The RISE\, 28 Eighth Avenue:geo:115.8948571,-31.9310445
END:VEVENT
BEGIN:VEVENT
DTSTART;TZID=Australia/Perth:20260227T100000
DTEND;TZID=Australia/Perth:20260227T110000
DTSTAMP:20260422T133746
CREATED:20260102T080827Z
LAST-MODIFIED:20260206T145718Z
UID:10858155-1772186400-1772190000@seniorocity.com.au
SUMMARY:Port Walks - General
DESCRIPTION:Stroll with us around Victoria Quay and listen as port experts tell you about different aspects of Fremantle Ports and the Inner Harbour.
URL:https://seniorocity.com.au/whats-on-perth/port-walks-general-138/
LOCATION:Fremantle Ports\, 1 Cliff Street\, Fremantle\, WA\, 6160\, Australia
CATEGORIES:Walks
ATTACH;FMTTYPE=image/jpeg:https://seniorocity.com.au/wp-content/uploads/2024/11/139bb6ca0281574198356e89e7b97636.jpg
END:VEVENT
BEGIN:VEVENT
DTSTART;TZID=Australia/Perth:20260227T100000
DTEND;TZID=Australia/Perth:20260227T110000
DTSTAMP:20260422T133746
CREATED:20260102T074617Z
LAST-MODIFIED:20260203T085742Z
UID:10857730-1772186400-1772190000@seniorocity.com.au
SUMMARY:Hi\, Tech! - Morley Library: basic 1 to 1 tech help - January to March 2026
DESCRIPTION:Get ready to level up your tech skills with personalised 1-to-1 help at Morley Library – it’s your time to shine!
URL:https://seniorocity.com.au/whats-on-perth/hi-tech-morley-library-basic-1-to-1-tech-help-january-to-march-2026-32/
LOCATION:Morley Library\, 240 Walter Road West\, Morley\, WA\, 6062\, Australia
CATEGORIES:Tech
ATTACH;FMTTYPE=image/jpeg:https://seniorocity.com.au/wp-content/uploads/2023/05/9d8a7f09914618be6e7e50f09a533e8d.jpg
END:VEVENT
BEGIN:VEVENT
DTSTART;TZID=Australia/Perth:20260227T100000
DTEND;TZID=Australia/Perth:20260227T170000
DTSTAMP:20260422T133746
CREATED:20260204T150225Z
LAST-MODIFIED:20260204T150225Z
UID:10863102-1772186400-1772211600@seniorocity.com.au
SUMMARY:PERTH FESTIVAL: Brad Rimmer | Loom of the Land
DESCRIPTION:Loom of the Land brings together 3 interconnected bodies of work from artist Brad Rimmer’s Wheatbelt trilogy in a major survey exhibition.
URL:https://seniorocity.com.au/whats-on-perth/perth-festival-brad-rimmer-loom-of-the-land-21/
LOCATION:Walyalup Fremantle Arts Centre\, 1 Finnerty Street\, Fremantle\, WA\, 6160\, Australia
CATEGORIES:Exhibition
ATTACH;FMTTYPE=image/jpeg:https://seniorocity.com.au/wp-content/uploads/2026/02/d575ffdc5d64126502242cb4ddd17dee.jpg
END:VEVENT
BEGIN:VEVENT
DTSTART;TZID=Australia/Perth:20260227T110000
DTEND;TZID=Australia/Perth:20260227T120000
DTSTAMP:20260422T133746
CREATED:20260102T074618Z
LAST-MODIFIED:20260203T085749Z
UID:10857732-1772190000-1772193600@seniorocity.com.au
SUMMARY:Hi\, Tech! - Morley Library: basic 1 to 1 tech help - January to March 2026
DESCRIPTION:Get ready to level up your tech skills with personalised 1-to-1 help at Morley Library – it’s your time to shine!
URL:https://seniorocity.com.au/whats-on-perth/hi-tech-morley-library-basic-1-to-1-tech-help-january-to-march-2026-33/
LOCATION:Morley Library\, 240 Walter Road West\, Morley\, WA\, 6062\, Australia
CATEGORIES:Tech
ATTACH;FMTTYPE=image/jpeg:https://seniorocity.com.au/wp-content/uploads/2023/05/9d8a7f09914618be6e7e50f09a533e8d.jpg
END:VEVENT
BEGIN:VEVENT
DTSTART;TZID=Australia/Perth:20260227T120000
DTEND;TZID=Australia/Perth:20260227T130000
DTSTAMP:20260422T133746
CREATED:20260102T074619Z
LAST-MODIFIED:20260203T085808Z
UID:10857734-1772193600-1772197200@seniorocity.com.au
SUMMARY:Hi\, Tech! - Morley Library: basic 1 to 1 tech help - January to March 2026
DESCRIPTION:Get ready to level up your tech skills with personalised 1-to-1 help at Morley Library – it’s your time to shine!
URL:https://seniorocity.com.au/whats-on-perth/hi-tech-morley-library-basic-1-to-1-tech-help-january-to-march-2026-34/
LOCATION:Morley Library\, 240 Walter Road West\, Morley\, WA\, 6062\, Australia
CATEGORIES:Tech
ATTACH;FMTTYPE=image/jpeg:https://seniorocity.com.au/wp-content/uploads/2023/05/9d8a7f09914618be6e7e50f09a533e8d.jpg
END:VEVENT
BEGIN:VEVENT
DTSTART;TZID=Australia/Perth:20260227T130000
DTEND;TZID=Australia/Perth:20260227T150000
DTSTAMP:20260422T133746
CREATED:20260204T143541Z
LAST-MODIFIED:20260204T143636Z
UID:10863015-1772197200-1772204400@seniorocity.com.au
SUMMARY:Feed It Forward Community Day
DESCRIPTION:Milestones Swan View welcomes the local community into the Center every Friday from 1pm – 3pm for fresh fruit\, vegetables and bakery items f
URL:https://seniorocity.com.au/whats-on-perth/feed-it-forward-community-day-4/
LOCATION:31 Balfour Rd\, 31 Balfour Road\, Swan View\, WA\, 6056\, Australia
CATEGORIES:Community Event
ATTACH;FMTTYPE=image/jpeg:https://seniorocity.com.au/wp-content/uploads/2026/02/50587b64d7b300a4fef5967808c9560c.jpg
END:VEVENT
BEGIN:VEVENT
DTSTART;TZID=Australia/Perth:20260227T130000
DTEND;TZID=Australia/Perth:20260227T160000
DTSTAMP:20260422T133746
CREATED:20260203T083753Z
LAST-MODIFIED:20260203T083849Z
UID:10862601-1772197200-1772208000@seniorocity.com.au
SUMMARY:Loop to Loop - Bayswater Library (social group for adults)
DESCRIPTION:Do you like to knit or crochet and have a yarn with your mates?
URL:https://seniorocity.com.au/whats-on-perth/loop-to-loop-bayswater-library-social-group-for-adults-48/
LOCATION:Bayswater Library\, 25 King William Street\, Bayswater\, WA\, 6053\, Australia
CATEGORIES:Knitting
ATTACH;FMTTYPE=image/jpeg:https://seniorocity.com.au/wp-content/uploads/2024/01/3cc61f6e48a291815488a5e5848cddc2.jpg
END:VEVENT
END:VCALENDAR