BEGIN:VCALENDAR
VERSION:2.0
PRODID:-//Seniorocity - Seniors / Over 55&#039;s Guide to Perth - ECPv6.15.11//NONSGML v1.0//EN
CALSCALE:GREGORIAN
METHOD:PUBLISH
X-WR-CALNAME:Seniorocity - Seniors / Over 55&#039;s Guide to Perth
X-ORIGINAL-URL:https://seniorocity.com.au
X-WR-CALDESC:Events for Seniorocity - Seniors / Over 55&#039;s Guide to Perth
REFRESH-INTERVAL;VALUE=DURATION:PT1H
X-Robots-Tag:noindex
X-PUBLISHED-TTL:PT1H
BEGIN:VTIMEZONE
TZID:Australia/Perth
BEGIN:STANDARD
TZOFFSETFROM:+0800
TZOFFSETTO:+0800
TZNAME:AWST
DTSTART:20250101T000000
END:STANDARD
END:VTIMEZONE
BEGIN:VEVENT
DTSTART;TZID=Australia/Perth:20260524T130000
DTEND;TZID=Australia/Perth:20260524T143000
DTSTAMP:20260424T041033
CREATED:20260401T142816Z
LAST-MODIFIED:20260401T143230Z
UID:10865173-1779627600-1779633000@seniorocity.com.au
SUMMARY:FREE Come and Try Session - Squash
DESCRIPTION:Hey there! Come join us for a FREE Squash Come and Try Session – it’s the perfect opportunity to give squash a go and have some fun!\n\n\nFREE Come and Try Session – Squash \nHey there! Are you looking to try something new and exciting? \nJoin us for a FREE come and try session for squash at Squashworld Brentwood! Whether you’re a past player or a complete beginner\, this event is perfect for anyone looking to have some fun and get active. \nAll equipment provided\, just wear comfortable\, non-marking shoes. \nCome on down on Sunday afternoon at 1:00 PM and discover the thrill of squash. Don’t miss out on this awesome opportunity to learn a new sport and meet some great people. \nThis session is aimed at KIDS aged 8-18\, and MEN / WOMEN of all ages\, so parents bring your kids\, and kids bring your parents. Hope to see you there! \nLocation: Blue Gum Squash Club at Squashworld Brentwood
URL:https://seniorocity.com.au/whats-on-perth/free-come-and-try-session-squash-5/
LOCATION:Squashworld Brentwood\, Disney Street\, Brentwood\, WA\, 6153\, Australia
CATEGORIES:Free
ATTACH;FMTTYPE=image/jpeg:https://seniorocity.com.au/wp-content/uploads/2026/04/cb376bbd258d4065d8b48710dad7a559.jpg
END:VEVENT
BEGIN:VEVENT
DTSTART;TZID=Australia/Perth:20260525T093000
DTEND;TZID=Australia/Perth:20260525T113000
DTSTAMP:20260424T041033
CREATED:20260401T142615Z
LAST-MODIFIED:20260401T143128Z
UID:10865167-1779701400-1779708600@seniorocity.com.au
SUMMARY:Forget Me Not Dementia Support
DESCRIPTION:Join us for a heartwarming gathering to support those affected by dementia at Forget Me Not Dementia Support.
URL:https://seniorocity.com.au/whats-on-perth/forget-me-not-dementia-support-2/
LOCATION:BillaBean Cafe\, 40 Liffey Street\, Canning Vale\, WA\, 6155\, Australia
CATEGORIES:Coffee Catchup
ATTACH;FMTTYPE=image/jpeg:https://seniorocity.com.au/wp-content/uploads/2026/04/3d6bf304f2dee35b91c1a3b568d81d81.jpg
END:VEVENT
BEGIN:VEVENT
DTSTART;TZID=Australia/Perth:20260525T130000
DTEND;TZID=Australia/Perth:20260525T160000
DTSTAMP:20260424T041033
CREATED:20260405T124926Z
LAST-MODIFIED:20260405T124926Z
UID:10865383-1779714000-1779724800@seniorocity.com.au
SUMMARY:TECH Connect
DESCRIPTION:Personalised help with your specific queries relating to the internet and technology.
URL:https://seniorocity.com.au/whats-on-perth/tech-connect-59/
LOCATION:Australind Public Library\, 7 Mulgara Street\, Australind\, WA\, 6233\, Australia
CATEGORIES:Tech
ATTACH;FMTTYPE=image/jpeg:https://seniorocity.com.au/wp-content/uploads/2025/07/c32d4cac6d25bcb1b7f9ffb031165fb0.jpg
END:VEVENT
BEGIN:VEVENT
DTSTART;TZID=Australia/Perth:20260525T140000
DTEND;TZID=Australia/Perth:20260525T143000
DTSTAMP:20260424T041033
CREATED:20260203T090544Z
LAST-MODIFIED:20260203T090544Z
UID:10862719-1779717600-1779719400@seniorocity.com.au
SUMMARY:Tech Help @ Wanneroo Library (Monday)
DESCRIPTION:Book in for a one-on-one session to go over whatever tech help you need.
URL:https://seniorocity.com.au/whats-on-perth/tech-help-wanneroo-library-monday-152/
LOCATION:Wanneroo Library\, 3 Rocca Way\, Wanneroo\, WA\, 6065\, Australia
CATEGORIES:Tech
ATTACH;FMTTYPE=image/jpeg:https://seniorocity.com.au/wp-content/uploads/2025/04/1846f0357c7a791a8fd4ed3d29e5a0ba.jpg
GEO:-31.750643;115.805954
X-APPLE-STRUCTURED-LOCATION;VALUE=URI;X-ADDRESS=Wanneroo Library 3 Rocca Way Wanneroo WA 6065 Australia;X-APPLE-RADIUS=500;X-TITLE=3 Rocca Way:geo:115.805954,-31.750643
END:VEVENT
BEGIN:VEVENT
DTSTART;TZID=Australia/Perth:20260525T143000
DTEND;TZID=Australia/Perth:20260525T150000
DTSTAMP:20260424T041033
CREATED:20260203T090544Z
LAST-MODIFIED:20260203T090544Z
UID:10862720-1779719400-1779721200@seniorocity.com.au
SUMMARY:Tech Help @ Wanneroo Library (Monday)
DESCRIPTION:Book in for a one-on-one session to go over whatever tech help you need.
URL:https://seniorocity.com.au/whats-on-perth/tech-help-wanneroo-library-monday-153/
LOCATION:Wanneroo Library\, 3 Rocca Way\, Wanneroo\, WA\, 6065\, Australia
CATEGORIES:Tech
ATTACH;FMTTYPE=image/jpeg:https://seniorocity.com.au/wp-content/uploads/2025/04/1846f0357c7a791a8fd4ed3d29e5a0ba.jpg
GEO:-31.750643;115.805954
X-APPLE-STRUCTURED-LOCATION;VALUE=URI;X-ADDRESS=Wanneroo Library 3 Rocca Way Wanneroo WA 6065 Australia;X-APPLE-RADIUS=500;X-TITLE=3 Rocca Way:geo:115.805954,-31.750643
END:VEVENT
BEGIN:VEVENT
DTSTART;TZID=Australia/Perth:20260525T173000
DTEND;TZID=Australia/Perth:20260525T183000
DTSTAMP:20260424T041033
CREATED:20260416T141735Z
LAST-MODIFIED:20260416T141735Z
UID:10865813-1779730200-1779733800@seniorocity.com.au
SUMMARY:Bush Flower Essence
DESCRIPTION:Join Tree Month for a hands-on workshop with First Nations educator Nikki Quartermaine. \nExplore Australian bush flower essences and their natural healing benefits\, and learn how they support emotional wellbeing. Learn about native bush flowers and their uses\, discover the benefits of flower essences\, and create your own personalised essence to take home. \n\nFree Event | All Welcome\n\nDiscover how connecting with native plants can support calm\, clarity\, and wellbeing. \nRegister now
URL:https://seniorocity.com.au/whats-on-perth/bush-flower-essence/
LOCATION:Perth City Farm\, 1 City Farm Pl\, East Perth\, WA\, 6004\, Australia
CATEGORIES:Festival,Free,Workshop
ATTACH;FMTTYPE=image/jpeg:https://seniorocity.com.au/wp-content/uploads/2026/04/Bush-Flower-Essence.jpg
GEO:-31.950655;115.8707
X-APPLE-STRUCTURED-LOCATION;VALUE=URI;X-ADDRESS=Perth City Farm 1 City Farm Pl East Perth WA 6004 Australia;X-APPLE-RADIUS=500;X-TITLE=1 City Farm Pl:geo:115.8707,-31.950655
END:VEVENT
BEGIN:VEVENT
DTSTART;TZID=Australia/Perth:20260525T174500
DTEND;TZID=Australia/Perth:20260525T200000
DTSTAMP:20260424T041033
CREATED:20260102T080721Z
LAST-MODIFIED:20260204T145916Z
UID:10858134-1779731100-1779739200@seniorocity.com.au
SUMMARY:NEW! Listening Lounge Mental Health Peer Support Group - Joondalup
DESCRIPTION:A welcoming space for connection\, understanding and mutual support.
URL:https://seniorocity.com.au/whats-on-perth/new-listening-lounge-mental-health-peer-support-group-joondalup-17/
LOCATION:Joondalup Family Centre\, 25 Jolstra Crescent\, Joondalup\, WA\, 6027\, Australia
CATEGORIES:Health
ATTACH;FMTTYPE=image/jpeg:https://seniorocity.com.au/wp-content/uploads/2026/01/633e950438bb36cdcb2805d326328360.jpg
END:VEVENT
BEGIN:VEVENT
DTSTART;TZID=Australia/Perth:20260525T190000
DTEND;TZID=Australia/Perth:20260525T200000
DTSTAMP:20260424T041033
CREATED:20250907T024549Z
LAST-MODIFIED:20251102T040834Z
UID:10855570-1779735600-1779739200@seniorocity.com.au
SUMMARY:Ballroom  and Latin Beginners Dancing Class Mondays
DESCRIPTION:Weekly Ballroom Dancing and Latin Beginners Class new dancers for Mondays from 7 to 8 pm.
URL:https://seniorocity.com.au/whats-on-perth/ballroom-and-latin-beginners-dancing-class-mondays-38/
LOCATION:Belmont Hub\, 213 Wright Street\, Cloverdale\, WA\, 6105\, Australia
CATEGORIES:Sport Activities
ATTACH;FMTTYPE=image/jpeg:https://seniorocity.com.au/wp-content/uploads/2025/09/c582fe5adf5726f7c2896c043591a1a1.jpg
GEO:-31.963159561157;115.9342880249
X-APPLE-STRUCTURED-LOCATION;VALUE=URI;X-ADDRESS=Belmont Hub 213 Wright Street Cloverdale WA 6105 Australia;X-APPLE-RADIUS=500;X-TITLE=213 Wright Street:geo:115.9342880249,-31.963159561157
END:VEVENT
BEGIN:VEVENT
DTSTART;TZID=Australia/Perth:20260525T190000
DTEND;TZID=Australia/Perth:20260525T203000
DTSTAMP:20260424T041033
CREATED:20260102T075248Z
LAST-MODIFIED:20260203T091952Z
UID:10857936-1779735600-1779741000@seniorocity.com.au
SUMMARY:Transform Your Relationships and Communication
DESCRIPTION:Learn new techniques and skills to help you communicate effectively with others\, resolve issues\, and heal and strengthen your relationships
URL:https://seniorocity.com.au/whats-on-perth/transform-your-relationships-and-communication-21/
LOCATION:Dorchester Hall\, 2 Dugdale Street\, Warwick\, WA\, 6024\, Australia
CATEGORIES:Free
ATTACH;FMTTYPE=image/jpeg:https://seniorocity.com.au/wp-content/uploads/2026/01/2d2f2c5208b06c6160bbfb3ac3185367.jpg
END:VEVENT
BEGIN:VEVENT
DTSTART;TZID=Australia/Perth:20260526T100000
DTEND;TZID=Australia/Perth:20260526T120000
DTSTAMP:20260424T041033
CREATED:20260204T091319Z
LAST-MODIFIED:20260401T144156Z
UID:10862807-1779789600-1779796800@seniorocity.com.au
SUMMARY:Scrabble
DESCRIPTION:Hey word enthusiasts!  Come along to our Scrabble group.  Bring your friends or join to make new ones.
URL:https://seniorocity.com.au/whats-on-perth/scrabble-79/
LOCATION:Bayswater Library\, 25 King William Street\, Bayswater\, WA\, 6053\, Australia
CATEGORIES:Games
ATTACH;FMTTYPE=image/jpeg:https://seniorocity.com.au/wp-content/uploads/2023/12/395216af19fc80e3a7d31b811f79a441.jpg
END:VEVENT
BEGIN:VEVENT
DTSTART;TZID=Australia/Perth:20260526T120000
DTEND;TZID=Australia/Perth:20260526T123000
DTSTAMP:20260424T041033
CREATED:20260401T145050Z
LAST-MODIFIED:20260401T145057Z
UID:10865195-1779796800-1779798600@seniorocity.com.au
SUMMARY:Tech Help @ Girrawheen Library
DESCRIPTION:Book in for a one-on-one session to go over whatever tech help you need.
URL:https://seniorocity.com.au/whats-on-perth/tech-help-girrawheen-library-53/
LOCATION:6 Patrick Ct\, 6 Patrick Court\, Girrawheen\, WA\, 6064\, Australia
CATEGORIES:Tech
ATTACH;FMTTYPE=image/jpeg:https://seniorocity.com.au/wp-content/uploads/2026/02/5e7fa4a1fcdd23cce7739d6be450808b.jpg
END:VEVENT
BEGIN:VEVENT
DTSTART;TZID=Australia/Perth:20260526T123000
DTEND;TZID=Australia/Perth:20260526T130000
DTSTAMP:20260424T041033
CREATED:20260401T145051Z
LAST-MODIFIED:20260401T145059Z
UID:10865196-1779798600-1779800400@seniorocity.com.au
SUMMARY:Tech Help @ Girrawheen Library
DESCRIPTION:Book in for a one-on-one session to go over whatever tech help you need.
URL:https://seniorocity.com.au/whats-on-perth/tech-help-girrawheen-library-54/
LOCATION:6 Patrick Ct\, 6 Patrick Court\, Girrawheen\, WA\, 6064\, Australia
CATEGORIES:Tech
ATTACH;FMTTYPE=image/jpeg:https://seniorocity.com.au/wp-content/uploads/2026/02/5e7fa4a1fcdd23cce7739d6be450808b.jpg
END:VEVENT
BEGIN:VEVENT
DTSTART;TZID=Australia/Perth:20260526T130000
DTEND;TZID=Australia/Perth:20260526T133000
DTSTAMP:20260424T041033
CREATED:20260401T145052Z
LAST-MODIFIED:20260401T145102Z
UID:10865197-1779800400-1779802200@seniorocity.com.au
SUMMARY:Tech Help @ Girrawheen Library
DESCRIPTION:Book in for a one-on-one session to go over whatever tech help you need.
URL:https://seniorocity.com.au/whats-on-perth/tech-help-girrawheen-library-55/
LOCATION:6 Patrick Ct\, 6 Patrick Court\, Girrawheen\, WA\, 6064\, Australia
CATEGORIES:Tech
ATTACH;FMTTYPE=image/jpeg:https://seniorocity.com.au/wp-content/uploads/2026/02/5e7fa4a1fcdd23cce7739d6be450808b.jpg
END:VEVENT
BEGIN:VEVENT
DTSTART;TZID=Australia/Perth:20260526T133000
DTEND;TZID=Australia/Perth:20260526T140000
DTSTAMP:20260424T041033
CREATED:20260401T145053Z
LAST-MODIFIED:20260401T145106Z
UID:10865198-1779802200-1779804000@seniorocity.com.au
SUMMARY:Tech Help @ Girrawheen Library
DESCRIPTION:Book in for a one-on-one session to go over whatever tech help you need.
URL:https://seniorocity.com.au/whats-on-perth/tech-help-girrawheen-library-56/
LOCATION:6 Patrick Ct\, 6 Patrick Court\, Girrawheen\, WA\, 6064\, Australia
CATEGORIES:Tech
ATTACH;FMTTYPE=image/jpeg:https://seniorocity.com.au/wp-content/uploads/2026/02/5e7fa4a1fcdd23cce7739d6be450808b.jpg
END:VEVENT
BEGIN:VEVENT
DTSTART;TZID=Australia/Perth:20260526T174500
DTEND;TZID=Australia/Perth:20260526T200000
DTSTAMP:20260424T041033
CREATED:20260102T080954Z
LAST-MODIFIED:20260102T080954Z
UID:10858176-1779817500-1779825600@seniorocity.com.au
SUMMARY:Listening Lounge Mental Health Peer Support Group - Cloverdale
DESCRIPTION:A welcoming space for connection\, understanding and mutual support.
URL:https://seniorocity.com.au/whats-on-perth/listening-lounge-mental-health-peer-support-group-cloverdale-21/
LOCATION:Consumers of Mental Health WA\, 275 Belmont Avenue\, #14\, Cloverdale\, WA\, 6105\, Australia
CATEGORIES:Health
ATTACH;FMTTYPE=image/jpeg:https://seniorocity.com.au/wp-content/uploads/2026/01/daab8e42a64fba3b865f0b3d0214a624.jpg
END:VEVENT
BEGIN:VEVENT
DTSTART;TZID=Australia/Perth:20260526T180000
DTEND;TZID=Australia/Perth:20260526T190000
DTSTAMP:20260424T041033
CREATED:20260416T142037Z
LAST-MODIFIED:20260416T142037Z
UID:10865814-1779818400-1779822000@seniorocity.com.au
SUMMARY:Organic Growing
DESCRIPTION:As part of Tree Month\, join Perth City Farm for a practical session on organic growing. \nLearn the essentials of growing healthy plants without chemicals\, explore a recommended plant list\, and take home a selection of fresh cuttings or seeds to get started in your own garden. \n\nFree Event | All Welcome\n\nDiscover how simple organic practices can help your garden thrive naturally. \nRegister now
URL:https://seniorocity.com.au/whats-on-perth/organic-growing/
LOCATION:Perth City Farm\, 1 City Farm Pl\, East Perth\, WA\, 6004\, Australia
CATEGORIES:Free,Gardening & Environment
ATTACH;FMTTYPE=image/jpeg:https://seniorocity.com.au/wp-content/uploads/2026/04/Organic-Growing.jpg
GEO:-31.950655;115.8707
X-APPLE-STRUCTURED-LOCATION;VALUE=URI;X-ADDRESS=Perth City Farm 1 City Farm Pl East Perth WA 6004 Australia;X-APPLE-RADIUS=500;X-TITLE=1 City Farm Pl:geo:115.8707,-31.950655
END:VEVENT
BEGIN:VEVENT
DTSTART;TZID=Australia/Perth:20260527T090000
DTEND;TZID=Australia/Perth:20260527T100000
DTSTAMP:20260424T041033
CREATED:20260402T151901Z
LAST-MODIFIED:20260402T152554Z
UID:10865253-1779872400-1779876000@seniorocity.com.au
SUMMARY:Hi\, Tech! - Morley Library: basic 1 to 1 tech help - April to June 2026
DESCRIPTION:Get ready to level up your tech skills with personalised 1-to-1 help at Morley Library – it’s your time to shine!
URL:https://seniorocity.com.au/whats-on-perth/hi-tech-morley-library-basic-1-to-1-tech-help-april-to-june-2026-24/
LOCATION:Morley Library\, 240 Walter Road West\, Morley\, WA\, 6062\, Australia
CATEGORIES:Tech
ATTACH;FMTTYPE=image/jpeg:https://seniorocity.com.au/wp-content/uploads/2023/05/9d8a7f09914618be6e7e50f09a533e8d.jpg
END:VEVENT
BEGIN:VEVENT
DTSTART;TZID=Australia/Perth:20260527T090000
DTEND;TZID=Australia/Perth:20260527T120000
DTSTAMP:20260424T041033
CREATED:20260204T092514Z
LAST-MODIFIED:20260204T143219Z
UID:10862976-1779872400-1779883200@seniorocity.com.au
SUMMARY:Caring for the Mental Health Carer: Creative Writing | Hillarys
DESCRIPTION:Caring for the Mental Health Carer is a therapeutic group program designed for adult Mental Health Carers aged 18+.
URL:https://seniorocity.com.au/whats-on-perth/caring-for-the-mental-health-carer-creative-writing-hillarys-4/
LOCATION:6/32 Endeavour Rd\, Hillarys WA 6025\, 6/32 Endeavour Rd\, Hillarys\, WA\, 6025\, Australia
CATEGORIES:Health
ATTACH;FMTTYPE=image/jpeg:https://seniorocity.com.au/wp-content/uploads/2026/02/4aa1e8a1e74bd01fbe765f3b09d53746.jpg
END:VEVENT
BEGIN:VEVENT
DTSTART;TZID=Australia/Perth:20260527T100000
DTEND;TZID=Australia/Perth:20260527T110000
DTSTAMP:20260424T041033
CREATED:20260402T151903Z
LAST-MODIFIED:20260402T152607Z
UID:10865254-1779876000-1779879600@seniorocity.com.au
SUMMARY:Hi\, Tech! - Morley Library: basic 1 to 1 tech help - April to June 2026
DESCRIPTION:Get ready to level up your tech skills with personalised 1-to-1 help at Morley Library – it’s your time to shine!
URL:https://seniorocity.com.au/whats-on-perth/hi-tech-morley-library-basic-1-to-1-tech-help-april-to-june-2026-25/
LOCATION:Morley Library\, 240 Walter Road West\, Morley\, WA\, 6062\, Australia
CATEGORIES:Tech
ATTACH;FMTTYPE=image/jpeg:https://seniorocity.com.au/wp-content/uploads/2023/05/9d8a7f09914618be6e7e50f09a533e8d.jpg
END:VEVENT
BEGIN:VEVENT
DTSTART;TZID=Australia/Perth:20260527T100000
DTEND;TZID=Australia/Perth:20260527T120000
DTSTAMP:20260424T041033
CREATED:20260404T142625Z
LAST-MODIFIED:20260404T142625Z
UID:10865342-1779876000-1779883200@seniorocity.com.au
SUMMARY:Deal Me In! Card Game Mornings @ Dordaak Kepup Library
DESCRIPTION:Step into lively mornings of cards\, connection and a little friendly competition!
URL:https://seniorocity.com.au/whats-on-perth/deal-me-in-card-game-mornings-dordaak-kepup-library-3/
LOCATION:Dordaak Kepup – Library and Youth Innovation Hub\, 15 The Broadview\, Landsdale\, WA\, 6065\, Australia
CATEGORIES:Games
ATTACH;FMTTYPE=image/jpeg:https://seniorocity.com.au/wp-content/uploads/2026/04/d9871fee6ce9aa67a914b6322ed6c62a.jpg
END:VEVENT
BEGIN:VEVENT
DTSTART;TZID=Australia/Perth:20260527T100000
DTEND;TZID=Australia/Perth:20260527T130000
DTSTAMP:20260424T041033
CREATED:20260417T074234Z
LAST-MODIFIED:20260417T074234Z
UID:10865958-1779876000-1779886800@seniorocity.com.au
SUMMARY:Community Canvas | Reconciliation Week
DESCRIPTION:Join us during Reconciliation week and contribute to a shared artwork that celebrates connection\, culture\, and creativity. at our cultural centre to contribute to a free community canvas. \nAdd your mark and help create a meaningful piece of artwork shaped by our community. \nDate: Wednesday 27 May 2026 \nTime: 10am-1pm \nBook Now
URL:https://seniorocity.com.au/whats-on-perth/community-canvas-reconciliation-week/
LOCATION:Walyalup Aboriginal Cultural Centre\, 12 Captains Lane\, Fremantle\, WA\, 6160\, Australia
CATEGORIES:Community Event,Free
ATTACH;FMTTYPE=image/jpeg:https://seniorocity.com.au/wp-content/uploads/2026/04/Community-Canvas-Reconciliation-Week.jpg
END:VEVENT
BEGIN:VEVENT
DTSTART;TZID=Australia/Perth:20260527T103000
DTEND;TZID=Australia/Perth:20260527T123000
DTSTAMP:20260424T041033
CREATED:20260413T144429Z
LAST-MODIFIED:20260413T144429Z
UID:10865664-1779877800-1779885000@seniorocity.com.au
SUMMARY:Purple Road Craft Workshop
DESCRIPTION:Join us for a relaxed\, hands-on morning of creativity and conversation. Make simple purple flower crafts in your own style\, perfect for all skill levels. \nThis is a free event for ages 18+. Bookings are essential and will open Wednesday 29 April. \nFor further information contact Safety Bay Library on 9528 8611 or rockinghamlibraries@rockingham.wa.gov.au. \nIf you have any specific needs or require accommodations in order to comfortably attend this event\, such as visual aids\, a quiet space\, or accessible seating\, please let us know. \nRegister now
URL:https://seniorocity.com.au/whats-on-perth/purple-road-craft-workshop/
LOCATION:Safety Bay Library\, 197 Safety Bay Road\, Safety Bay\, WA\, 6169\, Australia
CATEGORIES:Craft,Free,Library Events,Workshop
ATTACH;FMTTYPE=image/jpeg:https://seniorocity.com.au/wp-content/uploads/2026/04/Purple-Road-Craft-Workshop.jpg
END:VEVENT
BEGIN:VEVENT
DTSTART;TZID=Australia/Perth:20260527T130000
DTEND;TZID=Australia/Perth:20260527T140000
DTSTAMP:20260424T041033
CREATED:20260402T152634Z
LAST-MODIFIED:20260402T153328Z
UID:10865287-1779886800-1779890400@seniorocity.com.au
SUMMARY:Hi\, Tech! Maylands Library: basic 1-to-1 tech help - April to June 2026
DESCRIPTION:Get ready to level up your IT skills with personalised 1-to-1 help at Maylands Library – it’s your time to shine!
URL:https://seniorocity.com.au/whats-on-perth/hi-tech-maylands-library-basic-1-to-1-tech-help-april-to-june-2026-13/
LOCATION:Maylands Public Library\, The RISE\, 28 Eighth Avenue\, Maylands\, WA\, 6051\, Australia
CATEGORIES:Free
ATTACH;FMTTYPE=image/jpeg:https://seniorocity.com.au/wp-content/uploads/2024/07/47d27fc431d8516939cc37f1f8af6de5.jpg
GEO:-31.9310445;115.8948571
X-APPLE-STRUCTURED-LOCATION;VALUE=URI;X-ADDRESS=Maylands Public Library The RISE 28 Eighth Avenue Maylands WA 6051 Australia;X-APPLE-RADIUS=500;X-TITLE=The RISE\, 28 Eighth Avenue:geo:115.8948571,-31.9310445
END:VEVENT
BEGIN:VEVENT
DTSTART;TZID=Australia/Perth:20260527T134500
DTEND;TZID=Australia/Perth:20260527T160000
DTSTAMP:20260424T041033
CREATED:20251102T132410Z
LAST-MODIFIED:20260102T080639Z
UID:10856466-1779889500-1779897600@seniorocity.com.au
SUMMARY:NEW Listening Lounge Mental Health Peer Support Group- Kelmscott!
DESCRIPTION:A welcoming space for connection\, understanding and mutual support.
URL:https://seniorocity.com.au/whats-on-perth/new-listening-lounge-mental-health-peer-support-group-kelmscott-30/
LOCATION:Creyk Park Pavilion\, 6 Kembla Street\, Kelmscott\, WA\, 6111\, Australia
CATEGORIES:Health
ATTACH;FMTTYPE=image/jpeg:https://seniorocity.com.au/wp-content/uploads/2026/01/0cd8afe91432da0a77137da7b5a4370c.jpg
END:VEVENT
BEGIN:VEVENT
DTSTART;TZID=Australia/Perth:20260527T140000
DTEND;TZID=Australia/Perth:20260527T150000
DTSTAMP:20260424T041033
CREATED:20260204T091645Z
LAST-MODIFIED:20260204T142654Z
UID:10862894-1779890400-1779894000@seniorocity.com.au
SUMMARY:Gardening Club
DESCRIPTION:Nature play for 2–5 year-olds & caregivers\, Wednesdays 2–3 pm! Plant veggies\, explore worms & enjoy outdoor fun together.
URL:https://seniorocity.com.au/whats-on-perth/gardening-club-16/
LOCATION:26A Harris St\, 26A Harris Street\, Bicton\, WA\, 6157\, Australia
CATEGORIES:Gardening & Environment
END:VEVENT
BEGIN:VEVENT
DTSTART;TZID=Australia/Perth:20260527T140000
DTEND;TZID=Australia/Perth:20260527T150000
DTSTAMP:20260424T041033
CREATED:20260402T152634Z
LAST-MODIFIED:20260402T153334Z
UID:10865288-1779890400-1779894000@seniorocity.com.au
SUMMARY:Hi\, Tech! Maylands Library: basic 1-to-1 tech help - April to June 2026
DESCRIPTION:Get ready to level up your IT skills with personalised 1-to-1 help at Maylands Library – it’s your time to shine!
URL:https://seniorocity.com.au/whats-on-perth/hi-tech-maylands-library-basic-1-to-1-tech-help-april-to-june-2026-14/
LOCATION:Maylands Public Library\, The RISE\, 28 Eighth Avenue\, Maylands\, WA\, 6051\, Australia
CATEGORIES:Free
ATTACH;FMTTYPE=image/jpeg:https://seniorocity.com.au/wp-content/uploads/2024/07/47d27fc431d8516939cc37f1f8af6de5.jpg
GEO:-31.9310445;115.8948571
X-APPLE-STRUCTURED-LOCATION;VALUE=URI;X-ADDRESS=Maylands Public Library The RISE 28 Eighth Avenue Maylands WA 6051 Australia;X-APPLE-RADIUS=500;X-TITLE=The RISE\, 28 Eighth Avenue:geo:115.8948571,-31.9310445
END:VEVENT
BEGIN:VEVENT
DTSTART;TZID=Australia/Perth:20260527T140000
DTEND;TZID=Australia/Perth:20260527T160000
DTSTAMP:20260424T041033
CREATED:20260404T142816Z
LAST-MODIFIED:20260404T142816Z
UID:10865344-1779890400-1779897600@seniorocity.com.au
SUMMARY:Aboriginal Family History
DESCRIPTION:Want to find out more about your family? Interested in browsing SLWA collections relating to your Aboriginal kinship in Western Australia?
URL:https://seniorocity.com.au/whats-on-perth/aboriginal-family-history-2/
LOCATION:State Library of Western Australia\, 25 Francis st\, Perth\, WA\, 6000\, Australia
CATEGORIES:History
ATTACH;FMTTYPE=image/jpeg:https://seniorocity.com.au/wp-content/uploads/2024/10/daf49bde08e9da9d95a3bdfdbb242ced.jpg
END:VEVENT
BEGIN:VEVENT
DTSTART;TZID=Australia/Perth:20260527T190000
DTEND;TZID=Australia/Perth:20260527T210000
DTSTAMP:20260424T041033
CREATED:20260102T073659Z
LAST-MODIFIED:20260401T141456Z
UID:10857633-1779908400-1779915600@seniorocity.com.au
SUMMARY:HILTON HAHAS
DESCRIPTION:New material Comedy Night\, come get a 1/2 priced dinner and have a laugh at some fresh new comedy !!
URL:https://seniorocity.com.au/whats-on-perth/hilton-hahas-21/
LOCATION:South Street Ale House & Bottleshop\, 277 South Street\, Hilton\, WA\, 6163\, Australia
CATEGORIES:Free,Theatre & Shows
ATTACH;FMTTYPE=image/jpeg:https://seniorocity.com.au/wp-content/uploads/2026/01/d1384d782c9a02cbe61db6a5afb92cd0.jpg
END:VEVENT
BEGIN:VEVENT
DTSTART;TZID=Australia/Perth:20260527T191500
DTEND;TZID=Australia/Perth:20260527T201500
DTSTAMP:20260424T041033
CREATED:20250713T072939Z
LAST-MODIFIED:20260102T081046Z
UID:10791370-1779909300-1779912900@seniorocity.com.au
SUMMARY:FREE Community Yoga
DESCRIPTION:A class taught by teachers in training. Free of charge.
URL:https://seniorocity.com.au/whats-on-perth/free-community-yoga-46/
LOCATION:The Yoga Space\, 79 Colin Street\, #6\, West Perth\, WA\, 6005\, Australia
CATEGORIES:Free
ATTACH;FMTTYPE=image/jpeg:https://seniorocity.com.au/wp-content/uploads/2025/07/620679d6cce180570dcf21a88ec64011.jpg
END:VEVENT
BEGIN:VEVENT
DTSTART;TZID=Australia/Perth:20260528T090000
DTEND;TZID=Australia/Perth:20260528T160000
DTSTAMP:20260424T041033
CREATED:20260421T133819Z
LAST-MODIFIED:20260421T133819Z
UID:10866054-1779958800-1779984000@seniorocity.com.au
SUMMARY:Cambridge Seniors Outing
DESCRIPTION:Join Cambridge Senior Services for regular outings to a mix of locations and lunch venues around Perth and beyond. It’s a great way to meet new friends. \nRegistration is essential as places are limited. Moderate walking and some stairs may be required during outings. It’s recommended that attendees bring a water bottle\, hand sanitiser\, hat\, and closed walking shoes. \nSeniors Outing to York\nJoin us for a relaxed and enjoyable day trip to the historic town of York. This outing offers a wonderful opportunity to explore Western Australia’s oldest inland settlement\, wander through its charming heritage precinct\, browse local shops and cafés and take in the beautiful Wheatbelt scenery. \nDate: Thursday 28 May 2026 \nTime: 9:00am – 4:00pm \nMeeting point: The Boulevard Centre (located below Cambridge Library) 99 The Boulevard\, Floreat \nCost per person: \n\n York Motor Museum: $10.00 (concession)\n\n\nLunch: $35.00 (includes dessert and a drink). \nView menu option here(PDF\, 1MB)\n\n\nTransport: Free for local residents; $20.00 for non‑residents\n\nRegister online \nFor more information contact Senior Services via: E: seniorservices@cambridge.wa.gov.au or T: (08) 9285 3138
URL:https://seniorocity.com.au/whats-on-perth/cambridge-seniors-outing/
LOCATION:The Boulevard Centre\, 99 The Boulevard\, Floreat\, WA\, 6014\, Australia
CATEGORIES:Days out
ATTACH;FMTTYPE=image/jpeg:https://seniorocity.com.au/wp-content/uploads/2026/04/Cambridge-Seniors-Outing.jpg
END:VEVENT
END:VCALENDAR