BEGIN:VCALENDAR
VERSION:2.0
PRODID:-//Seniorocity - Seniors / Over 55&#039;s Guide to Perth - ECPv6.15.11//NONSGML v1.0//EN
CALSCALE:GREGORIAN
METHOD:PUBLISH
X-ORIGINAL-URL:https://seniorocity.com.au
X-WR-CALDESC:Events for Seniorocity - Seniors / Over 55&#039;s Guide to Perth
REFRESH-INTERVAL;VALUE=DURATION:PT1H
X-Robots-Tag:noindex
X-PUBLISHED-TTL:PT1H
BEGIN:VTIMEZONE
TZID:Australia/Perth
BEGIN:STANDARD
TZOFFSETFROM:+0800
TZOFFSETTO:+0800
TZNAME:AWST
DTSTART:20250101T000000
END:STANDARD
END:VTIMEZONE
BEGIN:VEVENT
DTSTART;TZID=Australia/Perth:20260317T093000
DTEND;TZID=Australia/Perth:20260317T120000
DTSTAMP:20260423T073746
CREATED:20260413T044618Z
LAST-MODIFIED:20260413T044618Z
UID:10865626-1773739800-1773748800@seniorocity.com.au
SUMMARY:Community Lab: Craft Corner
DESCRIPTION:For adults \nThis session will be held in the Innovation Lab\, Ruth Faulkner Library \nWelcome to Community Lab! These sessions are an unstructured\, self-directed opportunity to craft with like-minded friends in a safe way. You don’t have to be an expert to join in. This is a judgement free zone! You may even find yourself inspired by the experienced crafters who attend. \nTickets are not required for this free event. \nPlease Note: \n\nPlease do not attend if you are unwell
URL:https://seniorocity.com.au/whats-on-perth/community-lab-craft-corner-2/
LOCATION:Innovation Lab\, Ruth Faulkner Library\, 213 Wright Street\, Cloverdale\, WA\, 6105\, Australia
ATTACH;FMTTYPE=image/jpeg:https://seniorocity.com.au/wp-content/uploads/2026/04/Craft-Corner-B74Oy6.jpg
END:VEVENT
BEGIN:VEVENT
DTSTART;TZID=Australia/Perth:20260317T100000
DTEND;TZID=Australia/Perth:20260317T110000
DTSTAMP:20260423T073746
CREATED:20260206T145617Z
LAST-MODIFIED:20260206T145822Z
UID:10863138-1773741600-1773745200@seniorocity.com.au
SUMMARY:Port Walks - General
DESCRIPTION:Stroll with us around Victoria Quay and listen as port experts tell you about different aspects of Fremantle Ports and the Inner Harbour.
URL:https://seniorocity.com.au/whats-on-perth/port-walks-general-144/
LOCATION:Fremantle Ports\, 1 Cliff Street\, Fremantle\, WA\, 6160\, Australia
CATEGORIES:Walks
ATTACH;FMTTYPE=image/jpeg:https://seniorocity.com.au/wp-content/uploads/2024/11/139bb6ca0281574198356e89e7b97636.jpg
END:VEVENT
BEGIN:VEVENT
DTSTART;TZID=Australia/Perth:20260317T100000
DTEND;TZID=Australia/Perth:20260317T110000
DTSTAMP:20260423T073746
CREATED:20260102T073547Z
LAST-MODIFIED:20260204T091455Z
UID:10857612-1773741600-1773745200@seniorocity.com.au
SUMMARY:Hi\, Tech! Bayswater Library:  basic 1-to-1 tech help- January to March 2026
DESCRIPTION:Get ready to level up your tech skills with personalised 1-to-1 help at Bayswater Library – it’s your time to shine!
URL:https://seniorocity.com.au/whats-on-perth/hi-tech-bayswater-library-basic-1-to-1-tech-help-january-to-march-2026-47/
LOCATION:Bayswater Library\, 25 King William Street\, Bayswater\, WA\, 6053\, Australia
CATEGORIES:Tech
ATTACH;FMTTYPE=image/jpeg:https://seniorocity.com.au/wp-content/uploads/2023/04/558c99d491271827e52d2dce5803d12d.jpg
END:VEVENT
BEGIN:VEVENT
DTSTART;TZID=Australia/Perth:20260317T100000
DTEND;TZID=Australia/Perth:20260317T120000
DTSTAMP:20260423T073746
CREATED:20260204T091245Z
LAST-MODIFIED:20260204T093018Z
UID:10862789-1773741600-1773748800@seniorocity.com.au
SUMMARY:Scrabble
DESCRIPTION:Hey word enthusiasts!  Come along to our Scrabble group.  Bring your friends or join to make new ones.
URL:https://seniorocity.com.au/whats-on-perth/scrabble-69/
LOCATION:Bayswater Library\, 25 King William Street\, Bayswater\, WA\, 6053\, Australia
CATEGORIES:Games
ATTACH;FMTTYPE=image/jpeg:https://seniorocity.com.au/wp-content/uploads/2023/12/395216af19fc80e3a7d31b811f79a441.jpg
END:VEVENT
BEGIN:VEVENT
DTSTART;TZID=Australia/Perth:20260317T100000
DTEND;TZID=Australia/Perth:20260317T170000
DTSTAMP:20260423T073746
CREATED:20260204T150310Z
LAST-MODIFIED:20260204T150310Z
UID:10863120-1773741600-1773766800@seniorocity.com.au
SUMMARY:PERTH FESTIVAL: Brad Rimmer | Loom of the Land
DESCRIPTION:Loom of the Land brings together 3 interconnected bodies of work from artist Brad Rimmer’s Wheatbelt trilogy in a major survey exhibition.
URL:https://seniorocity.com.au/whats-on-perth/perth-festival-brad-rimmer-loom-of-the-land-39/
LOCATION:Walyalup Fremantle Arts Centre\, 1 Finnerty Street\, Fremantle\, WA\, 6160\, Australia
CATEGORIES:Exhibition
ATTACH;FMTTYPE=image/jpeg:https://seniorocity.com.au/wp-content/uploads/2026/02/d575ffdc5d64126502242cb4ddd17dee.jpg
END:VEVENT
BEGIN:VEVENT
DTSTART;TZID=Australia/Perth:20260317T110000
DTEND;TZID=Australia/Perth:20260317T120000
DTSTAMP:20260423T073746
CREATED:20260102T073548Z
LAST-MODIFIED:20260204T091515Z
UID:10857614-1773745200-1773748800@seniorocity.com.au
SUMMARY:Hi\, Tech! Bayswater Library:  basic 1-to-1 tech help- January to March 2026
DESCRIPTION:Get ready to level up your tech skills with personalised 1-to-1 help at Bayswater Library – it’s your time to shine!
URL:https://seniorocity.com.au/whats-on-perth/hi-tech-bayswater-library-basic-1-to-1-tech-help-january-to-march-2026-48/
LOCATION:Bayswater Library\, 25 King William Street\, Bayswater\, WA\, 6053\, Australia
CATEGORIES:Tech
ATTACH;FMTTYPE=image/jpeg:https://seniorocity.com.au/wp-content/uploads/2023/04/558c99d491271827e52d2dce5803d12d.jpg
END:VEVENT
BEGIN:VEVENT
DTSTART;TZID=Australia/Perth:20260317T120000
DTEND;TZID=Australia/Perth:20260317T123000
DTSTAMP:20260423T073746
CREATED:20260204T091834Z
LAST-MODIFIED:20260204T142900Z
UID:10862951-1773748800-1773750600@seniorocity.com.au
SUMMARY:Tech Help @ Girrawheen Library
DESCRIPTION:Book in for a one-on-one session to go over whatever tech help you need.
URL:https://seniorocity.com.au/whats-on-perth/tech-help-girrawheen-library-21/
LOCATION:6 Patrick Ct\, 6 Patrick Court\, Girrawheen\, WA\, 6064\, Australia
CATEGORIES:Tech
ATTACH;FMTTYPE=image/jpeg:https://seniorocity.com.au/wp-content/uploads/2026/02/5e7fa4a1fcdd23cce7739d6be450808b.jpg
END:VEVENT
BEGIN:VEVENT
DTSTART;TZID=Australia/Perth:20260317T120000
DTEND;TZID=Australia/Perth:20260317T130000
DTSTAMP:20260423T073746
CREATED:20260102T073549Z
LAST-MODIFIED:20260204T091537Z
UID:10857616-1773748800-1773752400@seniorocity.com.au
SUMMARY:Hi\, Tech! Bayswater Library:  basic 1-to-1 tech help- January to March 2026
DESCRIPTION:Get ready to level up your tech skills with personalised 1-to-1 help at Bayswater Library – it’s your time to shine!
URL:https://seniorocity.com.au/whats-on-perth/hi-tech-bayswater-library-basic-1-to-1-tech-help-january-to-march-2026-49/
LOCATION:Bayswater Library\, 25 King William Street\, Bayswater\, WA\, 6053\, Australia
CATEGORIES:Tech
ATTACH;FMTTYPE=image/jpeg:https://seniorocity.com.au/wp-content/uploads/2023/04/558c99d491271827e52d2dce5803d12d.jpg
END:VEVENT
BEGIN:VEVENT
DTSTART;TZID=Australia/Perth:20260317T123000
DTEND;TZID=Australia/Perth:20260317T130000
DTSTAMP:20260423T073746
CREATED:20260204T091834Z
LAST-MODIFIED:20260204T142903Z
UID:10862952-1773750600-1773752400@seniorocity.com.au
SUMMARY:Tech Help @ Girrawheen Library
DESCRIPTION:Book in for a one-on-one session to go over whatever tech help you need.
URL:https://seniorocity.com.au/whats-on-perth/tech-help-girrawheen-library-22/
LOCATION:6 Patrick Ct\, 6 Patrick Court\, Girrawheen\, WA\, 6064\, Australia
CATEGORIES:Tech
ATTACH;FMTTYPE=image/jpeg:https://seniorocity.com.au/wp-content/uploads/2026/02/5e7fa4a1fcdd23cce7739d6be450808b.jpg
END:VEVENT
BEGIN:VEVENT
DTSTART;TZID=Australia/Perth:20260317T130000
DTEND;TZID=Australia/Perth:20260317T133000
DTSTAMP:20260423T073746
CREATED:20260204T091835Z
LAST-MODIFIED:20260204T142906Z
UID:10862953-1773752400-1773754200@seniorocity.com.au
SUMMARY:Tech Help @ Girrawheen Library
DESCRIPTION:Book in for a one-on-one session to go over whatever tech help you need.
URL:https://seniorocity.com.au/whats-on-perth/tech-help-girrawheen-library-23/
LOCATION:6 Patrick Ct\, 6 Patrick Court\, Girrawheen\, WA\, 6064\, Australia
CATEGORIES:Tech
ATTACH;FMTTYPE=image/jpeg:https://seniorocity.com.au/wp-content/uploads/2026/02/5e7fa4a1fcdd23cce7739d6be450808b.jpg
END:VEVENT
BEGIN:VEVENT
DTSTART;TZID=Australia/Perth:20260317T133000
DTEND;TZID=Australia/Perth:20260317T140000
DTSTAMP:20260423T073746
CREATED:20260204T091836Z
LAST-MODIFIED:20260204T142909Z
UID:10862954-1773754200-1773756000@seniorocity.com.au
SUMMARY:Tech Help @ Girrawheen Library
DESCRIPTION:Book in for a one-on-one session to go over whatever tech help you need.
URL:https://seniorocity.com.au/whats-on-perth/tech-help-girrawheen-library-24/
LOCATION:6 Patrick Ct\, 6 Patrick Court\, Girrawheen\, WA\, 6064\, Australia
CATEGORIES:Tech
ATTACH;FMTTYPE=image/jpeg:https://seniorocity.com.au/wp-content/uploads/2026/02/5e7fa4a1fcdd23cce7739d6be450808b.jpg
END:VEVENT
BEGIN:VEVENT
DTSTART;TZID=Australia/Perth:20260317T174500
DTEND;TZID=Australia/Perth:20260317T200000
DTSTAMP:20260423T073746
CREATED:20260102T080921Z
LAST-MODIFIED:20260102T080921Z
UID:10858166-1773769500-1773777600@seniorocity.com.au
SUMMARY:Listening Lounge Mental Health Peer Support Group - Cloverdale
DESCRIPTION:A welcoming space for connection\, understanding and mutual support.
URL:https://seniorocity.com.au/whats-on-perth/listening-lounge-mental-health-peer-support-group-cloverdale-11/
LOCATION:Consumers of Mental Health WA\, 275 Belmont Avenue\, #14\, Cloverdale\, WA\, 6105\, Australia
CATEGORIES:Health
ATTACH;FMTTYPE=image/jpeg:https://seniorocity.com.au/wp-content/uploads/2026/01/daab8e42a64fba3b865f0b3d0214a624.jpg
END:VEVENT
BEGIN:VEVENT
DTSTART;TZID=Australia/Perth:20260317T180000
DTEND;TZID=Australia/Perth:20260317T193000
DTSTAMP:20260423T073746
CREATED:20260209T134855Z
LAST-MODIFIED:20260209T134855Z
UID:10863443-1773770400-1773775800@seniorocity.com.au
SUMMARY:Creating Totem Sculptures
DESCRIPTION:Join prominent Whadjuk Nyoongar artist\, Sharyn Egan\, in learning the art of Boorungur (totem) making. \nSharyn’s sculptural works often document the relationships between places\, people\, plants and animals while also reminding us of our role as custodians\, to care for the natural world. \nThis workshop offers an opportunity to connect with Nyoongar culture\, while creating a small totem that you connect with. \nThis session is part of the History of Harmony Week series. \nThis session is for adults. \nPlease Note: Bookings open 17 February 2026. \nBook Online
URL:https://seniorocity.com.au/whats-on-perth/creating-totem-sculptures/
LOCATION:Armadale Library\, Armadale Central Shopping Centre\, Shop 64/10 Armadale Central Shopping Centre\, Orchard Ave\, Armadale WA 6112\, Armadale\, Australia
CATEGORIES:Craft,Free,Harmony Week,Library Events
ATTACH;FMTTYPE=image/jpeg:https://seniorocity.com.au/wp-content/uploads/2026/02/Creating-Totem-Sculptures.jpg
GEO:-32.153;116.015
X-APPLE-STRUCTURED-LOCATION;VALUE=URI;X-ADDRESS=Armadale Library Armadale Central Shopping Centre Shop 64/10 Armadale Central Shopping Centre Orchard Ave Armadale WA 6112 Armadale Australia;X-APPLE-RADIUS=500;X-TITLE=Armadale Central Shopping Centre\, Shop 64/10 Armadale Central Shopping Centre\, Orchard Ave\, Armadale WA 6112:geo:116.015,-32.153
END:VEVENT
BEGIN:VEVENT
DTSTART;TZID=Australia/Perth:20260318T090000
DTEND;TZID=Australia/Perth:20260318T120000
DTSTAMP:20260423T073746
CREATED:20260204T092512Z
LAST-MODIFIED:20260204T143216Z
UID:10862974-1773824400-1773835200@seniorocity.com.au
SUMMARY:Caring for the Mental Health Carer: Creative Writing | Hillarys
DESCRIPTION:Caring for the Mental Health Carer is a therapeutic group program designed for adult Mental Health Carers aged 18+.
URL:https://seniorocity.com.au/whats-on-perth/caring-for-the-mental-health-carer-creative-writing-hillarys-2/
LOCATION:6/32 Endeavour Rd\, Hillarys WA 6025\, 6/32 Endeavour Rd\, Hillarys\, WA\, 6025\, Australia
CATEGORIES:Health
ATTACH;FMTTYPE=image/jpeg:https://seniorocity.com.au/wp-content/uploads/2026/02/4aa1e8a1e74bd01fbe765f3b09d53746.jpg
END:VEVENT
BEGIN:VEVENT
DTSTART;TZID=Australia/Perth:20260318T100000
DTEND;TZID=Australia/Perth:20260318T113000
DTSTAMP:20260423T073746
CREATED:20260225T133101Z
LAST-MODIFIED:20260225T133101Z
UID:10863874-1773828000-1773833400@seniorocity.com.au
SUMMARY:Origami with Sanny Ang @ Forrestfield Library
DESCRIPTION:Join amazing origami artist Sanny Ang for a mindful and creative workshop where every fold tells a story. \n\nSanny blends clever storytelling\, fun facts and hands-on origami into an engaging session designed for adults of all skill levels. Discover how to transform a simple piece of paper into something truly wonderful. \nCome along\, learn something new\, and let your creativity unfold. \nDate & Time:Wednesday 18 March 202610:00am – 11:30am \nLocation:Forrestfield LibraryHawaiians Shopping Centre\, Forrestfield \nCost:$5 + booking feeBookings required \nBOOK NOW
URL:https://seniorocity.com.au/whats-on-perth/origami-with-sanny-ang-forrestfield-library/
LOCATION:Forrestfield Library\, 3 Salix Way\, Forrestfield\, WA\, 6058\, Australia
CATEGORIES:Craft,Library Events,Workshop
ATTACH;FMTTYPE=image/png:https://seniorocity.com.au/wp-content/uploads/2026/02/Origami-with-Sanny-Ang-@-Forrestfield-Library.png
GEO:-31.9853849;116.0093004
X-APPLE-STRUCTURED-LOCATION;VALUE=URI;X-ADDRESS=Forrestfield Library 3 Salix Way Forrestfield WA 6058 Australia;X-APPLE-RADIUS=500;X-TITLE=3 Salix Way:geo:116.0093004,-31.9853849
END:VEVENT
BEGIN:VEVENT
DTSTART;TZID=Australia/Perth:20260318T100000
DTEND;TZID=Australia/Perth:20260318T113000
DTSTAMP:20260423T073746
CREATED:20260204T090400Z
LAST-MODIFIED:20260204T090423Z
UID:10862735-1773828000-1773833400@seniorocity.com.au
SUMMARY:Mindfulness and Stretch | Bassendean
DESCRIPTION:Come and join us for a morning of Mindfulness and Movement in the beautiful surroundings of nature.
URL:https://seniorocity.com.au/whats-on-perth/mindfulness-and-stretch-bassendean-2/
LOCATION:Sandy Beach Reserve\, 203 West Road\, Bassendean\, WA\, 6054\, Australia
CATEGORIES:Health
ATTACH;FMTTYPE=image/jpeg:https://seniorocity.com.au/wp-content/uploads/2026/02/204e39748e72039a55c5a90d218569e5.jpg
GEO:-31.921352386475;115.95030975342
X-APPLE-STRUCTURED-LOCATION;VALUE=URI;X-ADDRESS=Sandy Beach Reserve 203 West Road Bassendean WA 6054 Australia;X-APPLE-RADIUS=500;X-TITLE=203 West Road:geo:115.95030975342,-31.921352386475
END:VEVENT
BEGIN:VEVENT
DTSTART;TZID=Australia/Perth:20260318T100000
DTEND;TZID=Australia/Perth:20260318T170000
DTSTAMP:20260423T073746
CREATED:20260204T150311Z
LAST-MODIFIED:20260204T150311Z
UID:10863121-1773828000-1773853200@seniorocity.com.au
SUMMARY:PERTH FESTIVAL: Brad Rimmer | Loom of the Land
DESCRIPTION:Loom of the Land brings together 3 interconnected bodies of work from artist Brad Rimmer’s Wheatbelt trilogy in a major survey exhibition.
URL:https://seniorocity.com.au/whats-on-perth/perth-festival-brad-rimmer-loom-of-the-land-40/
LOCATION:Walyalup Fremantle Arts Centre\, 1 Finnerty Street\, Fremantle\, WA\, 6160\, Australia
CATEGORIES:Exhibition
ATTACH;FMTTYPE=image/jpeg:https://seniorocity.com.au/wp-content/uploads/2026/02/d575ffdc5d64126502242cb4ddd17dee.jpg
END:VEVENT
BEGIN:VEVENT
DTSTART;TZID=Australia/Perth:20260318T110000
DTEND;TZID=Australia/Perth:20260318T120000
DTSTAMP:20260423T073746
CREATED:20260224T115812Z
LAST-MODIFIED:20260224T115812Z
UID:10863853-1773831600-1773835200@seniorocity.com.au
SUMMARY:Morning Melodies - Bob Dylan Tribute
DESCRIPTION:Performed by Bob Brisbane \nAn intimate acoustic interpretation of some personal favourites from the extensive musical canon of one Bob Dylan\, the musical icon behind hits such as ‘Like a Rolling Stone’ and ‘Blowin’ in the Wind’.  Literary and poetic experiences wrapped in a folk sensibility\, Bob Dylan was the voice of a time and a place which continues to resonate with many today. \nDoors open at 10am for morning tea\, show 11am-12pm \nTickets $18 includes morning tea \nDuration: 60 minutes \nClick here to buy your tickets
URL:https://seniorocity.com.au/whats-on-perth/morning-melodies-bob-dylan-tribute/
LOCATION:Don Russell Performing Arts Centre\, Lot 13 Murdoch Road\, Thornlie\, WA\, 6108\, Australia
CATEGORIES:Concert,Morning Tea,Music Event
ATTACH;FMTTYPE=image/jpeg:https://seniorocity.com.au/wp-content/uploads/2026/02/Morning-Melodies-Bob-Dylan-Tribute.jpg
END:VEVENT
BEGIN:VEVENT
DTSTART;TZID=Australia/Perth:20260318T120000
DTEND;TZID=Australia/Perth:20260318T150000
DTSTAMP:20260423T073746
CREATED:20260223T125400Z
LAST-MODIFIED:20260223T125400Z
UID:10863843-1773835200-1773846000@seniorocity.com.au
SUMMARY:Wednesday Sewing at Amherst Village Library
DESCRIPTION:Sew and socialise with other like-minded people!\nWork on your latest hand-sewing or embroidery project\, and get to know others with the same interests in this friendly group. Free help is available\, but the main focus is on fun and socialising. \nBring your own materials and equipment to complete in company. Some basic knowledge/skill in hand-sewing or embroidery is required. \nWant to sew on a machine? We have 2 free sewing machines available for use in our Makerspace\, the CoGLAB. Or join our HDStreetwise Quilting Angels\, to do some sewing for a good cause! \nThe Wednesday Sewing group meets inside Amherst Library’s Meeting Room. Refreshments of tea and coffee are provided. \nFor adults. No bookings required. \nProgram days and times\nEvery second Wednesday\, 12pm – 3pm
URL:https://seniorocity.com.au/whats-on-perth/wednesday-sewing-at-amherst-village-library/2026-03-18/
LOCATION:Amherst Village Library\, 2 Holmes Street\, Southern River\, Australia
CATEGORIES:Craft,Free,Library Events
ATTACH;FMTTYPE=image/jpeg:https://seniorocity.com.au/wp-content/uploads/2026/02/Wednesday-Sewing-at-Amherst-Village-Library.jpg
GEO:-32.08964;115.94396
X-APPLE-STRUCTURED-LOCATION;VALUE=URI;X-ADDRESS=Amherst Village Library 2 Holmes Street Southern River Australia;X-APPLE-RADIUS=500;X-TITLE=2 Holmes Street:geo:115.94396,-32.08964
END:VEVENT
BEGIN:VEVENT
DTSTART;TZID=Australia/Perth:20260318T123000
DTEND;TZID=Australia/Perth:20260318T163000
DTSTAMP:20260423T073746
CREATED:20260214T143644Z
LAST-MODIFIED:20260214T143644Z
UID:10863570-1773837000-1773851400@seniorocity.com.au
SUMMARY:Tree Recovery Kiosks
DESCRIPTION:Have you lost a tree to shot-hole borer? \nThe local community has unfortunately lost trees to shot-hole borer in recent years\, impacting the Town’s urban canopy. \nTrees are vital to improving air quality\, sustaining wildlife and enhancing community wellbeing. \nDid you know residents who have lost trees due to shot-hole borer may be eligible for a rebate worth up to $150 for every tree replaced? \nIf you have already replanted or would like to but need help claiming your rebate\, come talk to the WA Tree Recovery team at one of the below community kiosks. \nTo be eligible for the rebate you must have had a tree removed from your property under Department of Primary Industries and Regional Development authority due to shot-hole borer. \nIf you would like to submit a rebate claim at the community kiosk\, you will need a valid tax invoice for your replacement tree\, a photo of the plant label as well as 100 points for personal identification. \nFor information on what to bring to the community kiosks\, visit the WA Tree Recovery page here or email treerecovery@dwer.gov.au \nKiosks  \n17 March\, 12:30pm – 4:30pm\nBay View Community Centre\, 64 Bay View Terrace\, Claremont \n18 March\, 12:30pm – 4:30pm\nBay View Community Centre\, 64 Bay View Terrace\, Claremont \nNo bookings are required
URL:https://seniorocity.com.au/whats-on-perth/tree-recovery-kiosks/2026-03-18/
LOCATION:Bay View Community Centre\, 64 Bay View Terrace\, Claremont\, WA\, 6010\, Australia
CATEGORIES:Free,Gardening & Environment
ATTACH;FMTTYPE=image/jpeg:https://seniorocity.com.au/wp-content/uploads/2026/02/Tree-Recovery-Kiosks.jpg
END:VEVENT
BEGIN:VEVENT
DTSTART;TZID=Australia/Perth:20260318T134500
DTEND;TZID=Australia/Perth:20260318T160000
DTSTAMP:20260423T073746
CREATED:20251102T132335Z
LAST-MODIFIED:20260102T080602Z
UID:10856456-1773841500-1773849600@seniorocity.com.au
SUMMARY:NEW Listening Lounge Mental Health Peer Support Group- Kelmscott!
DESCRIPTION:A welcoming space for connection\, understanding and mutual support.
URL:https://seniorocity.com.au/whats-on-perth/new-listening-lounge-mental-health-peer-support-group-kelmscott-20/
LOCATION:Creyk Park Pavilion\, 6 Kembla Street\, Kelmscott\, WA\, 6111\, Australia
CATEGORIES:Health
ATTACH;FMTTYPE=image/jpeg:https://seniorocity.com.au/wp-content/uploads/2026/01/0cd8afe91432da0a77137da7b5a4370c.jpg
END:VEVENT
BEGIN:VEVENT
DTSTART;TZID=Australia/Perth:20260318T140000
DTEND;TZID=Australia/Perth:20260318T150000
DTSTAMP:20260423T073746
CREATED:20260204T091610Z
LAST-MODIFIED:20260204T142630Z
UID:10862874-1773842400-1773846000@seniorocity.com.au
SUMMARY:Gardening Club
DESCRIPTION:Nature play for 2–5 year-olds & caregivers\, Wednesdays 2–3 pm! Plant veggies\, explore worms & enjoy outdoor fun together.
URL:https://seniorocity.com.au/whats-on-perth/gardening-club-6/
LOCATION:26A Harris St\, 26A Harris Street\, Bicton\, WA\, 6157\, Australia
CATEGORIES:Gardening & Environment
END:VEVENT
BEGIN:VEVENT
DTSTART;TZID=Australia/Perth:20260318T140000
DTEND;TZID=Australia/Perth:20260318T153000
DTSTAMP:20260423T073746
CREATED:20260303T153131Z
LAST-MODIFIED:20260303T153131Z
UID:10864094-1773842400-1773847800@seniorocity.com.au
SUMMARY:Afternoon Tea & Tech @ Civic Square Library | Introduction to cryptocurrency
DESCRIPTION:Tea meets technology! Come along and enjoy a free afternoon tea\, short tech talk\, and a chance to chat with our presenter and your fellow attendees. \nThis fortnight we’re focusing on Introduction to cryptocurrency. \nWe’ll explore what cryptocurrency is and how it’s used\, along with common crypto risks and scams\, and take a look at what the future of cryptocurrency might hold. \nAll are welcome. Whether you’re a tech enthusiast or a beginner\, this event is for you! \nPlease note: This is an information‑sharing session only. We do not and cannot provide financial opinions or advice. \nBook this event
URL:https://seniorocity.com.au/whats-on-perth/afternoon-tea-tech-civic-square-library-introduction-to-cryptocurrency/
LOCATION:WA
CATEGORIES:Free,Library Events,Tech
ATTACH;FMTTYPE=image/jpeg:https://seniorocity.com.au/wp-content/uploads/2026/03/Afternoon-Tea-Tech-@-Civic-Square-Library-Digital-Wallets-Mobile-Payments.jpg
END:VEVENT
BEGIN:VEVENT
DTSTART;TZID=Australia/Perth:20260318T170000
DTEND;TZID=Australia/Perth:20260318T190000
DTSTAMP:20260423T073746
CREATED:20260204T144649Z
LAST-MODIFIED:20260204T144713Z
UID:10863066-1773853200-1773860400@seniorocity.com.au
SUMMARY:Skills for Mental Health Carers | Self Compassion Workshop | Midland
DESCRIPTION:Skills for Mental Health Carers  is a therapeutic group program designed for adult Mental Health Carers aged 18+.
URL:https://seniorocity.com.au/whats-on-perth/skills-for-mental-health-carers-self-compassion-workshop-midland-3/
LOCATION:1A Sayer St\, 1A Sayer Street\, Midland\, WA\, 6056\, Australia
CATEGORIES:Health
ATTACH;FMTTYPE=image/jpeg:https://seniorocity.com.au/wp-content/uploads/2026/02/102f8710be5f88540b218768f59181bd-1.jpg
END:VEVENT
BEGIN:VEVENT
DTSTART;TZID=Australia/Perth:20260318T174500
DTEND;TZID=Australia/Perth:20260318T192000
DTSTAMP:20260423T073746
CREATED:20260203T083257Z
LAST-MODIFIED:20260203T083304Z
UID:10862595-1773855900-1773861600@seniorocity.com.au
SUMMARY:March Book Club at Dymocks Karrinyup
DESCRIPTION:Join us on the 18th of March to discuss Shelby Van Pelt’s hit novel\, REMARKABLY BRIGHT CREATURES.\n\n\nJoin us in store on March 18th for snacks\, chats and laughs while we discuss ‘Remarkably Bright Creatures’ by Shelby Van Pelt! We kick off at 5:45pm!
URL:https://seniorocity.com.au/whats-on-perth/march-book-club-at-dymocks-karrinyup/
LOCATION:Dymocks Karrinyup\, 200 Karrinyup Road\, Karrinyup\, WA\, 6018\, Australia
CATEGORIES:Club
ATTACH;FMTTYPE=image/jpeg:https://seniorocity.com.au/wp-content/uploads/2026/02/56659af53b50291acf113d393d0fafc6.jpg
END:VEVENT
BEGIN:VEVENT
DTSTART;TZID=Australia/Perth:20260318T190000
DTEND;TZID=Australia/Perth:20260318T210000
DTSTAMP:20260423T073746
CREATED:20260102T073626Z
LAST-MODIFIED:20260203T085053Z
UID:10857623-1773860400-1773867600@seniorocity.com.au
SUMMARY:HILTON HAHAS
DESCRIPTION:New material Comedy Night\, come get a 1/2 priced dinner and have a laugh at some fresh new comedy !!
URL:https://seniorocity.com.au/whats-on-perth/hilton-hahas-11/
LOCATION:South Street Ale House & Bottleshop\, 277 South Street\, Hilton\, WA\, 6163\, Australia
CATEGORIES:Free,Theatre & Shows
ATTACH;FMTTYPE=image/jpeg:https://seniorocity.com.au/wp-content/uploads/2026/01/d1384d782c9a02cbe61db6a5afb92cd0.jpg
END:VEVENT
BEGIN:VEVENT
DTSTART;TZID=Australia/Perth:20260318T191500
DTEND;TZID=Australia/Perth:20260318T201500
DTSTAMP:20260423T073746
CREATED:20250713T072935Z
LAST-MODIFIED:20260102T081022Z
UID:10791360-1773861300-1773864900@seniorocity.com.au
SUMMARY:FREE Community Yoga
DESCRIPTION:A class taught by teachers in training. Free of charge.
URL:https://seniorocity.com.au/whats-on-perth/free-community-yoga-36/
LOCATION:The Yoga Space\, 79 Colin Street\, #6\, West Perth\, WA\, 6005\, Australia
CATEGORIES:Free
ATTACH;FMTTYPE=image/jpeg:https://seniorocity.com.au/wp-content/uploads/2025/07/620679d6cce180570dcf21a88ec64011.jpg
END:VEVENT
BEGIN:VEVENT
DTSTART;TZID=Australia/Perth:20260319T073000
DTEND;TZID=Australia/Perth:20260319T083000
DTSTAMP:20260423T073746
CREATED:20260302T151115Z
LAST-MODIFIED:20260302T151115Z
UID:10863974-1773905400-1773909000@seniorocity.com.au
SUMMARY:FREE Tai Chi with Maree - Early Morning | Harmony Week
DESCRIPTION:It’s been said that if 1% of the population did Tai Chi we would have more harmony in the world\, but lets just start with our community! \nCome and Try – Tai Chi with Maree \nThis early morning session under the trees will be a refreshing start to your day – offering a chance to find some balance before the busy-ness begins. \nDate: Thursday 19 March 2026\nTime: 7.30 – 8.30am\nLocation: Darius Wells Library and Resource Centre – outside Dome Cafe\, under the trees \nWhat to Bring: \n\nA water bottle – to stay hydrated\nComfortable clothing – something you can relax and breathe easily in\n\nRegistrations are encouraged – but walk-ins are permitted. \nBookings Essential \nAbout Tai Chi \nThe continuous flowing movements of Tai Chi relax your muscles and joints while massaging and invigorating your internal organs. The mind-body co-ordination promotes physical and mental harmony\, greater relaxation and stress reduction. \nThe benefits of regular Tai Chi Practice. \n\nStrength\, Flexibility & Fitness\nBetter Circulation\nMore Energy and Stamina\nBetter Concentration and General Awareness\nCalm and Peaceful Mind\n\nThis is just one of the City events happening for Harmony Week. An opportunity for all Western Australians to celebrate our diversity while working to remove barriers that still exist in the community. 
URL:https://seniorocity.com.au/whats-on-perth/free-tai-chi-with-maree-early-morning-harmony-week/
LOCATION:Darius Wells Library and Resource Centre\, Robbos Way\, Kwinana Town Centre\, WA\, 6167\, Australia
CATEGORIES:Free,Harmony Week
ATTACH;FMTTYPE=image/png:https://seniorocity.com.au/wp-content/uploads/2026/03/FREE-Tai-Chi-with-Maree-Early-Morning-Harmony-Week.png
GEO:-32.243427;115.81393
X-APPLE-STRUCTURED-LOCATION;VALUE=URI;X-ADDRESS=Darius Wells Library and Resource Centre Robbos Way Kwinana Town Centre WA 6167 Australia;X-APPLE-RADIUS=500;X-TITLE=Robbos Way:geo:115.81393,-32.243427
END:VEVENT
BEGIN:VEVENT
DTSTART;TZID=Australia/Perth:20260319T090000
DTEND;TZID=Australia/Perth:20260319T110000
DTSTAMP:20260423T073746
CREATED:20260204T092755Z
LAST-MODIFIED:20260204T092755Z
UID:10862979-1773910800-1773918000@seniorocity.com.au
SUMMARY:Mental Health Carer Peer Support Group | Hillarys
DESCRIPTION:Come and spend time with a support group of like-minded peers\, sharing their journeys as mental health carers.
URL:https://seniorocity.com.au/whats-on-perth/mental-health-carer-peer-support-group-hillarys-5/
LOCATION:6/32 Endeavour Rd\, Hillarys WA 6025\, 6/32 Endeavour Rd\, Hillarys\, WA\, 6025\, Australia
CATEGORIES:Health
ATTACH;FMTTYPE=image/jpeg:https://seniorocity.com.au/wp-content/uploads/2026/02/824494fc5df388816bee3d41db877250.jpg
END:VEVENT
BEGIN:VEVENT
DTSTART;TZID=Australia/Perth:20260319T093000
DTEND;TZID=Australia/Perth:20260319T103000
DTSTAMP:20260423T073746
CREATED:20260102T080300Z
LAST-MODIFIED:20260204T145617Z
UID:10858077-1773912600-1773916200@seniorocity.com.au
SUMMARY:Tech Connect @ Wanneroo Library
DESCRIPTION:FREE weekly morning tea to connect with others and get more comfortable with technology.
URL:https://seniorocity.com.au/whats-on-perth/tech-connect-wanneroo-library-11/
LOCATION:Wanneroo Library and Cultural Centre\, 3 Rocca Way\, Wanneroo\, WA\, 6065\, Australia
CATEGORIES:Tech
ATTACH;FMTTYPE=image/jpeg:https://seniorocity.com.au/wp-content/uploads/2026/01/0cf7f50887955559e3bbd40a37b621a8.jpg
END:VEVENT
END:VCALENDAR