BEGIN:VCALENDAR
VERSION:2.0
PRODID:-//Seniorocity - Seniors / Over 55&#039;s Guide to Perth - ECPv6.15.11//NONSGML v1.0//EN
CALSCALE:GREGORIAN
METHOD:PUBLISH
X-ORIGINAL-URL:https://seniorocity.com.au
X-WR-CALDESC:Events for Seniorocity - Seniors / Over 55&#039;s Guide to Perth
REFRESH-INTERVAL;VALUE=DURATION:PT1H
X-Robots-Tag:noindex
X-PUBLISHED-TTL:PT1H
BEGIN:VTIMEZONE
TZID:Australia/Perth
BEGIN:STANDARD
TZOFFSETFROM:+0800
TZOFFSETTO:+0800
TZNAME:AWST
DTSTART:20250101T000000
END:STANDARD
END:VTIMEZONE
BEGIN:VEVENT
DTSTART;TZID=Australia/Perth:20260308T140000
DTEND;TZID=Australia/Perth:20260308T153000
DTSTAMP:20260422T082025
CREATED:20260303T144507Z
LAST-MODIFIED:20260303T144507Z
UID:10864090-1772978400-1772983800@seniorocity.com.au
SUMMARY:Frog Friendly Gardens
DESCRIPTION:The Frog Doctor\, Johnny Prefumo\, is here to transform your garden into a habitat oasis! Johnny is an Environmental Biologist with over 50 years of experience with our native critters. He forged his love of frogs as a young boy\, venturing out to his local wetlands with his net and bucket to see what was out and about. \nFrogs are considered a “bioindicator”\, meaning the presence of frogs indicates the health of the wider environment. If your garden hosts frogs\, you can be hopping sure other species are thriving in your garden too. Johnny will give you the info you need to get outside and really get to know your gardens critters! \nWhat to expect \nLength \n1 hour talk with time for questions \nStart time \nEvent activities will start on time\, but if you are running late\, you may still join. \nLocation \nInside – Binjar Room \nBook this event
URL:https://seniorocity.com.au/whats-on-perth/frog-friendly-gardens/
LOCATION:City of Melville EcoHub\, 555 Leach Highway\, Winthrop\, WA\, 6150\, Australia
CATEGORIES:Gardening & Environment,Weekend events,Workshop
ATTACH;FMTTYPE=image/jpeg:https://seniorocity.com.au/wp-content/uploads/2026/03/Frog-Friendly-Gardens.jpg
END:VEVENT
BEGIN:VEVENT
DTSTART;TZID=Australia/Perth:20260308T140000
DTEND;TZID=Australia/Perth:20260308T160000
DTSTAMP:20260422T082025
CREATED:20260207T150936Z
LAST-MODIFIED:20260207T150936Z
UID:10863310-1772978400-1772985600@seniorocity.com.au
SUMMARY:Common People Dance Eisteddfod | Joondalup Festival 2026
DESCRIPTION:It’s the dance battle you’ve been waiting all year for; Common People Dance Eisteddfod is back to kick off Joondalup Festival 2026 with spectacular energy.  \n  \nFour mighty teams from all walks of life will slog it out in community halls across 6 weeks\, perfecting their routines\, bedazzling their costumes and preparing for the ultimate showdown. These are your neighbours\, your colleagues\, your friends\, maybe even your family members\, everyday people transformed into stars on the big stage\, ready to jazz-slide\, body-roll and high-kick their way into glory.   \n  \nThis “friendly” competition features soundtracks packed with your favourite ’80s and ’90s bangers\, choreography that’ll make you want to leap out of your seat and join in and enough glitter to be seen from space. All bets are off because cheating is condoned\, sabotage is allowed and bribing the judges is actively encouraged (by the judges themselves!).    \n  \nWho will claim the precious trophy and all the glory? The Legwarmers? The Hightop Crew? The Boombox Brigade? Or Perm Power? Only the biggest moves\, loudest cheers and most spectacular performances on the night will decide.   \n  \nSo warm up those hair rollers\, hitch up your legwarmers\, polish your dancing shoes and get ready to cheer until you’re hoarse.  \n  \nFour teams. One trophy. Unlimited glory. Let the games begin!   \nRegistrations are currently open to join one of our dance teams! Sign up here by 4 February 2026.
URL:https://seniorocity.com.au/whats-on-perth/common-people-dance-eisteddfod-joondalup-festival-2026/
LOCATION:RNDM Performing Arts Centre\, Sacred Heart College\, 15 Hocking Parade\, Sorrent\, WA\, 6020\, Australia
CATEGORIES:Festival,Theatre & Shows,Theatre and Shows
ATTACH;FMTTYPE=image/png:https://seniorocity.com.au/wp-content/uploads/2026/02/Common-People-Dance-Eisteddfod-Joondalup-Festival-2026.png
END:VEVENT
BEGIN:VEVENT
DTSTART;TZID=Australia/Perth:20260308T180000
DTEND;TZID=Australia/Perth:20260308T210000
DTSTAMP:20260422T082025
CREATED:20260303T145102Z
LAST-MODIFIED:20260303T145102Z
UID:10864091-1772992800-1773003600@seniorocity.com.au
SUMMARY:Tender is the Night | Adrian Dzvuke + Your Girl Pho
DESCRIPTION:After a massive year of sold out shows featuring some of WA music’s most revered artists\, boutique concert series Tender is the Night returns to Melville in 2026 with another season of music reimagined with strings. ♩♬♪♫ \nThis series brings together the best of WA classical composers and contemporary songwriters for a truly unique collaboration and performance. These must-see concerts feature artists hearing their songs reimagined by a string quartet for the first time as they play. Held in stunning venues across the City of Melville\, Tender is the Night is set to deliver another spinetingling\, goosebump-inducing concert series that unites artist and audience as one. \nOpening this year’s series is two artists making inroads on the international stage\, Adrian Dzvuke and Your Girl Pho. This concert will be under the stars at Goolugatup Heathcote\, overlooking the Derbarl Yerrigan. \nThis talented line-up is backed by the superb sounds of the Tender Strings Quartet\, with arrangements by emerging West Australian composers including Alice Humphries\, R.E.\, Jared Yapp\, and Simon Kruit. \nTender is the Night is for all music lovers – young\, old\, and young at heart. Enjoy the once-in-a-lifetime performances of some of WA’s best artists in the relaxed picnic vibe that Tender is the Night is known for. Bring your rug\, cheeseboard\, and cushions and kick back for an unforgettable evening of inspiring songwriting\, memorable music\, and community connection. \nSupported by the City of Melville and the Department of Creative Industries\, Tourism and Sport. \nBook this event
URL:https://seniorocity.com.au/whats-on-perth/tender-is-the-night-adrian-dzvuke-your-girl-pho/
LOCATION:Goolugatup Heathcote\, 58 Duncraig Road\, Applecross\, WA\, 6153\, Australia
CATEGORIES:Concert,Music Event
ATTACH;FMTTYPE=image/jpeg:https://seniorocity.com.au/wp-content/uploads/2026/03/Tender-is-the-Night-Adrian-Dzvuke-Your-Girl-Pho.jpg
GEO:-32.0040188;115.8424666
X-APPLE-STRUCTURED-LOCATION;VALUE=URI;X-ADDRESS=Goolugatup Heathcote 58 Duncraig Road Applecross WA 6153 Australia;X-APPLE-RADIUS=500;X-TITLE=58 Duncraig Road:geo:115.8424666,-32.0040188
END:VEVENT
BEGIN:VEVENT
DTSTART;TZID=Australia/Perth:20260309T100000
DTEND;TZID=Australia/Perth:20260309T113000
DTSTAMP:20260422T082025
CREATED:20260204T090310Z
LAST-MODIFIED:20260204T090332Z
UID:10862730-1773050400-1773055800@seniorocity.com.au
SUMMARY:Mandarin Conversation Group for Seniors
DESCRIPTION:我们是一个为年长者提供的中文会话小组，让您可以练习和提高您的普通话水平和可以社交互动，欢迎加入我们！
URL:https://seniorocity.com.au/whats-on-perth/mandarin-conversation-group-for-seniors-7/
LOCATION:Willetton Library\, 37 Burrendah Boulevard\, Willetton\, WA\, 6155\, Australia
CATEGORIES:Language Class
ATTACH;FMTTYPE=image/jpeg:https://seniorocity.com.au/wp-content/uploads/2026/02/4e7b5071f7538329f8c4d7cdbe265400.jpg
GEO:-32.0576661;115.8795741
X-APPLE-STRUCTURED-LOCATION;VALUE=URI;X-ADDRESS=Willetton Library 37 Burrendah Boulevard Willetton WA 6155 Australia;X-APPLE-RADIUS=500;X-TITLE=37 Burrendah Boulevard:geo:115.8795741,-32.0576661
END:VEVENT
BEGIN:VEVENT
DTSTART;TZID=Australia/Perth:20260309T100000
DTEND;TZID=Australia/Perth:20260309T170000
DTSTAMP:20260422T082025
CREATED:20260204T150300Z
LAST-MODIFIED:20260204T150300Z
UID:10863112-1773050400-1773075600@seniorocity.com.au
SUMMARY:PERTH FESTIVAL: Brad Rimmer | Loom of the Land
DESCRIPTION:Loom of the Land brings together 3 interconnected bodies of work from artist Brad Rimmer’s Wheatbelt trilogy in a major survey exhibition.
URL:https://seniorocity.com.au/whats-on-perth/perth-festival-brad-rimmer-loom-of-the-land-31/
LOCATION:Walyalup Fremantle Arts Centre\, 1 Finnerty Street\, Fremantle\, WA\, 6160\, Australia
CATEGORIES:Exhibition
ATTACH;FMTTYPE=image/jpeg:https://seniorocity.com.au/wp-content/uploads/2026/02/d575ffdc5d64126502242cb4ddd17dee.jpg
END:VEVENT
BEGIN:VEVENT
DTSTART;TZID=Australia/Perth:20260309T103000
DTEND;TZID=Australia/Perth:20260309T123000
DTSTAMP:20260422T082025
CREATED:20260203T091027Z
LAST-MODIFIED:20260203T091027Z
UID:10862724-1773052200-1773059400@seniorocity.com.au
SUMMARY:Art Jam at Bluesky - Mixed Media Explorations
DESCRIPTION:Explore a range of art techniques to develop your own project\, in a friendly and relaxed group setting
URL:https://seniorocity.com.au/whats-on-perth/art-jam-at-bluesky-mixed-media-explorations-4/
LOCATION:Bluesky Community Group\, 34 Diana Cres\, Lockridge\, WA\, 6054\, Australia
CATEGORIES:Activity Class
ATTACH;FMTTYPE=image/jpeg:https://seniorocity.com.au/wp-content/uploads/2026/02/106b9b038d160713ad40fc75ef205f14.jpg
END:VEVENT
BEGIN:VEVENT
DTSTART;TZID=Australia/Perth:20260309T130000
DTEND;TZID=Australia/Perth:20260309T153000
DTSTAMP:20260422T082025
CREATED:20260223T140539Z
LAST-MODIFIED:20260223T140539Z
UID:10863848-1773061200-1773070200@seniorocity.com.au
SUMMARY:Book Club at Gosnells Library
DESCRIPTION:Adults who love reading and like to chat about the latest book they’ve read will enjoy the monthly Book Club sessions held at each library. Books may be borrowed from the library or members can supply their own. \nIf this time doesn’t suit you\, there are alternative sessions available at our other libraries\, or you could join the Online Book Club. \nProgram days and times\nSecond Monday of the month\, 1 – 3.30pm
URL:https://seniorocity.com.au/whats-on-perth/book-club-at-gosnells-library/
LOCATION:Gosnells Library\, 2232D Albany Highway\, Gosnells\, WA\, 6110\, Australia
CATEGORIES:Club,Free,Library Events
ATTACH;FMTTYPE=image/jpeg:https://seniorocity.com.au/wp-content/uploads/2026/02/Book-Club-at-Gosnells-Library.jpg
END:VEVENT
BEGIN:VEVENT
DTSTART;TZID=Australia/Perth:20260309T133000
DTEND;TZID=Australia/Perth:20260309T141500
DTSTAMP:20260422T082025
CREATED:20260204T141958Z
LAST-MODIFIED:20260204T141958Z
UID:10862984-1773063000-1773065700@seniorocity.com.au
SUMMARY:What Should I Read Next? @ Dordaak Kepup Library
DESCRIPTION:Wanting something fresh to read? Join us for these fun\, informal sessions where we share new books and great reads over a cuppa.
URL:https://seniorocity.com.au/whats-on-perth/what-should-i-read-next-dordaak-kepup-library-2/
LOCATION:Dordaak Kepup – Library and Youth Innovation Hub\, 15 The Broadview\, Landsdale\, WA\, 6065\, Australia
CATEGORIES:Library Events
ATTACH;FMTTYPE=image/jpeg:https://seniorocity.com.au/wp-content/uploads/2026/02/09afb0549a4575cebba0dddca1f33c66.jpg
END:VEVENT
BEGIN:VEVENT
DTSTART;TZID=Australia/Perth:20260309T133000
DTEND;TZID=Australia/Perth:20260309T143000
DTSTAMP:20260422T082025
CREATED:20250713T082748Z
LAST-MODIFIED:20260206T160521Z
UID:10791568-1773063000-1773066600@seniorocity.com.au
SUMMARY:Book and Movie Club
DESCRIPTION:Are you looking for a book club with a difference? Then this one is for you!
URL:https://seniorocity.com.au/whats-on-perth/book-and-movie-club-8/
LOCATION:Australind Public Library\, 7 Mulgara Street\, Australind\, WA\, 6233\, Australia
CATEGORIES:Club,Movies
ATTACH;FMTTYPE=image/jpeg:https://seniorocity.com.au/wp-content/uploads/2025/07/a9d68383f6aa5c1c885649b6c7b42e5a.jpg
END:VEVENT
BEGIN:VEVENT
DTSTART;TZID=Australia/Perth:20260309T140000
DTEND;TZID=Australia/Perth:20260309T143000
DTSTAMP:20260422T082025
CREATED:20260203T090348Z
LAST-MODIFIED:20260203T090348Z
UID:10862683-1773064800-1773066600@seniorocity.com.au
SUMMARY:Tech Help @ Wanneroo Library (Monday)
DESCRIPTION:Book in for a one-on-one session to go over whatever tech help you need.
URL:https://seniorocity.com.au/whats-on-perth/tech-help-wanneroo-library-monday-116/
LOCATION:Wanneroo Library\, 3 Rocca Way\, Wanneroo\, WA\, 6065\, Australia
CATEGORIES:Tech
ATTACH;FMTTYPE=image/jpeg:https://seniorocity.com.au/wp-content/uploads/2025/04/1846f0357c7a791a8fd4ed3d29e5a0ba.jpg
GEO:-31.750643;115.805954
X-APPLE-STRUCTURED-LOCATION;VALUE=URI;X-ADDRESS=Wanneroo Library 3 Rocca Way Wanneroo WA 6065 Australia;X-APPLE-RADIUS=500;X-TITLE=3 Rocca Way:geo:115.805954,-31.750643
END:VEVENT
BEGIN:VEVENT
DTSTART;TZID=Australia/Perth:20260309T143000
DTEND;TZID=Australia/Perth:20260309T150000
DTSTAMP:20260422T082025
CREATED:20260203T090348Z
LAST-MODIFIED:20260203T090348Z
UID:10862684-1773066600-1773068400@seniorocity.com.au
SUMMARY:Tech Help @ Wanneroo Library (Monday)
DESCRIPTION:Book in for a one-on-one session to go over whatever tech help you need.
URL:https://seniorocity.com.au/whats-on-perth/tech-help-wanneroo-library-monday-117/
LOCATION:Wanneroo Library\, 3 Rocca Way\, Wanneroo\, WA\, 6065\, Australia
CATEGORIES:Tech
ATTACH;FMTTYPE=image/jpeg:https://seniorocity.com.au/wp-content/uploads/2025/04/1846f0357c7a791a8fd4ed3d29e5a0ba.jpg
GEO:-31.750643;115.805954
X-APPLE-STRUCTURED-LOCATION;VALUE=URI;X-ADDRESS=Wanneroo Library 3 Rocca Way Wanneroo WA 6065 Australia;X-APPLE-RADIUS=500;X-TITLE=3 Rocca Way:geo:115.805954,-31.750643
END:VEVENT
BEGIN:VEVENT
DTSTART;TZID=Australia/Perth:20260309T150000
DTEND;TZID=Australia/Perth:20260309T153000
DTSTAMP:20260422T082025
CREATED:20260203T090349Z
LAST-MODIFIED:20260203T090349Z
UID:10862685-1773068400-1773070200@seniorocity.com.au
SUMMARY:Tech Help @ Wanneroo Library (Monday)
DESCRIPTION:Book in for a one-on-one session to go over whatever tech help you need.
URL:https://seniorocity.com.au/whats-on-perth/tech-help-wanneroo-library-monday-118/
LOCATION:Wanneroo Library\, 3 Rocca Way\, Wanneroo\, WA\, 6065\, Australia
CATEGORIES:Tech
ATTACH;FMTTYPE=image/jpeg:https://seniorocity.com.au/wp-content/uploads/2025/04/1846f0357c7a791a8fd4ed3d29e5a0ba.jpg
GEO:-31.750643;115.805954
X-APPLE-STRUCTURED-LOCATION;VALUE=URI;X-ADDRESS=Wanneroo Library 3 Rocca Way Wanneroo WA 6065 Australia;X-APPLE-RADIUS=500;X-TITLE=3 Rocca Way:geo:115.805954,-31.750643
END:VEVENT
BEGIN:VEVENT
DTSTART;TZID=Australia/Perth:20260309T153000
DTEND;TZID=Australia/Perth:20260309T160000
DTSTAMP:20260422T082025
CREATED:20260203T090350Z
LAST-MODIFIED:20260203T090350Z
UID:10862686-1773070200-1773072000@seniorocity.com.au
SUMMARY:Tech Help @ Wanneroo Library (Monday)
DESCRIPTION:Book in for a one-on-one session to go over whatever tech help you need.
URL:https://seniorocity.com.au/whats-on-perth/tech-help-wanneroo-library-monday-119/
LOCATION:Wanneroo Library\, 3 Rocca Way\, Wanneroo\, WA\, 6065\, Australia
CATEGORIES:Tech
ATTACH;FMTTYPE=image/jpeg:https://seniorocity.com.au/wp-content/uploads/2025/04/1846f0357c7a791a8fd4ed3d29e5a0ba.jpg
GEO:-31.750643;115.805954
X-APPLE-STRUCTURED-LOCATION;VALUE=URI;X-ADDRESS=Wanneroo Library 3 Rocca Way Wanneroo WA 6065 Australia;X-APPLE-RADIUS=500;X-TITLE=3 Rocca Way:geo:115.805954,-31.750643
END:VEVENT
BEGIN:VEVENT
DTSTART;TZID=Australia/Perth:20260309T170000
DTEND;TZID=Australia/Perth:20260309T190000
DTSTAMP:20260422T082025
CREATED:20260210T141203Z
LAST-MODIFIED:20260210T141203Z
UID:10863454-1773075600-1773082800@seniorocity.com.au
SUMMARY:International Women's Day – Make It! and Massage for Grown Ups
DESCRIPTION:Celebrate International Women’s Day with mindful craft activities\, mini-massages\, win and cheese. \nDon’t miss out on this unique event. \nBookings are essential and open one month prior. \nRegister
URL:https://seniorocity.com.au/whats-on-perth/international-womens-day-make-it-and-massage-for-grown-ups/
LOCATION:Bayswater Library\, 25 King William Street\, Bayswater\, WA\, 6053\, Australia
CATEGORIES:Community Event,Free
ATTACH;FMTTYPE=image/webp:https://seniorocity.com.au/wp-content/uploads/2026/02/International-Womens-Day-–-Make-It-and-Massage-for-Grown-Ups.webp
END:VEVENT
BEGIN:VEVENT
DTSTART;TZID=Australia/Perth:20260309T173000
DTEND;TZID=Australia/Perth:20260309T193000
DTSTAMP:20260422T082025
CREATED:20260210T142007Z
LAST-MODIFIED:20260210T142007Z
UID:10863455-1773077400-1773084600@seniorocity.com.au
SUMMARY:International Women's Day Yoga
DESCRIPTION:Celebrate International Women’s Day with an evening yoga session dedicated to celebrating women\, strength and community. This relaxing session will help you unwind\, connect and reflect. \nWhether you’re an experienced yogi or just beginning\, this class is open to all levels. Enjoy the calming benefits of yoga as we honour the resilience\, achievements and unity of women everywhere. \nRegistration essential. \nRegister
URL:https://seniorocity.com.au/whats-on-perth/international-womens-day-yoga/
LOCATION:Bert Wright Park\, 25 King William Street\, Bayswater\, WA\, 6053\, Australia
CATEGORIES:Community Event,Free,Health
ATTACH;FMTTYPE=image/webp:https://seniorocity.com.au/wp-content/uploads/2026/02/International-Womens-Day-Yoga.webp
END:VEVENT
BEGIN:VEVENT
DTSTART;TZID=Australia/Perth:20260309T174500
DTEND;TZID=Australia/Perth:20260309T200000
DTSTAMP:20260422T082025
CREATED:20260102T080648Z
LAST-MODIFIED:20260204T145852Z
UID:10858125-1773078300-1773086400@seniorocity.com.au
SUMMARY:NEW! Listening Lounge Mental Health Peer Support Group - Joondalup
DESCRIPTION:A welcoming space for connection\, understanding and mutual support.
URL:https://seniorocity.com.au/whats-on-perth/new-listening-lounge-mental-health-peer-support-group-joondalup-8/
LOCATION:Joondalup Family Centre\, 25 Jolstra Crescent\, Joondalup\, WA\, 6027\, Australia
CATEGORIES:Health
ATTACH;FMTTYPE=image/jpeg:https://seniorocity.com.au/wp-content/uploads/2026/01/633e950438bb36cdcb2805d326328360.jpg
END:VEVENT
BEGIN:VEVENT
DTSTART;TZID=Australia/Perth:20260309T180000
DTEND;TZID=Australia/Perth:20260309T190000
DTSTAMP:20260422T082025
CREATED:20260103T144026Z
LAST-MODIFIED:20260103T144026Z
UID:10860220-1773079200-1773082800@seniorocity.com.au
SUMMARY:Free meditation sessions
DESCRIPTION:Now is a great time to learn meditation and get some inner peace and gain the benefits of meditating in a group. \nSessions are: \n– Getting started with meditation\, the ABC’s\n– Walking the road of meditation\n– Some of the goals of meditation\n– Art\, music and mantra for meditation \nBy booking this ticket\, you are booking all 4 classes that take place on the below dates: \nWhen: \nMarch – 9\, 16\, 23 & 30 \nTime: 6pm – 7pm \n\nBook now
URL:https://seniorocity.com.au/whats-on-perth/free-meditation-sessions/2026-03-09/
LOCATION:Bay View Community Centre\, 64 Bay View Terrace\, Claremont\, WA\, 6010\, Australia
CATEGORIES:Free
ATTACH;FMTTYPE=image/jpeg:https://seniorocity.com.au/wp-content/uploads/2026/01/Free-Meditation-Sessions.jpeg
END:VEVENT
BEGIN:VEVENT
DTSTART;TZID=Australia/Perth:20260309T180000
DTEND;TZID=Australia/Perth:20260309T200000
DTSTAMP:20260422T082025
CREATED:20250403T041945Z
LAST-MODIFIED:20250403T041945Z
UID:10119998-1773079200-1773086400@seniorocity.com.au
SUMMARY:Mens Circle
DESCRIPTION:Looking for a place to discuss life as a man with other like minded men? Manhood Perth provides a safe non-judgmental place to do that.
URL:https://seniorocity.com.au/whats-on-perth/mens-circle-51/
LOCATION:51 Anketell St\, 51 Anketell Street\, Kensington\, WA\, 6151\, Australia
CATEGORIES:Social
ATTACH;FMTTYPE=image/jpeg:https://seniorocity.com.au/wp-content/uploads/2025/04/e4b1369659ba650f186095cfa79a7ae9.jpg
END:VEVENT
BEGIN:VEVENT
DTSTART;TZID=Australia/Perth:20260309T183000
DTEND;TZID=Australia/Perth:20260309T193000
DTSTAMP:20260422T082025
CREATED:20260208T080629Z
LAST-MODIFIED:20260208T080629Z
UID:10863427-1773081000-1773084600@seniorocity.com.au
SUMMARY:Switch Your Thinking’s Guide to Using a DIY Energy Audit Kit
DESCRIPTION:This free one-hour online workshop shows participants how to use a Switch Your Thinking DIY home energy audit kit to assess energy and water use at home. \nAttendees will learn how to use the kit’s equipment\, identify where energy is being consumed\, explore the benefits of going all‑electric\, and discover simple\, low‑cost actions to improve home comfort\, cut utility bills and reduce environmental impact. \nBook Online
URL:https://seniorocity.com.au/whats-on-perth/switch-your-thinkings-guide-to-using-a-diy-energy-audit-kit/
LOCATION:Online event
CATEGORIES:Free,Virtual events,Workshop
ATTACH;FMTTYPE=image/jpeg:https://seniorocity.com.au/wp-content/uploads/2026/02/Switch-Your-Thinkings-Guide-to-Using-a-DIY-Energy-Audit-Kit.jpg
GEO:-8.521147;179.1962
END:VEVENT
BEGIN:VEVENT
DTSTART;TZID=Australia/Perth:20260309T190000
DTEND;TZID=Australia/Perth:20260309T200000
DTSTAMP:20260422T082025
CREATED:20250907T024514Z
LAST-MODIFIED:20251102T040808Z
UID:10855559-1773082800-1773086400@seniorocity.com.au
SUMMARY:Ballroom  and Latin Beginners Dancing Class Mondays
DESCRIPTION:Weekly Ballroom Dancing and Latin Beginners Class new dancers for Mondays from 7 to 8 pm.
URL:https://seniorocity.com.au/whats-on-perth/ballroom-and-latin-beginners-dancing-class-mondays-27/
LOCATION:Belmont Hub\, 213 Wright Street\, Cloverdale\, WA\, 6105\, Australia
CATEGORIES:Sport Activities
ATTACH;FMTTYPE=image/jpeg:https://seniorocity.com.au/wp-content/uploads/2025/09/c582fe5adf5726f7c2896c043591a1a1.jpg
GEO:-31.963159561157;115.9342880249
X-APPLE-STRUCTURED-LOCATION;VALUE=URI;X-ADDRESS=Belmont Hub 213 Wright Street Cloverdale WA 6105 Australia;X-APPLE-RADIUS=500;X-TITLE=213 Wright Street:geo:115.9342880249,-31.963159561157
END:VEVENT
BEGIN:VEVENT
DTSTART;TZID=Australia/Perth:20260309T190000
DTEND;TZID=Australia/Perth:20260309T203000
DTSTAMP:20260422T082025
CREATED:20260102T075213Z
LAST-MODIFIED:20260203T091928Z
UID:10857925-1773082800-1773088200@seniorocity.com.au
SUMMARY:Transform Your Relationships and Communication
DESCRIPTION:Learn new techniques and skills to help you communicate effectively with others\, resolve issues\, and heal and strengthen your relationships
URL:https://seniorocity.com.au/whats-on-perth/transform-your-relationships-and-communication-10/
LOCATION:Dorchester Hall\, 2 Dugdale Street\, Warwick\, WA\, 6024\, Australia
CATEGORIES:Free
ATTACH;FMTTYPE=image/jpeg:https://seniorocity.com.au/wp-content/uploads/2026/01/2d2f2c5208b06c6160bbfb3ac3185367.jpg
END:VEVENT
BEGIN:VEVENT
DTSTART;TZID=Australia/Perth:20260310T093000
DTEND;TZID=Australia/Perth:20260310T113000
DTSTAMP:20260422T082025
CREATED:20260206T145811Z
LAST-MODIFIED:20260206T145811Z
UID:10863156-1773135000-1773142200@seniorocity.com.au
SUMMARY:Mental Health Carer Walking Group | Heirisson Island
DESCRIPTION:Our Walking Group provides a caring environment for individuals to come together for some gentle exercise and share their experiences.
URL:https://seniorocity.com.au/whats-on-perth/mental-health-carer-walking-group-heirisson-island-2/
LOCATION:Heirisson Island Kangaroo Sanctuary\, Heirisson Island\, East Perth\, WA\, 6004\, Australia
CATEGORIES:Walks
ATTACH;FMTTYPE=image/jpeg:https://seniorocity.com.au/wp-content/uploads/2025/09/ee2298371b47b24d03515d1243b9d776.jpg
END:VEVENT
BEGIN:VEVENT
DTSTART;TZID=Australia/Perth:20260310T100000
DTEND;TZID=Australia/Perth:20260310T110000
DTSTAMP:20260422T082026
CREATED:20260102T073545Z
LAST-MODIFIED:20260204T091410Z
UID:10857606-1773136800-1773140400@seniorocity.com.au
SUMMARY:Hi\, Tech! Bayswater Library:  basic 1-to-1 tech help- January to March 2026
DESCRIPTION:Get ready to level up your tech skills with personalised 1-to-1 help at Bayswater Library – it’s your time to shine!
URL:https://seniorocity.com.au/whats-on-perth/hi-tech-bayswater-library-basic-1-to-1-tech-help-january-to-march-2026-44/
LOCATION:Bayswater Library\, 25 King William Street\, Bayswater\, WA\, 6053\, Australia
CATEGORIES:Tech
ATTACH;FMTTYPE=image/jpeg:https://seniorocity.com.au/wp-content/uploads/2023/04/558c99d491271827e52d2dce5803d12d.jpg
END:VEVENT
BEGIN:VEVENT
DTSTART;TZID=Australia/Perth:20260310T100000
DTEND;TZID=Australia/Perth:20260310T110000
DTSTAMP:20260422T082026
CREATED:20260206T145615Z
LAST-MODIFIED:20260206T145802Z
UID:10863136-1773136800-1773140400@seniorocity.com.au
SUMMARY:Port Walks - General
DESCRIPTION:Stroll with us around Victoria Quay and listen as port experts tell you about different aspects of Fremantle Ports and the Inner Harbour.
URL:https://seniorocity.com.au/whats-on-perth/port-walks-general-142/
LOCATION:Fremantle Ports\, 1 Cliff Street\, Fremantle\, WA\, 6160\, Australia
CATEGORIES:Walks
ATTACH;FMTTYPE=image/jpeg:https://seniorocity.com.au/wp-content/uploads/2024/11/139bb6ca0281574198356e89e7b97636.jpg
END:VEVENT
BEGIN:VEVENT
DTSTART;TZID=Australia/Perth:20260310T100000
DTEND;TZID=Australia/Perth:20260310T120000
DTSTAMP:20260422T082026
CREATED:20260204T091245Z
LAST-MODIFIED:20260204T093006Z
UID:10862788-1773136800-1773144000@seniorocity.com.au
SUMMARY:Scrabble
DESCRIPTION:Hey word enthusiasts!  Come along to our Scrabble group.  Bring your friends or join to make new ones.
URL:https://seniorocity.com.au/whats-on-perth/scrabble-68/
LOCATION:Bayswater Library\, 25 King William Street\, Bayswater\, WA\, 6053\, Australia
CATEGORIES:Games
ATTACH;FMTTYPE=image/jpeg:https://seniorocity.com.au/wp-content/uploads/2023/12/395216af19fc80e3a7d31b811f79a441.jpg
END:VEVENT
BEGIN:VEVENT
DTSTART;TZID=Australia/Perth:20260310T100000
DTEND;TZID=Australia/Perth:20260310T170000
DTSTAMP:20260422T082026
CREATED:20260204T150301Z
LAST-MODIFIED:20260204T150301Z
UID:10863113-1773136800-1773162000@seniorocity.com.au
SUMMARY:PERTH FESTIVAL: Brad Rimmer | Loom of the Land
DESCRIPTION:Loom of the Land brings together 3 interconnected bodies of work from artist Brad Rimmer’s Wheatbelt trilogy in a major survey exhibition.
URL:https://seniorocity.com.au/whats-on-perth/perth-festival-brad-rimmer-loom-of-the-land-32/
LOCATION:Walyalup Fremantle Arts Centre\, 1 Finnerty Street\, Fremantle\, WA\, 6160\, Australia
CATEGORIES:Exhibition
ATTACH;FMTTYPE=image/jpeg:https://seniorocity.com.au/wp-content/uploads/2026/02/d575ffdc5d64126502242cb4ddd17dee.jpg
END:VEVENT
BEGIN:VEVENT
DTSTART;TZID=Australia/Perth:20260310T110000
DTEND;TZID=Australia/Perth:20260310T120000
DTSTAMP:20260422T082026
CREATED:20260102T073546Z
LAST-MODIFIED:20260204T091422Z
UID:10857608-1773140400-1773144000@seniorocity.com.au
SUMMARY:Hi\, Tech! Bayswater Library:  basic 1-to-1 tech help- January to March 2026
DESCRIPTION:Get ready to level up your tech skills with personalised 1-to-1 help at Bayswater Library – it’s your time to shine!
URL:https://seniorocity.com.au/whats-on-perth/hi-tech-bayswater-library-basic-1-to-1-tech-help-january-to-march-2026-45/
LOCATION:Bayswater Library\, 25 King William Street\, Bayswater\, WA\, 6053\, Australia
CATEGORIES:Tech
ATTACH;FMTTYPE=image/jpeg:https://seniorocity.com.au/wp-content/uploads/2023/04/558c99d491271827e52d2dce5803d12d.jpg
END:VEVENT
BEGIN:VEVENT
DTSTART;TZID=Australia/Perth:20260310T120000
DTEND;TZID=Australia/Perth:20260310T123000
DTSTAMP:20260422T082026
CREATED:20260204T091803Z
LAST-MODIFIED:20260204T142850Z
UID:10862940-1773144000-1773145800@seniorocity.com.au
SUMMARY:Tech Help @ Girrawheen Library
DESCRIPTION:Book in for a one-on-one session to go over whatever tech help you need.
URL:https://seniorocity.com.au/whats-on-perth/tech-help-girrawheen-library-17/
LOCATION:6 Patrick Ct\, 6 Patrick Court\, Girrawheen\, WA\, 6064\, Australia
CATEGORIES:Tech
ATTACH;FMTTYPE=image/jpeg:https://seniorocity.com.au/wp-content/uploads/2026/02/5e7fa4a1fcdd23cce7739d6be450808b.jpg
END:VEVENT
BEGIN:VEVENT
DTSTART;TZID=Australia/Perth:20260310T120000
DTEND;TZID=Australia/Perth:20260310T130000
DTSTAMP:20260422T082026
CREATED:20260102T073547Z
LAST-MODIFIED:20260204T091449Z
UID:10857610-1773144000-1773147600@seniorocity.com.au
SUMMARY:Hi\, Tech! Bayswater Library:  basic 1-to-1 tech help- January to March 2026
DESCRIPTION:Get ready to level up your tech skills with personalised 1-to-1 help at Bayswater Library – it’s your time to shine!
URL:https://seniorocity.com.au/whats-on-perth/hi-tech-bayswater-library-basic-1-to-1-tech-help-january-to-march-2026-46/
LOCATION:Bayswater Library\, 25 King William Street\, Bayswater\, WA\, 6053\, Australia
CATEGORIES:Tech
ATTACH;FMTTYPE=image/jpeg:https://seniorocity.com.au/wp-content/uploads/2023/04/558c99d491271827e52d2dce5803d12d.jpg
END:VEVENT
BEGIN:VEVENT
DTSTART;TZID=Australia/Perth:20260310T123000
DTEND;TZID=Australia/Perth:20260310T130000
DTSTAMP:20260422T082026
CREATED:20260204T091804Z
LAST-MODIFIED:20260204T142853Z
UID:10862941-1773145800-1773147600@seniorocity.com.au
SUMMARY:Tech Help @ Girrawheen Library
DESCRIPTION:Book in for a one-on-one session to go over whatever tech help you need.
URL:https://seniorocity.com.au/whats-on-perth/tech-help-girrawheen-library-18/
LOCATION:6 Patrick Ct\, 6 Patrick Court\, Girrawheen\, WA\, 6064\, Australia
CATEGORIES:Tech
ATTACH;FMTTYPE=image/jpeg:https://seniorocity.com.au/wp-content/uploads/2026/02/5e7fa4a1fcdd23cce7739d6be450808b.jpg
END:VEVENT
END:VCALENDAR