BEGIN:VCALENDAR
VERSION:2.0
PRODID:-//Seniorocity - Seniors / Over 55&#039;s Guide to Perth - ECPv6.15.11//NONSGML v1.0//EN
CALSCALE:GREGORIAN
METHOD:PUBLISH
X-ORIGINAL-URL:https://seniorocity.com.au
X-WR-CALDESC:Events for Seniorocity - Seniors / Over 55&#039;s Guide to Perth
REFRESH-INTERVAL;VALUE=DURATION:PT1H
X-Robots-Tag:noindex
X-PUBLISHED-TTL:PT1H
BEGIN:VTIMEZONE
TZID:Australia/Perth
BEGIN:STANDARD
TZOFFSETFROM:+0800
TZOFFSETTO:+0800
TZNAME:AWST
DTSTART:20250101T000000
END:STANDARD
END:VTIMEZONE
BEGIN:VEVENT
DTSTART;TZID=Australia/Perth:20260616T133000
DTEND;TZID=Australia/Perth:20260616T140000
DTSTAMP:20260424T073145
CREATED:20260401T145118Z
LAST-MODIFIED:20260401T145138Z
UID:10865210-1781616600-1781618400@seniorocity.com.au
SUMMARY:Tech Help @ Girrawheen Library
DESCRIPTION:Book in for a one-on-one session to go over whatever tech help you need.
URL:https://seniorocity.com.au/whats-on-perth/tech-help-girrawheen-library-68/
LOCATION:6 Patrick Ct\, 6 Patrick Court\, Girrawheen\, WA\, 6064\, Australia
CATEGORIES:Tech
ATTACH;FMTTYPE=image/jpeg:https://seniorocity.com.au/wp-content/uploads/2026/02/5e7fa4a1fcdd23cce7739d6be450808b.jpg
END:VEVENT
BEGIN:VEVENT
DTSTART;TZID=Australia/Perth:20260616T174500
DTEND;TZID=Australia/Perth:20260616T200000
DTSTAMP:20260424T073145
CREATED:20260102T080956Z
LAST-MODIFIED:20260102T080956Z
UID:10858179-1781631900-1781640000@seniorocity.com.au
SUMMARY:Listening Lounge Mental Health Peer Support Group - Cloverdale
DESCRIPTION:A welcoming space for connection\, understanding and mutual support.
URL:https://seniorocity.com.au/whats-on-perth/listening-lounge-mental-health-peer-support-group-cloverdale-24/
LOCATION:Consumers of Mental Health WA\, 275 Belmont Avenue\, #14\, Cloverdale\, WA\, 6105\, Australia
CATEGORIES:Health
ATTACH;FMTTYPE=image/jpeg:https://seniorocity.com.au/wp-content/uploads/2026/01/daab8e42a64fba3b865f0b3d0214a624.jpg
END:VEVENT
BEGIN:VEVENT
DTSTART;TZID=Australia/Perth:20260617T090000
DTEND;TZID=Australia/Perth:20260617T100000
DTSTAMP:20260424T073145
CREATED:20260402T151927Z
LAST-MODIFIED:20260402T152920Z
UID:10865263-1781686800-1781690400@seniorocity.com.au
SUMMARY:Hi\, Tech! - Morley Library: basic 1 to 1 tech help - April to June 2026
DESCRIPTION:Get ready to level up your tech skills with personalised 1-to-1 help at Morley Library – it’s your time to shine!
URL:https://seniorocity.com.au/whats-on-perth/hi-tech-morley-library-basic-1-to-1-tech-help-april-to-june-2026-34/
LOCATION:Morley Library\, 240 Walter Road West\, Morley\, WA\, 6062\, Australia
CATEGORIES:Tech
ATTACH;FMTTYPE=image/jpeg:https://seniorocity.com.au/wp-content/uploads/2023/05/9d8a7f09914618be6e7e50f09a533e8d.jpg
END:VEVENT
BEGIN:VEVENT
DTSTART;TZID=Australia/Perth:20260617T090000
DTEND;TZID=Australia/Perth:20260617T110000
DTSTAMP:20260424T073145
CREATED:20260203T085155Z
LAST-MODIFIED:20260203T085313Z
UID:10862655-1781686800-1781694000@seniorocity.com.au
SUMMARY:Caring for the Mental Health Carer: Mind and Body Balance | City Beach
DESCRIPTION:Caring for the Mental Health Carer is a therapeutic group program designed for adult Mental Health Carers aged 18+.
URL:https://seniorocity.com.au/whats-on-perth/caring-for-the-mental-health-carer-mind-and-body-balance-city-beach-10/
LOCATION:Jubilee Crescent\, Jubilee Crescent\, City Beach\, WA\, 6015\, Australia
CATEGORIES:Health
ATTACH;FMTTYPE=image/jpeg:https://seniorocity.com.au/wp-content/uploads/2026/02/91a4ee0bd29c911dd44ce60eff2da8e0.jpg
END:VEVENT
BEGIN:VEVENT
DTSTART;TZID=Australia/Perth:20260617T093000
DTEND;TZID=Australia/Perth:20260617T110000
DTSTAMP:20260424T073145
CREATED:20260401T142706Z
LAST-MODIFIED:20260401T143226Z
UID:10865172-1781688600-1781694000@seniorocity.com.au
SUMMARY:Biscuits & Blooms-  A Plant Swap Morning Tea @ Girrawheen Library
DESCRIPTION:Join us @ Girrawheen Library with our monthly Plant Swap Morning Tea.
URL:https://seniorocity.com.au/whats-on-perth/biscuits-blooms-a-plant-swap-morning-tea-girrawheen-library-3/
LOCATION:Girrawheen Public Library\, 6 Patrick Court\, Girrawheen\, WA\, 6064\, Australia
CATEGORIES:Morning Tea
ATTACH;FMTTYPE=image/jpeg:https://seniorocity.com.au/wp-content/uploads/2026/04/0dddd384591c839dfcac13974fa0ce10.jpg
END:VEVENT
BEGIN:VEVENT
DTSTART;TZID=Australia/Perth:20260617T100000
DTEND;TZID=Australia/Perth:20260617T110000
DTSTAMP:20260424T073145
CREATED:20260402T151929Z
LAST-MODIFIED:20260402T152931Z
UID:10865264-1781690400-1781694000@seniorocity.com.au
SUMMARY:Hi\, Tech! - Morley Library: basic 1 to 1 tech help - April to June 2026
DESCRIPTION:Get ready to level up your tech skills with personalised 1-to-1 help at Morley Library – it’s your time to shine!
URL:https://seniorocity.com.au/whats-on-perth/hi-tech-morley-library-basic-1-to-1-tech-help-april-to-june-2026-35/
LOCATION:Morley Library\, 240 Walter Road West\, Morley\, WA\, 6062\, Australia
CATEGORIES:Tech
ATTACH;FMTTYPE=image/jpeg:https://seniorocity.com.au/wp-content/uploads/2023/05/9d8a7f09914618be6e7e50f09a533e8d.jpg
END:VEVENT
BEGIN:VEVENT
DTSTART;TZID=Australia/Perth:20260617T100000
DTEND;TZID=Australia/Perth:20260617T113000
DTSTAMP:20260424T073145
CREATED:20260204T090405Z
LAST-MODIFIED:20260204T090456Z
UID:10862738-1781690400-1781695800@seniorocity.com.au
SUMMARY:Mindfulness and Stretch | Bassendean
DESCRIPTION:Come and join us for a morning of Mindfulness and Movement in the beautiful surroundings of nature.
URL:https://seniorocity.com.au/whats-on-perth/mindfulness-and-stretch-bassendean-5/
LOCATION:Sandy Beach Reserve\, 203 West Road\, Bassendean\, WA\, 6054\, Australia
CATEGORIES:Health
ATTACH;FMTTYPE=image/jpeg:https://seniorocity.com.au/wp-content/uploads/2026/02/204e39748e72039a55c5a90d218569e5.jpg
GEO:-31.921352386475;115.95030975342
X-APPLE-STRUCTURED-LOCATION;VALUE=URI;X-ADDRESS=Sandy Beach Reserve 203 West Road Bassendean WA 6054 Australia;X-APPLE-RADIUS=500;X-TITLE=203 West Road:geo:115.95030975342,-31.921352386475
END:VEVENT
BEGIN:VEVENT
DTSTART;TZID=Australia/Perth:20260617T130000
DTEND;TZID=Australia/Perth:20260617T140000
DTSTAMP:20260424T073145
CREATED:20260402T152636Z
LAST-MODIFIED:20260402T153427Z
UID:10865293-1781701200-1781704800@seniorocity.com.au
SUMMARY:Hi\, Tech! Maylands Library: basic 1-to-1 tech help - April to June 2026
DESCRIPTION:Get ready to level up your IT skills with personalised 1-to-1 help at Maylands Library – it’s your time to shine!
URL:https://seniorocity.com.au/whats-on-perth/hi-tech-maylands-library-basic-1-to-1-tech-help-april-to-june-2026-19/
LOCATION:Maylands Public Library\, The RISE\, 28 Eighth Avenue\, Maylands\, WA\, 6051\, Australia
CATEGORIES:Free
ATTACH;FMTTYPE=image/jpeg:https://seniorocity.com.au/wp-content/uploads/2024/07/47d27fc431d8516939cc37f1f8af6de5.jpg
GEO:-31.9310445;115.8948571
X-APPLE-STRUCTURED-LOCATION;VALUE=URI;X-ADDRESS=Maylands Public Library The RISE 28 Eighth Avenue Maylands WA 6051 Australia;X-APPLE-RADIUS=500;X-TITLE=The RISE\, 28 Eighth Avenue:geo:115.8948571,-31.9310445
END:VEVENT
BEGIN:VEVENT
DTSTART;TZID=Australia/Perth:20260617T134500
DTEND;TZID=Australia/Perth:20260617T160000
DTSTAMP:20260424T073145
CREATED:20251102T132441Z
LAST-MODIFIED:20260102T080642Z
UID:10856469-1781703900-1781712000@seniorocity.com.au
SUMMARY:NEW Listening Lounge Mental Health Peer Support Group- Kelmscott!
DESCRIPTION:A welcoming space for connection\, understanding and mutual support.
URL:https://seniorocity.com.au/whats-on-perth/new-listening-lounge-mental-health-peer-support-group-kelmscott-33/
LOCATION:Creyk Park Pavilion\, 6 Kembla Street\, Kelmscott\, WA\, 6111\, Australia
CATEGORIES:Health
ATTACH;FMTTYPE=image/jpeg:https://seniorocity.com.au/wp-content/uploads/2026/01/0cd8afe91432da0a77137da7b5a4370c.jpg
END:VEVENT
BEGIN:VEVENT
DTSTART;TZID=Australia/Perth:20260617T140000
DTEND;TZID=Australia/Perth:20260617T150000
DTSTAMP:20260424T073145
CREATED:20260204T091646Z
LAST-MODIFIED:20260204T142701Z
UID:10862897-1781704800-1781708400@seniorocity.com.au
SUMMARY:Gardening Club
DESCRIPTION:Nature play for 2–5 year-olds & caregivers\, Wednesdays 2–3 pm! Plant veggies\, explore worms & enjoy outdoor fun together.
URL:https://seniorocity.com.au/whats-on-perth/gardening-club-19/
LOCATION:26A Harris St\, 26A Harris Street\, Bicton\, WA\, 6157\, Australia
CATEGORIES:Gardening & Environment
END:VEVENT
BEGIN:VEVENT
DTSTART;TZID=Australia/Perth:20260617T140000
DTEND;TZID=Australia/Perth:20260617T150000
DTSTAMP:20260424T073145
CREATED:20260402T152637Z
LAST-MODIFIED:20260402T153437Z
UID:10865294-1781704800-1781708400@seniorocity.com.au
SUMMARY:Hi\, Tech! Maylands Library: basic 1-to-1 tech help - April to June 2026
DESCRIPTION:Get ready to level up your IT skills with personalised 1-to-1 help at Maylands Library – it’s your time to shine!
URL:https://seniorocity.com.au/whats-on-perth/hi-tech-maylands-library-basic-1-to-1-tech-help-april-to-june-2026-20/
LOCATION:Maylands Public Library\, The RISE\, 28 Eighth Avenue\, Maylands\, WA\, 6051\, Australia
CATEGORIES:Free
ATTACH;FMTTYPE=image/jpeg:https://seniorocity.com.au/wp-content/uploads/2024/07/47d27fc431d8516939cc37f1f8af6de5.jpg
GEO:-31.9310445;115.8948571
X-APPLE-STRUCTURED-LOCATION;VALUE=URI;X-ADDRESS=Maylands Public Library The RISE 28 Eighth Avenue Maylands WA 6051 Australia;X-APPLE-RADIUS=500;X-TITLE=The RISE\, 28 Eighth Avenue:geo:115.8948571,-31.9310445
END:VEVENT
BEGIN:VEVENT
DTSTART;TZID=Australia/Perth:20260617T190000
DTEND;TZID=Australia/Perth:20260617T210000
DTSTAMP:20260424T073145
CREATED:20260102T073701Z
LAST-MODIFIED:20260401T141506Z
UID:10857636-1781722800-1781730000@seniorocity.com.au
SUMMARY:HILTON HAHAS
DESCRIPTION:New material Comedy Night\, come get a 1/2 priced dinner and have a laugh at some fresh new comedy !!
URL:https://seniorocity.com.au/whats-on-perth/hilton-hahas-24/
LOCATION:South Street Ale House & Bottleshop\, 277 South Street\, Hilton\, WA\, 6163\, Australia
CATEGORIES:Free,Theatre & Shows
ATTACH;FMTTYPE=image/jpeg:https://seniorocity.com.au/wp-content/uploads/2026/01/d1384d782c9a02cbe61db6a5afb92cd0.jpg
END:VEVENT
BEGIN:VEVENT
DTSTART;TZID=Australia/Perth:20260617T191500
DTEND;TZID=Australia/Perth:20260617T201500
DTSTAMP:20260424T073145
CREATED:20250713T072940Z
LAST-MODIFIED:20260102T081048Z
UID:10791373-1781723700-1781727300@seniorocity.com.au
SUMMARY:FREE Community Yoga
DESCRIPTION:A class taught by teachers in training. Free of charge.
URL:https://seniorocity.com.au/whats-on-perth/free-community-yoga-49/
LOCATION:The Yoga Space\, 79 Colin Street\, #6\, West Perth\, WA\, 6005\, Australia
CATEGORIES:Free
ATTACH;FMTTYPE=image/jpeg:https://seniorocity.com.au/wp-content/uploads/2025/07/620679d6cce180570dcf21a88ec64011.jpg
END:VEVENT
BEGIN:VEVENT
DTSTART;TZID=Australia/Perth:20260618T093000
DTEND;TZID=Australia/Perth:20260618T103000
DTSTAMP:20260424T073145
CREATED:20260102T080339Z
LAST-MODIFIED:20260401T150502Z
UID:10858090-1781775000-1781778600@seniorocity.com.au
SUMMARY:Tech Connect @ Wanneroo Library
DESCRIPTION:FREE weekly morning tea to connect with others and get more comfortable with technology.
URL:https://seniorocity.com.au/whats-on-perth/tech-connect-wanneroo-library-24/
LOCATION:Wanneroo Library and Cultural Centre\, 3 Rocca Way\, Wanneroo\, WA\, 6065\, Australia
CATEGORIES:Tech
ATTACH;FMTTYPE=image/jpeg:https://seniorocity.com.au/wp-content/uploads/2026/01/0cf7f50887955559e3bbd40a37b621a8.jpg
END:VEVENT
BEGIN:VEVENT
DTSTART;TZID=Australia/Perth:20260618T093000
DTEND;TZID=Australia/Perth:20260618T110000
DTSTAMP:20260424T073145
CREATED:20260204T092758Z
LAST-MODIFIED:20260204T092758Z
UID:10862982-1781775000-1781780400@seniorocity.com.au
SUMMARY:Mental Health Carer Peer Support Group | Hillarys
DESCRIPTION:Come and spend time with a support group of like-minded peers\, sharing their journeys as mental health carers.
URL:https://seniorocity.com.au/whats-on-perth/mental-health-carer-peer-support-group-hillarys-8/
LOCATION:6/32 Endeavour Rd\, Hillarys WA 6025\, 6/32 Endeavour Rd\, Hillarys\, WA\, 6025\, Australia
CATEGORIES:Health
ATTACH;FMTTYPE=image/jpeg:https://seniorocity.com.au/wp-content/uploads/2026/02/824494fc5df388816bee3d41db877250.jpg
END:VEVENT
BEGIN:VEVENT
DTSTART;TZID=Australia/Perth:20260618T093000
DTEND;TZID=Australia/Perth:20260618T120000
DTSTAMP:20260424T073145
CREATED:20260102T074718Z
LAST-MODIFIED:20260401T142532Z
UID:10857762-1781775000-1781784000@seniorocity.com.au
SUMMARY:Art for Art's Sake - Social Art Group for Adults
DESCRIPTION:Enjoy a relaxed\, welcoming space where you can work on your own projects alongside fellow artists.
URL:https://seniorocity.com.au/whats-on-perth/art-for-arts-sake-social-art-group-for-adults-34/
LOCATION:Maylands Public Library\, The RISE\, 28 Eighth Avenue\, Maylands\, WA\, 6051\, Australia
CATEGORIES:Free,Library Events
ATTACH;FMTTYPE=image/jpeg:https://seniorocity.com.au/wp-content/uploads/2025/10/403cde6a2174f39678d165fd948c9cc5.jpg
GEO:-31.9310445;115.8948571
X-APPLE-STRUCTURED-LOCATION;VALUE=URI;X-ADDRESS=Maylands Public Library The RISE 28 Eighth Avenue Maylands WA 6051 Australia;X-APPLE-RADIUS=500;X-TITLE=The RISE\, 28 Eighth Avenue:geo:115.8948571,-31.9310445
END:VEVENT
BEGIN:VEVENT
DTSTART;TZID=Australia/Perth:20260618T134500
DTEND;TZID=Australia/Perth:20260618T160000
DTSTAMP:20260424T073145
CREATED:20260102T075214Z
LAST-MODIFIED:20260102T080214Z
UID:10857919-1781790300-1781798400@seniorocity.com.au
SUMMARY:NOW ON WEEKLY!  The Listening Lounge - Fremantle Group!
DESCRIPTION:A welcoming space for connection\, understanding and mutual support.
URL:https://seniorocity.com.au/whats-on-perth/now-on-weekly-the-listening-lounge-fremantle-group-24/
LOCATION:Hampton House\, 33 Moss Street\, East Fremantle\, WA\, 6158\, Australia
CATEGORIES:Health
ATTACH;FMTTYPE=image/jpeg:https://seniorocity.com.au/wp-content/uploads/2026/01/f7784d010f62842c46d0bec8424fdcca.jpg
END:VEVENT
BEGIN:VEVENT
DTSTART;TZID=Australia/Perth:20260618T180000
DTEND;TZID=Australia/Perth:20260618T190000
DTSTAMP:20260424T073145
CREATED:20260102T075735Z
LAST-MODIFIED:20260102T081024Z
UID:10858060-1781805600-1781809200@seniorocity.com.au
SUMMARY:Peer Support Group for people affected by Heart Disease
DESCRIPTION:A safe space to connect with others who understand the challenges of living with a heart condition\, and  facing or recovering from surgery
URL:https://seniorocity.com.au/whats-on-perth/peer-support-group-for-people-affected-by-heart-disease-5/
LOCATION:Dôme Café – Manning\, 144 Manning Road\, Karawara\, WA\, 6152\, Australia
CATEGORIES:Health
ATTACH;FMTTYPE=image/jpeg:https://seniorocity.com.au/wp-content/uploads/2026/01/4b2a224f4389efa17eb308653b7c74df.jpg
END:VEVENT
BEGIN:VEVENT
DTSTART;TZID=Australia/Perth:20260618T183000
DTEND;TZID=Australia/Perth:20260618T213000
DTSTAMP:20260424T073145
CREATED:20260102T081308Z
LAST-MODIFIED:20260102T081308Z
UID:10858226-1781807400-1781818200@seniorocity.com.au
SUMMARY:Quiz Night - Palace Arcade Northbridge
DESCRIPTION:A night of laughs\, banter and head scratching questions. Every Thursday at Palace Arcade. Book at thepalacearcade.com.au or just walk in!
URL:https://seniorocity.com.au/whats-on-perth/quiz-night-palace-arcade-northbridge-24/
LOCATION:The Palace Arcade\, 84 Beaufort Street\, Perth\, WA\, 6000\, Australia
CATEGORIES:Games
ATTACH;FMTTYPE=image/jpeg:https://seniorocity.com.au/wp-content/uploads/2026/01/c5e68d32a2985bec0bbcdbd687286ed5.jpg
END:VEVENT
BEGIN:VEVENT
DTSTART;TZID=Australia/Perth:20260619T090000
DTEND;TZID=Australia/Perth:20260619T100000
DTSTAMP:20260424T073145
CREATED:20260402T151929Z
LAST-MODIFIED:20260402T152943Z
UID:10865265-1781859600-1781863200@seniorocity.com.au
SUMMARY:Hi\, Tech! - Morley Library: basic 1 to 1 tech help - April to June 2026
DESCRIPTION:Get ready to level up your tech skills with personalised 1-to-1 help at Morley Library – it’s your time to shine!
URL:https://seniorocity.com.au/whats-on-perth/hi-tech-morley-library-basic-1-to-1-tech-help-april-to-june-2026-36/
LOCATION:Morley Library\, 240 Walter Road West\, Morley\, WA\, 6062\, Australia
CATEGORIES:Tech
ATTACH;FMTTYPE=image/jpeg:https://seniorocity.com.au/wp-content/uploads/2023/05/9d8a7f09914618be6e7e50f09a533e8d.jpg
END:VEVENT
BEGIN:VEVENT
DTSTART;TZID=Australia/Perth:20260619T093000
DTEND;TZID=Australia/Perth:20260619T110000
DTSTAMP:20260424T073145
CREATED:20260402T155558Z
LAST-MODIFIED:20260402T155730Z
UID:10865319-1781861400-1781866800@seniorocity.com.au
SUMMARY:English Conversation Group @ Girrawheen Library
DESCRIPTION:Join us @ Girrawheen Library for our English Conversation Group—a relaxed and friendly space to practise your language skills.
URL:https://seniorocity.com.au/whats-on-perth/english-conversation-group-girrawheen-library-9/
LOCATION:Girrawheen Public Library\, 6 Patrick Court\, Girrawheen\, WA\, 6064\, Australia
CATEGORIES:Language Class
ATTACH;FMTTYPE=image/jpeg:https://seniorocity.com.au/wp-content/uploads/2026/04/d467cb59e057c4b7b345566d4af08a3d-1.jpg
END:VEVENT
BEGIN:VEVENT
DTSTART;TZID=Australia/Perth:20260619T093000
DTEND;TZID=Australia/Perth:20260619T113000
DTSTAMP:20260424T073145
CREATED:20260204T091520Z
LAST-MODIFIED:20260204T142124Z
UID:10862857-1781861400-1781868600@seniorocity.com.au
SUMMARY:English Conversation Group - Maylands Library
DESCRIPTION:English Conversation Group – Fluency\, Fun and Friendship
URL:https://seniorocity.com.au/whats-on-perth/english-conversation-group-maylands-library-19/
LOCATION:Maylands Public Library\, The RISE\, 28 Eighth Avenue\, Maylands\, WA\, 6051\, Australia
CATEGORIES:Language Class
ATTACH;FMTTYPE=image/jpeg:https://seniorocity.com.au/wp-content/uploads/2026/02/007c29eb8664b505b73d07efa56ec846.jpg
GEO:-31.9310445;115.8948571
X-APPLE-STRUCTURED-LOCATION;VALUE=URI;X-ADDRESS=Maylands Public Library The RISE 28 Eighth Avenue Maylands WA 6051 Australia;X-APPLE-RADIUS=500;X-TITLE=The RISE\, 28 Eighth Avenue:geo:115.8948571,-31.9310445
END:VEVENT
BEGIN:VEVENT
DTSTART;TZID=Australia/Perth:20260619T100000
DTEND;TZID=Australia/Perth:20260619T110000
DTSTAMP:20260424T073145
CREATED:20260402T151931Z
LAST-MODIFIED:20260402T152950Z
UID:10865266-1781863200-1781866800@seniorocity.com.au
SUMMARY:Hi\, Tech! - Morley Library: basic 1 to 1 tech help - April to June 2026
DESCRIPTION:Get ready to level up your tech skills with personalised 1-to-1 help at Morley Library – it’s your time to shine!
URL:https://seniorocity.com.au/whats-on-perth/hi-tech-morley-library-basic-1-to-1-tech-help-april-to-june-2026-37/
LOCATION:Morley Library\, 240 Walter Road West\, Morley\, WA\, 6062\, Australia
CATEGORIES:Tech
ATTACH;FMTTYPE=image/jpeg:https://seniorocity.com.au/wp-content/uploads/2023/05/9d8a7f09914618be6e7e50f09a533e8d.jpg
END:VEVENT
BEGIN:VEVENT
DTSTART;TZID=Australia/Perth:20260619T110000
DTEND;TZID=Australia/Perth:20260619T120000
DTSTAMP:20260424T073145
CREATED:20260402T151932Z
LAST-MODIFIED:20260402T153000Z
UID:10865267-1781866800-1781870400@seniorocity.com.au
SUMMARY:Hi\, Tech! - Morley Library: basic 1 to 1 tech help - April to June 2026
DESCRIPTION:Get ready to level up your tech skills with personalised 1-to-1 help at Morley Library – it’s your time to shine!
URL:https://seniorocity.com.au/whats-on-perth/hi-tech-morley-library-basic-1-to-1-tech-help-april-to-june-2026-38/
LOCATION:Morley Library\, 240 Walter Road West\, Morley\, WA\, 6062\, Australia
CATEGORIES:Tech
ATTACH;FMTTYPE=image/jpeg:https://seniorocity.com.au/wp-content/uploads/2023/05/9d8a7f09914618be6e7e50f09a533e8d.jpg
END:VEVENT
BEGIN:VEVENT
DTSTART;TZID=Australia/Perth:20260619T110000
DTEND;TZID=Australia/Perth:20260619T130000
DTSTAMP:20260424T073145
CREATED:20260405T124945Z
LAST-MODIFIED:20260405T124945Z
UID:10865390-1781866800-1781874000@seniorocity.com.au
SUMMARY:TECH Connect
DESCRIPTION:Personalised help with your specific queries relating to the internet and technology.
URL:https://seniorocity.com.au/whats-on-perth/tech-connect-66/
LOCATION:Australind Public Library\, 7 Mulgara Street\, Australind\, WA\, 6233\, Australia
CATEGORIES:Tech
ATTACH;FMTTYPE=image/jpeg:https://seniorocity.com.au/wp-content/uploads/2025/07/c32d4cac6d25bcb1b7f9ffb031165fb0.jpg
END:VEVENT
BEGIN:VEVENT
DTSTART;TZID=Australia/Perth:20260619T130000
DTEND;TZID=Australia/Perth:20260619T150000
DTSTAMP:20260424T073145
CREATED:20260204T143620Z
LAST-MODIFIED:20260204T143732Z
UID:10863031-1781874000-1781881200@seniorocity.com.au
SUMMARY:Feed It Forward Community Day
DESCRIPTION:Milestones Swan View welcomes the local community into the Center every Friday from 1pm – 3pm for fresh fruit\, vegetables and bakery items f
URL:https://seniorocity.com.au/whats-on-perth/feed-it-forward-community-day-20/
LOCATION:31 Balfour Rd\, 31 Balfour Road\, Swan View\, WA\, 6056\, Australia
CATEGORIES:Community Event
ATTACH;FMTTYPE=image/jpeg:https://seniorocity.com.au/wp-content/uploads/2026/02/50587b64d7b300a4fef5967808c9560c.jpg
END:VEVENT
BEGIN:VEVENT
DTSTART;TZID=Australia/Perth:20260619T130000
DTEND;TZID=Australia/Perth:20260619T160000
DTSTAMP:20260424T073145
CREATED:20260203T083831Z
LAST-MODIFIED:20260203T084155Z
UID:10862616-1781874000-1781884800@seniorocity.com.au
SUMMARY:Loop to Loop - Bayswater Library (social group for adults)
DESCRIPTION:Do you like to knit or crochet and have a yarn with your mates?
URL:https://seniorocity.com.au/whats-on-perth/loop-to-loop-bayswater-library-social-group-for-adults-63/
LOCATION:Bayswater Library\, 25 King William Street\, Bayswater\, WA\, 6053\, Australia
CATEGORIES:Knitting
ATTACH;FMTTYPE=image/jpeg:https://seniorocity.com.au/wp-content/uploads/2024/01/3cc61f6e48a291815488a5e5848cddc2.jpg
END:VEVENT
BEGIN:VEVENT
DTSTART;TZID=Australia/Perth:20260620T093000
DTEND;TZID=Australia/Perth:20260620T120000
DTSTAMP:20260424T073145
CREATED:20260422T124235Z
LAST-MODIFIED:20260422T124252Z
UID:10866088-1781947800-1781956800@seniorocity.com.au
SUMMARY:A Day at the Farm Toodyay farm animal experience
DESCRIPTION:Come hang out with cute farm animals at Toodyay farm for a fun day out!
URL:https://seniorocity.com.au/whats-on-perth/a-day-at-the-farm-toodyay-farm-animal-experience-9/
LOCATION:Sandalwood Downs Fabulous Farm Stay\, Dewars Pool-Bindoon Road\, Dewars Pool\, WA\, 6567\, Australia
CATEGORIES:Family Event
ATTACH;FMTTYPE=image/jpeg:https://seniorocity.com.au/wp-content/uploads/2026/04/ae168ef257abab80e645ae8a09a635a2-1.jpg
END:VEVENT
BEGIN:VEVENT
DTSTART;TZID=Australia/Perth:20260620T100000
DTEND;TZID=Australia/Perth:20260620T120000
DTSTAMP:20260424T073145
CREATED:20260204T143258Z
LAST-MODIFIED:20260204T143600Z
UID:10863009-1781949600-1781956800@seniorocity.com.au
SUMMARY:Meditation and Inner Wellbeing @ Dordaak Kepup Library
DESCRIPTION:Enjoy a calming guided meditation session and class focused on developing your inner wellbeing.
URL:https://seniorocity.com.au/whats-on-perth/meditation-and-inner-wellbeing-dordaak-kepup-library-20/
LOCATION:Dordaak Kepup – Library and Youth Innovation Hub\, 15 The Broadview\, Landsdale\, WA\, 6065\, Australia
CATEGORIES:Health
ATTACH;FMTTYPE=image/jpeg:https://seniorocity.com.au/wp-content/uploads/2026/02/7da9656409d210d9c863746c44cab656.jpg
END:VEVENT
BEGIN:VEVENT
DTSTART;TZID=Australia/Perth:20260620T103000
DTEND;TZID=Australia/Perth:20260620T120000
DTSTAMP:20260424T073145
CREATED:20260327T170435Z
LAST-MODIFIED:20260421T120440Z
UID:10865133-1781951400-1781956800@seniorocity.com.au
SUMMARY:Composting Workshop
DESCRIPTION:Learn how to create nutrient-rich compost that will help your garden thrive.\n\n\nLearn all about composting methods and the value of compost in your garden with Robyn Brown from ‘Waste is my Resource’. Robyn will demonstrate the set-up of each method. \nFood scraps and garden prunings are far too valuable for your soil to throw them in your landfill bin\, and composting is a great way to recycle them. \nSuitable for Adults and Youth 15+ \nCity of Canning residents can claim eco-rebates on home composting and worm farming equipment. \nSign up to the City of Canning Sustainability eNews to hear of upcoming events and initiatives.
URL:https://seniorocity.com.au/whats-on-perth/composting-workshop-2/
LOCATION:Canning River Eco Education Centre (CREEC)\, Cnr Kent Street & Queens Park Road\, Wilson\, WA\, 6107\, Australia
ATTACH;FMTTYPE=image/jpeg:https://seniorocity.com.au/wp-content/uploads/2025/05/6967e9b6c26d82882d3947118a15508e.jpg
GEO:-32.0207674;115.9204565
X-APPLE-STRUCTURED-LOCATION;VALUE=URI;X-ADDRESS=Canning River Eco Education Centre (CREEC) Cnr Kent Street & Queens Park Road Wilson WA 6107 Australia;X-APPLE-RADIUS=500;X-TITLE=Cnr Kent Street & Queens Park Road:geo:115.9204565,-32.0207674
END:VEVENT
END:VCALENDAR