BEGIN:VCALENDAR
VERSION:2.0
PRODID:-//Seniorocity - Seniors / Over 55&#039;s Guide to Perth - ECPv6.15.11//NONSGML v1.0//EN
CALSCALE:GREGORIAN
METHOD:PUBLISH
X-WR-CALNAME:Seniorocity - Seniors / Over 55&#039;s Guide to Perth
X-ORIGINAL-URL:https://seniorocity.com.au
X-WR-CALDESC:Events for Seniorocity - Seniors / Over 55&#039;s Guide to Perth
REFRESH-INTERVAL;VALUE=DURATION:PT1H
X-Robots-Tag:noindex
X-PUBLISHED-TTL:PT1H
BEGIN:VTIMEZONE
TZID:Australia/Perth
BEGIN:STANDARD
TZOFFSETFROM:+0800
TZOFFSETTO:+0800
TZNAME:AWST
DTSTART:20250101T000000
END:STANDARD
END:VTIMEZONE
BEGIN:VEVENT
DTSTART;TZID=Australia/Perth:20260425T060000
DTEND;TZID=Australia/Perth:20260425T063000
DTSTAMP:20260423T063337
CREATED:20260330T151837Z
LAST-MODIFIED:20260330T151837Z
UID:10865156-1777096800-1777098600@seniorocity.com.au
SUMMARY:Applecross Dawn Service
DESCRIPTION:Date: April 25\, 2026 \n\n\n\n\nTime: 6:00 AM – 6:30 AM \n\n\n\n\nLocation: 98 KINTAIL ROAD APPLECROSS \nAnzac Day events in WA are proudly supported by Lotterywest. If you are seeking more information on Anzac Day events email events@rslwa.org.au or call (08) 9287 3799.
URL:https://seniorocity.com.au/whats-on-perth/applecross-dawn-service/
LOCATION:WA
CATEGORIES:Anzac
ATTACH;FMTTYPE=image/jpeg:https://seniorocity.com.au/wp-content/uploads/2026/03/Applecross-RSL-Sub-branch-Anzac-Day.jpg
END:VEVENT
BEGIN:VEVENT
DTSTART;TZID=Australia/Perth:20260425T060000
DTEND;TZID=Australia/Perth:20260425T080000
DTSTAMP:20260423T063337
CREATED:20260330T150232Z
LAST-MODIFIED:20260330T150232Z
UID:10865154-1777096800-1777104000@seniorocity.com.au
SUMMARY:Albany Gunfire Breakfast
DESCRIPTION:Date: April 25\, 2026 \n\n\n\n\nTime: 6:00 AM – 8:00 AM \n\n\n\n\nLocation: Albany Entertainment Centre \nAnzac Day events in WA are proudly supported by Lotterywest. If you are seeking more information on Anzac Day events email events@rslwa.org.au or call (08) 9287 3799.
URL:https://seniorocity.com.au/whats-on-perth/albany-gunfire-breakfast/
LOCATION:WA
CATEGORIES:Anzac
ATTACH;FMTTYPE=image/webp:https://seniorocity.com.au/wp-content/uploads/2026/03/Albany-RSL-Anzac-Day-1.webp
END:VEVENT
BEGIN:VEVENT
DTSTART;TZID=Australia/Perth:20260425T060000
DTEND;TZID=Australia/Perth:20260425T080000
DTSTAMP:20260423T063337
CREATED:20260406T131939Z
LAST-MODIFIED:20260406T131939Z
UID:10865457-1777096800-1777104000@seniorocity.com.au
SUMMARY:Bullsbrook Gunfire Breakfast
DESCRIPTION:Date: April 25\, 2026 \n\n\n\n\n\nTime: 6:00 AM – 8:00 AM \n\n\n\n\n\nLocation: 6 Hurd Rd Bullsbrook WA 6084
URL:https://seniorocity.com.au/whats-on-perth/bullsbrook-gunfire-breakfast/
LOCATION:Bullsbrook War Memorial\, Hurd Rd\, Bullsbrook\, WA\, 6084\, Australia
CATEGORIES:Anzac
ATTACH;FMTTYPE=image/jpeg:https://seniorocity.com.au/wp-content/uploads/2026/04/bullsbrook-war-memorial-anzac-day.jpg
END:VEVENT
BEGIN:VEVENT
DTSTART;TZID=Australia/Perth:20260425T060000
DTEND;TZID=Australia/Perth:20260425T083000
DTSTAMP:20260423T063337
CREATED:20260411T041124Z
LAST-MODIFIED:20260411T041124Z
UID:10865508-1777096800-1777105800@seniorocity.com.au
SUMMARY:Wagin Anzac Day Events
DESCRIPTION:Dawn Service\n\n\nDate: April 25\, 2026 \n\n\n\n\nTime: 6:00 AM – 6:30 AM \n\n\n\n\nLocation: Wagin War Memorial \n\n\n\n\n\n\n\nGunfire Breakfast\n\n\nDate: April 25\, 2026 \n\n\n\n\nTime: 6:45 AM – 8:30 AM \n\n\n\n\nLocation: Eric Farrow Pavilion Wagin Sports Ground
URL:https://seniorocity.com.au/whats-on-perth/wagin-anzac-day-events/
LOCATION:WA
CATEGORIES:Anzac
ATTACH;FMTTYPE=image/jpeg:https://seniorocity.com.au/wp-content/uploads/2026/04/WA-Anzac-Day-2026.jpg
END:VEVENT
BEGIN:VEVENT
DTSTART;TZID=Australia/Perth:20260425T060000
DTEND;TZID=Australia/Perth:20260425T090000
DTSTAMP:20260423T063337
CREATED:20260408T031023Z
LAST-MODIFIED:20260408T031023Z
UID:10865465-1777096800-1777107600@seniorocity.com.au
SUMMARY:Canning Districts Anzac Day Events
DESCRIPTION:Dawn Service\n\n\nDate: April 25\, 2026 \n\n\nTime: 6:00 AM – 6:45 AM\n\n\nLocation: 162 Wharf Street Cannington 6107 \n\n\n\n\n\n\n\nGunfire Breakfast\nDate: April 25\, 2026\n\n\nTime: 6:45 AM – 7:45 AM \n\n\n\n\nLocation: 162 Wharf Street Cannington 6107 \n\n\n\n\n\n\n\nANZAC Day March\n\n\nDate: April 25\, 2026 \n\n\n\n\nTime: 7:45 AM – 8:45 AM \n\n\n\n\nLocation: Kent Street Weir \n\n\n\n\nCity of Canning Service at 8.00am\, following the March. This is followed by morning tea at the RSL with music by the City of Canning Brass band and then Two up and lunch with activities throughout the day‍‍
URL:https://seniorocity.com.au/whats-on-perth/canning-districts-anzac-day-events/
LOCATION:WA
CATEGORIES:Anzac
END:VEVENT
BEGIN:VEVENT
DTSTART;TZID=Australia/Perth:20260425T060000
DTEND;TZID=Australia/Perth:20260425T103000
DTSTAMP:20260423T063337
CREATED:20260408T080427Z
LAST-MODIFIED:20260408T080427Z
UID:10865481-1777096800-1777113000@seniorocity.com.au
SUMMARY:Harvey Anzac Day Events
DESCRIPTION:Dawn Service\n\n\nDate: April 25\, 2026 \n\n\n\n\nTime: 6:00 AM – 6:30 AM \n\n\n\n\nLocation: Harvey War Memorial Corner Uduc Rd & Young St Harvey 6220 \n\n\n\n\n\n\n\nGunfire Breakfast\n\n\nDate: April 25\, 2026 \n\n\n\n\nTime: 7:00 AM – 8:30 AM \n\n\n\n\nLocation: Harvey Town Hall Corner Uduc Rd & Young St Harvey 6220 \n\n\n\n\n\n\n\nANZAC Day March\n\n\nDate: April 25\, 2026 \n\n\n\n\nTime: 10:15 AM – 10:30 AM \n\n\n\n\nLocation: Uduc Rd Harvey 6220
URL:https://seniorocity.com.au/whats-on-perth/harvey-anzac-day-events/
LOCATION:WA
CATEGORIES:Anzac
END:VEVENT
BEGIN:VEVENT
DTSTART;TZID=Australia/Perth:20260425T060000
DTEND;TZID=Australia/Perth:20260425T110000
DTSTAMP:20260423T063337
CREATED:20260406T061733Z
LAST-MODIFIED:20260406T061733Z
UID:10865441-1777096800-1777114800@seniorocity.com.au
SUMMARY:Bicton-Fremantle Dawn Service
DESCRIPTION:Date: April 25\, 2026 \n\n\n\n\nTime: 6:00 AM – 11:00 AM \n\n\n\n\nLocation: 30B Foss Street Bicton WA 6157 \nAnzac Day events in WA are proudly supported by Lotterywest. If you are seeking more information on Anzac Day events email events@rslwa.org.au or call (08) 9287 3799.
URL:https://seniorocity.com.au/whats-on-perth/bicton-fremantle-dawn-service/
LOCATION:Bicton-Palmyra RSL\, Foss St\, Bicton\, WA\, 6157\, Australia
CATEGORIES:Anzac
END:VEVENT
BEGIN:VEVENT
DTSTART;TZID=Australia/Perth:20260425T060000
DTEND;TZID=Australia/Perth:20260425T110000
DTSTAMP:20260423T063337
CREATED:20260408T071306Z
LAST-MODIFIED:20260408T071306Z
UID:10865476-1777096800-1777114800@seniorocity.com.au
SUMMARY:Donnybrook Anzac Day Events
DESCRIPTION:Dawn Service\n\n\nDate: April 25\, 2026 \n\n\n\n\nTime: 6:00 AM – 7:00 AM \n\n\n\n\nLocation: War Memorial Donnybrook WA \n\n\n\n\n\n\n\nGunfire Breakfast\n\n\nDate: April 25\, 2026 \n\n\n\n\nTime: 7:00 AM – 8:00 AM \n\n\n\n\nLocation: Soldiers Memorial Hall Donnybrook WA \n\n\n\n\n\n\n\nANZAC Day March\n\n\nDate: April 25\, 2026 \n\n\nTime: 9:30 AM – 11:00 AM\n\n\nLocation: South Western Hwy Donnybrook and War Memorial Donnybrook
URL:https://seniorocity.com.au/whats-on-perth/donnybrook-anzac-day-events/
LOCATION:WA
CATEGORIES:Anzac
ATTACH;FMTTYPE=image/jpeg:https://seniorocity.com.au/wp-content/uploads/2026/04/australia-anzac-day.jpg
END:VEVENT
BEGIN:VEVENT
DTSTART;TZID=Australia/Perth:20260425T060000
DTEND;TZID=Australia/Perth:20260425T110000
DTSTAMP:20260423T063337
CREATED:20260408T074249Z
LAST-MODIFIED:20260408T074249Z
UID:10865479-1777096800-1777114800@seniorocity.com.au
SUMMARY:Geraldton City Anzac Day Events
DESCRIPTION:Dawn Service\n\n\nDate: April 25\, 2026 \n\n\n\n\nTime: 6:00 AM – 7:00 AM \n\n\n\n\nLocation: Forecourt Birdwood House Cnr Chapman Road & Forrest Street GERALDTON 6530 \n\n\n\n\n\n\n\nGunfire Breakfast\n\n\nDate: April 25\, 2026 \n\n\n\n\nTime: 7:00 AM – 8:00 AM \n\n\n\n\nLocation: Birdwood House \n\n\n\n\n\n\n\nANZAC Day March\n\n\nDate: April 25\, 2026 \n\n\n\n\nTime: 10:45 AM – 11:00 AM \n\n\n\n\nLocation: March From Dome Cafe to Birdwood House
URL:https://seniorocity.com.au/whats-on-perth/geraldton-city-anzac-day-events/
LOCATION:WA
CATEGORIES:Anzac
ATTACH;FMTTYPE=image/jpeg:https://seniorocity.com.au/wp-content/uploads/2026/04/Geraldton-City-Anzac-Day-Events.jpg
END:VEVENT
BEGIN:VEVENT
DTSTART;TZID=Australia/Perth:20260425T060000
DTEND;TZID=Australia/Perth:20260425T113000
DTSTAMP:20260423T063337
CREATED:20260409T143503Z
LAST-MODIFIED:20260409T143503Z
UID:10865490-1777096800-1777116600@seniorocity.com.au
SUMMARY:Mount Barker Anzac Day Events
DESCRIPTION:Dawn Service\n\n\nDate: April 25\, 2026 \n\n\n\n\nTime: 6:00 AM – 6:45 AM \n\n\n\n\nLocation: Mt Barker War Memorial \n\n\n\n\n\n\n\nGunfire Breakfast\n\n\nDate: April 25\, 2026 \n\n\n\n\nTime: 6:45 AM – 8:00 AM \n\n\n\n\nLocation: Plantagenet Hall \n\n\n\n\n\n\n\nANZAC Day March\n\n\nDate: April 25\, 2026 \n\n\n\n\nTime: 10:30 AM – 11:30 AM \n\n\n\n\nLocation: Mt Barker CRC to MT Barker War Memorial
URL:https://seniorocity.com.au/whats-on-perth/mount-barker-anzac-day-events/
LOCATION:WA
CATEGORIES:Anzac
ATTACH;FMTTYPE=image/jpeg:https://seniorocity.com.au/wp-content/uploads/2026/04/mount-barker-WA-Anzac-Day-2026.jpg
END:VEVENT
BEGIN:VEVENT
DTSTART;TZID=Australia/Perth:20260425T060000
DTEND;TZID=Australia/Perth:20260425T113000
DTSTAMP:20260423T063337
CREATED:20260411T030058Z
LAST-MODIFIED:20260411T030058Z
UID:10865500-1777096800-1777116600@seniorocity.com.au
SUMMARY:Pinjarra Anzac Day Events
DESCRIPTION:Dawn Service\n\n\nDate: April 25\, 2026 \n\n\nTime: 6:00 AM – 6:45 AM\n\n\nLocation: PINJARRA MEMORIAL \n\n\n\n\n\n\n\nGunfire Breakfast\n\n\nDate: April 25\, 2026 \n\n\n\n\nTime: 6:45 AM – 9:00 AM \n\n\n\n\nLocation: PINJARRA RSL \n\n\n\n\n\n\n\nANZAC Day March\n\n\nDate: April 25\, 2026 \n\n\n\n\nTime: 10:45 AM – 11:30 AM \n\n\n\n\nLocation: MAIN STREET PINJARRA
URL:https://seniorocity.com.au/whats-on-perth/pinjarra-anzac-day-events/
LOCATION:WA
CATEGORIES:Anzac
END:VEVENT
BEGIN:VEVENT
DTSTART;TZID=Australia/Perth:20260425T060000
DTEND;TZID=Australia/Perth:20260425T120000
DTSTAMP:20260423T063337
CREATED:20260408T032845Z
LAST-MODIFIED:20260408T032845Z
UID:10865466-1777096800-1777118400@seniorocity.com.au
SUMMARY:Capel Anzac Day Events
DESCRIPTION:Dawn Service\nDate: April 25\, 2026\n\n\nTime: 6:00 AM – 7:00 AM \n\n\n\n\nLocation: Peppermint Grove Beach Forshore \n\n\n\n\n\n\n\nGunfire Breakfast\n\n\nDate: April 25\, 2026 \n\n\nTime: 12:00 PM – 2:00 PM\n\n\nLocation: Capel RSL Sub-branch Lunch \n\n\n\n\n\n\n\nANZAC Day March\n\n\nDate: April 25\, 2026 \n\n\n\n\nTime: 10:30 AM – 12:00 PM \n\n\n\n\nLocation: Forrest Rd Capel March and Service
URL:https://seniorocity.com.au/whats-on-perth/capel-anzac-day-events/
LOCATION:WA
CATEGORIES:Anzac
END:VEVENT
BEGIN:VEVENT
DTSTART;TZID=Australia/Perth:20260425T060000
DTEND;TZID=Australia/Perth:20260425T120000
DTSTAMP:20260423T063337
CREATED:20260410T131346Z
LAST-MODIFIED:20260410T131346Z
UID:10865494-1777096800-1777118400@seniorocity.com.au
SUMMARY:Nannup Anzac Day Events
DESCRIPTION:Dawn Service\n\n\nDate: April 25\, 2026 \n\n\n\n\nTime: 6:00 AM – 6:20 AM \n\n\n\n\nLocation: War Memorial Warren Rd Nannup \n\n\n\n\n\n\n\nGunfire Breakfast\n\n\nDate: April 25\, 2026 \n\n\n\n\nTime: 5:30 AM – 12:00 AM \n\n\n\n\nLocation: RSL Hall 7 Cross Street Nannup \n\n\n\n\n\n\n\nANZAC Day March\n\n\nDate: April 25\, 2026 \n\n\n\n\nTime: 11:00 AM – 12:00 PM \n\n\n\n\nLocation: Warren Road Nannup
URL:https://seniorocity.com.au/whats-on-perth/nannup-anzac-day-events/
LOCATION:WA
CATEGORIES:Anzac
ATTACH;FMTTYPE=image/png:https://seniorocity.com.au/wp-content/uploads/2026/04/nannup-WA-Anzac-Day-2026.png
END:VEVENT
BEGIN:VEVENT
DTSTART;TZID=Australia/Perth:20260425T060000
DTEND;TZID=Australia/Perth:20260425T160000
DTSTAMP:20260423T063337
CREATED:20260410T143032Z
LAST-MODIFIED:20260410T143032Z
UID:10865499-1777096800-1777132800@seniorocity.com.au
SUMMARY:Pemberton Anzac Day Events
DESCRIPTION:Dawn Service\n\n\nDate: April 25\, 2026 \n\n\n\n\nTime: 6:00 AM – 4:00 PM \n\n\n\n\nLocation: Pemberton RSL & Pemberton CWA \n\n\n\n\n\n\n\nGunfire Breakfast\n\n\nDate: April 25\, 2026 \n\n\n\n\nTime: 6:15 AM – 4:00 PM \n\n\nLocation: Pemberton RSL & Pemberton CWA\n\n\n\n\n\nANZAC Day March\n\n\nDate: April 25\, 2026 \n\n\nTime: 10:50 AM – 11:10 AM\n\n\nLocation: Pemberton Post Office to Pemberton RSL Memorial Park
URL:https://seniorocity.com.au/whats-on-perth/pemberton-anzac-day-events/
LOCATION:WA
CATEGORIES:Anzac
ATTACH;FMTTYPE=image/jpeg:https://seniorocity.com.au/wp-content/uploads/2026/04/australia-anzac-day.jpg
END:VEVENT
BEGIN:VEVENT
DTSTART;TZID=Australia/Perth:20260425T060000
DTEND;TZID=Australia/Perth:20260425T190000
DTSTAMP:20260423T063337
CREATED:20260406T134358Z
LAST-MODIFIED:20260406T134358Z
UID:10865459-1777096800-1777143600@seniorocity.com.au
SUMMARY:Bunbury Dawn Service
DESCRIPTION:Date: April 25\, 2026 \n\n\nTime: 6:00 AM – 7:00 AM\n\n\nLocation: Dawn Service Anzac Park
URL:https://seniorocity.com.au/whats-on-perth/bunbury-dawn-service/
LOCATION:Anzac Memorial Bunbury\, Stirling St\, Bunbury\, WA\, 6230\, Australia
CATEGORIES:Anzac
ATTACH;FMTTYPE=image/jpeg:https://seniorocity.com.au/wp-content/uploads/2026/04/Bunbury-Anzac-Day.jpg
END:VEVENT
BEGIN:VEVENT
DTSTART;TZID=Australia/Perth:20260425T063000
DTEND;TZID=Australia/Perth:20260425T073000
DTSTAMP:20260423T063337
CREATED:20260320T084645Z
LAST-MODIFIED:20260320T084645Z
UID:10864541-1777098600-1777102200@seniorocity.com.au
SUMMARY:Osborne Park RSL Sub-Branch ANZAC Dawn Service 2026
DESCRIPTION:The Osborne Park RSL Sub-Branch ANZAC Dawn Service 2026 will take place at the Memorial Hall\, 129 Main Street\, Osborne Park.
URL:https://seniorocity.com.au/whats-on-perth/osborne-park-rsl-sub-branch-anzac-dawn-service-2026/
LOCATION:Osborne Park RSL Sub-Branch\, 129 Main Street\, Osborne Park\, WA\, 6017\, Australia
CATEGORIES:Anzac
ATTACH;FMTTYPE=image/webp:https://seniorocity.com.au/wp-content/uploads/2026/03/Osborne-Park-RSL-Sub-Branch-ANZAC-Dawn-Service-2026.webp
END:VEVENT
BEGIN:VEVENT
DTSTART;TZID=Australia/Perth:20260425T063000
DTEND;TZID=Australia/Perth:20260425T080000
DTSTAMP:20260423T063337
CREATED:20260407T120011Z
LAST-MODIFIED:20260407T120011Z
UID:10865463-1777098600-1777104000@seniorocity.com.au
SUMMARY:Busselton Gunfire Breakfast
DESCRIPTION:Date: April 25\, 2026 \n\n\nTime: 6:30 AM – 8:00 AM\n\n\nLocation: Busselton RSL Sub-Branch Hall
URL:https://seniorocity.com.au/whats-on-perth/busselton-gunfire-breakfast/
LOCATION:Busselton RSL\, 10 Rosemary Dr\, Busselton\, WA\, 6280\, Australia
CATEGORIES:Anzac
ATTACH;FMTTYPE=image/webp:https://seniorocity.com.au/wp-content/uploads/2026/04/Busselton-RSL-Museum.webp
END:VEVENT
BEGIN:VEVENT
DTSTART;TZID=Australia/Perth:20260425T063000
DTEND;TZID=Australia/Perth:20260425T083000
DTSTAMP:20260423T063337
CREATED:20260405T132308Z
LAST-MODIFIED:20260405T132308Z
UID:10865435-1777098600-1777105800@seniorocity.com.au
SUMMARY:Applecross Gunfire Breakfast
DESCRIPTION:Date: April 25\, 2026 \nTime: 6:30 AM – 8:30 AM \n\n\nLocation: 98 KINTAIL ROAD APPLECROSS
URL:https://seniorocity.com.au/whats-on-perth/applecross-gunfire-breakfast/
LOCATION:Applecross RSL Sub-Branch\, 98 Kintail Rd\, Applecross\, WA\, 6153\, Australia
CATEGORIES:Anzac
ATTACH;FMTTYPE=image/jpeg:https://seniorocity.com.au/wp-content/uploads/2026/04/Applecross-RSL-Sub-branch-Anzac-Day.jpg
END:VEVENT
BEGIN:VEVENT
DTSTART;TZID=Australia/Perth:20260425T063000
DTEND;TZID=Australia/Perth:20260425T090000
DTSTAMP:20260423T063337
CREATED:20260321T141414Z
LAST-MODIFIED:20260321T141414Z
UID:10864563-1777098600-1777107600@seniorocity.com.au
SUMMARY:ANZAC Day 2026 - South Perth
DESCRIPTION:Join us at South Perth Memorial Gardens as we remember together and reflect on the brave men and women who have made so many sacrifices for our freedoms. \nSupported by RSLWA and Lotterywest\, the service will feature a march\, laying of wreaths and flag ceremony. Following commemorations\, morning tea will be served in the South Perth Community Hall. \nEveryone is welcome and we invite the entire community to join us on this important day. Even if you haven’t participated in an ANZAC Day service before\, we encourage you to attend\, listen\, and learn about those who made the ultimate sacrifice in the service of their country. \nThe event is free\, with no bookings required. Seating is provided. \nSchedule\n\n6.45 – 7.00am Mounting of the Catafalque Party\n7.00 – 7.45am March and Service\n7.45 – 9.00am Morning Tea\n\nMore event information
URL:https://seniorocity.com.au/whats-on-perth/anzac-day-2026-south-perth/
LOCATION:City of South Perth Memorial Gardens\, Cnr Sandgate St and South Tce\, South Perth\, WA\, Australia
CATEGORIES:Anzac
ATTACH;FMTTYPE=image/jpeg:https://seniorocity.com.au/wp-content/uploads/2026/03/ANZAC-Day-2026-South-Perth.jpg
END:VEVENT
BEGIN:VEVENT
DTSTART;TZID=Australia/Perth:20260425T063000
DTEND;TZID=Australia/Perth:20260425T090000
DTSTAMP:20260423T063337
CREATED:20260406T081107Z
LAST-MODIFIED:20260406T081107Z
UID:10865452-1777098600-1777107600@seniorocity.com.au
SUMMARY:Brookton Gunfire Breakfast
DESCRIPTION:Date: April 25\, 2026 \n\n\nTime: 6:45 AM – 9:00 AM\n\n\nLocation: Brookton RSL
URL:https://seniorocity.com.au/whats-on-perth/brookton-gunfire-breakfast/
LOCATION:Brookton RSL Sub-Branch\, 117 Robinson Road\, Brookton\, WA\, 6306\, Australia
CATEGORIES:Anzac
ATTACH;FMTTYPE=image/jpeg:https://seniorocity.com.au/wp-content/uploads/2026/04/brookton-rsl-WA.jpg
END:VEVENT
BEGIN:VEVENT
DTSTART;TZID=Australia/Perth:20260425T063000
DTEND;TZID=Australia/Perth:20260425T183000
DTSTAMP:20260423T063337
CREATED:20260406T141338Z
LAST-MODIFIED:20260406T141338Z
UID:10865462-1777098600-1777141800@seniorocity.com.au
SUMMARY:Busselton Dawn Service
DESCRIPTION:Date: April 25\, 2026 \n\n\n\n\nTime: 5:50 AM – 6:30 AM \n\n\n\n\nLocation: Busselton War Memorial -Rotary Park of Remembrance
URL:https://seniorocity.com.au/whats-on-perth/busselton-dawn-service/
LOCATION:Busselton War Memorial\, Albert St\, Busselton\, WA\, 6280\, Australia
CATEGORIES:Anzac
ATTACH;FMTTYPE=image/jpeg:https://seniorocity.com.au/wp-content/uploads/2026/04/Busselton-Rotary-Park-Of-Remembrance-War.jpg
END:VEVENT
BEGIN:VEVENT
DTSTART;TZID=Australia/Perth:20260425T063000
DTEND;TZID=Australia/Perth:20260425T210000
DTSTAMP:20260423T063337
CREATED:20260406T123701Z
LAST-MODIFIED:20260406T123701Z
UID:10865454-1777098600-1777150800@seniorocity.com.au
SUMMARY:Broome Gunfire Breakfast
DESCRIPTION:Date: April 25\, 2026 \n\n\n\n\n\nTime: 6:30 AM – 9:00 AM \n\n\n\n\n\nLocation: Broome RSL\,  14 Robinson St Broome
URL:https://seniorocity.com.au/whats-on-perth/broome-gunfire-breakfast/
LOCATION:Broome RSL\, Robinson St\, Broome\, WA\, 6725\, Australia
CATEGORIES:Anzac
ATTACH;FMTTYPE=image/jpeg:https://seniorocity.com.au/wp-content/uploads/2026/04/Broome-RSL-Anzac-Day.jpg
END:VEVENT
BEGIN:VEVENT
DTSTART;TZID=Australia/Perth:20260425T070000
DTEND;TZID=Australia/Perth:20260425T090000
DTSTAMP:20260423T063337
CREATED:20260329T142546Z
LAST-MODIFIED:20260329T142546Z
UID:10865148-1777100400-1777107600@seniorocity.com.au
SUMMARY:Anzac Day 2026: Gunfire Breakfast
DESCRIPTION:This Anzac Day\, RSL WA is hosting a community barbeque breakfast at the Government House Gardens. Enjoy tea\, coffee\, and a breakfast roll in this beautiful garden setting. The Gunfire Breakfast is the perfect opportunity to connect with friends\, family\, and the WA Veteran community before heading to watch the March on St Georges Terrace starting at 9 AM. \n‍ \n– Complimentary tea and coffee \n– Breakfast rolls (optional donation to veteran support) \n– Open grass area with tables and chairs \n‍ \nThe Gunfire Breakfast tradition dates back to the 1890’s\, where ‘gunfire’ referred to an early morning mix of rum and black tea\, to provide a dash of courage before a day on the battlefield. The concoction started with English Army Soldiers and was quickly adopted by the Australian and New Zealand soldiers.
URL:https://seniorocity.com.au/whats-on-perth/anzac-day-2026-gunfire-breakfast/
LOCATION:Government House Gardens\, Perth\, WA\, Australia
CATEGORIES:Anzac
ATTACH;FMTTYPE=image/png:https://seniorocity.com.au/wp-content/uploads/2026/03/Anzac-Day-2026-Gunfire-Breakfast.png
END:VEVENT
BEGIN:VEVENT
DTSTART;TZID=Australia/Perth:20260425T070000
DTEND;TZID=Australia/Perth:20260425T090000
DTSTAMP:20260423T063337
CREATED:20260408T065019Z
LAST-MODIFIED:20260408T065019Z
UID:10865474-1777100400-1777107600@seniorocity.com.au
SUMMARY:Cottesloe Anzac Day Events
DESCRIPTION:Cottesloe Anzac Day Morning Ceremony\n\n\nDate: April 25\, 2026 \n\n\nTime: 7 AM – 9 AM\n\n\nLocation: Town of Cottesloe\, WA\, Australia \n\n\n\n\nVeteran form up at 6:45 at the South Gate of the Town of Cottesloe Civic Centre. Ceremony commences at 7am.
URL:https://seniorocity.com.au/whats-on-perth/cottesloe-anzac-day-events/
LOCATION:Cottesloe Civic Centre\, Napier St\, Cottesloe\, WA\, 6011\, Australia
CATEGORIES:Anzac
ATTACH;FMTTYPE=image/jpeg:https://seniorocity.com.au/wp-content/uploads/2026/04/Cottelsoe-Anzac-Day.jpg
END:VEVENT
BEGIN:VEVENT
DTSTART;TZID=Australia/Perth:20260425T070000
DTEND;TZID=Australia/Perth:20260425T100000
DTSTAMP:20260423T063337
CREATED:20260406T062307Z
LAST-MODIFIED:20260406T062307Z
UID:10865442-1777100400-1777111200@seniorocity.com.au
SUMMARY:Bicton-Fremantle Gunfire Breakfast
DESCRIPTION:Date: April 25\, 2026 \n\n\n\n\n\nTime: 7:00 AM – 10:00 AM \n\n\n\n\n\nLocation: 30B Foss Street Bicton WA 6157
URL:https://seniorocity.com.au/whats-on-perth/bicton-fremantle-gunfire-breakfast/
LOCATION:Bicton-Palmyra RSL\, Foss St\, Bicton\, WA\, 6157\, Australia
CATEGORIES:Anzac
ATTACH;FMTTYPE=image/jpeg:https://seniorocity.com.au/wp-content/uploads/2026/04/Bicton-Fremantle-RSL.jpg
END:VEVENT
BEGIN:VEVENT
DTSTART;TZID=Australia/Perth:20260425T070000
DTEND;TZID=Australia/Perth:20260425T100000
DTSTAMP:20260423T063337
CREATED:20260409T134241Z
LAST-MODIFIED:20260409T134241Z
UID:10865487-1777100400-1777111200@seniorocity.com.au
SUMMARY:Lancelin & Coastal Districts Anzac Day Events
DESCRIPTION:Dawn Service\n\n\nDate: April 25\, 2026 \n\n\n\n\nTime: 6:00 AM – 7:00 AM \n\n\n\n\nLocation: Lancelin \n\n\n\n\n\n\n\nGunfire Breakfast\n\n\nDate: April 25\, 2026 \n\n\n\n\nTime: 7:15 AM – 10:00 AM \n\n\n\n\nLocation: Endeavour Tavern Lancelin \n\n\n\n\n\n\n\nANZAC Day March\n\n\nDate: April 25\, 2026 \n\n\n\n\nTime: 7:00 AM – 7:15 AM \n\n\n\n\nLocation: Lancelin Memorial
URL:https://seniorocity.com.au/whats-on-perth/lancelin-coastal-districts-anzac-day-events/
LOCATION:WA
CATEGORIES:Anzac
ATTACH;FMTTYPE=image/jpeg:https://seniorocity.com.au/wp-content/uploads/2026/04/australia-anzac-day.jpg
END:VEVENT
BEGIN:VEVENT
DTSTART;TZID=Australia/Perth:20260425T070000
DTEND;TZID=Australia/Perth:20260425T120000
DTSTAMP:20260423T063337
CREATED:20260406T064509Z
LAST-MODIFIED:20260406T064509Z
UID:10865444-1777100400-1777118400@seniorocity.com.au
SUMMARY:Boulder Gunfire Breakfast
DESCRIPTION:Date: April 25\, 2026 \n\n\n\n\n\nTime: 7:00 AM – 12:00 PM \n\n\n\n\n\nLocation: BOULDER EX SERVICEMANS CLUB
URL:https://seniorocity.com.au/whats-on-perth/boulder-gunfire-breakfast/
LOCATION:Boulder Ex-Servicemen’s Club\, Piesse Street\, Boulder\, WA\, 6432\, Australia
CATEGORIES:Anzac
ATTACH;FMTTYPE=image/jpeg:https://seniorocity.com.au/wp-content/uploads/2026/04/ANZAC-Day-in-Kalgoorlie-Boulder.jpg
END:VEVENT
BEGIN:VEVENT
DTSTART;TZID=Australia/Perth:20260425T073000
DTEND;TZID=Australia/Perth:20260425T083000
DTSTAMP:20260423T063337
CREATED:20260406T135448Z
LAST-MODIFIED:20260406T135448Z
UID:10865460-1777102200-1777105800@seniorocity.com.au
SUMMARY:Bunbury Gunfire Breakfast
DESCRIPTION:Date: April 25\, 2026 \n\n\nTime: 7:30 AM – 8:30 AM\n\n\nLocation: RSL Hall
URL:https://seniorocity.com.au/whats-on-perth/bunbury-gunfire-breakfast/
LOCATION:Bunbury RSL Hall\, 19 Spencer St\, Bunbury\, WA\, 6230\, Australia
CATEGORIES:Anzac
ATTACH;FMTTYPE=image/png:https://seniorocity.com.au/wp-content/uploads/2026/04/Bunbury-RSL-Anzac-Day.png
END:VEVENT
BEGIN:VEVENT
DTSTART;TZID=Australia/Perth:20260425T073000
DTEND;TZID=Australia/Perth:20260425T090000
DTSTAMP:20260423T063337
CREATED:20260410T125703Z
LAST-MODIFIED:20260410T125703Z
UID:10865493-1777102200-1777107600@seniorocity.com.au
SUMMARY:Mt Lawley-Inglewood Anzac Day Events
DESCRIPTION:ANZAC Day Service\n\n\nDate: April 25\, 2026 \n\n\n\n\nTime: 7:45 AM \n\n\n\n\nLocation: Mt Lawley-Inglewood War Memorial (corner of Queens Crescent and Clifton Crescent\, Mt Lawley) \n\n\nSausage sizzle and coffee truck will be on site from 7:00 AM
URL:https://seniorocity.com.au/whats-on-perth/mt-lawley-inglewood-anzac-day-events/
LOCATION:Mount Lawley and Inglewood Memorial\, Queens Cres & Clifton Cres\, Mount Lawley\, WA\, 6050\, Australia
CATEGORIES:Anzac
ATTACH;FMTTYPE=image/jpeg:https://seniorocity.com.au/wp-content/uploads/2026/04/mount-lawley-and-inglewood-WA-Anzac-Day-2026.jpg
END:VEVENT
BEGIN:VEVENT
DTSTART;TZID=Australia/Perth:20260425T073000
DTEND;TZID=Australia/Perth:20260425T093000
DTSTAMP:20260423T063337
CREATED:20260408T050929Z
LAST-MODIFIED:20260408T050929Z
UID:10865470-1777102200-1777109400@seniorocity.com.au
SUMMARY:Cambridge ANZAC Day Parade and Remembrance Ceremony
DESCRIPTION:The RSL Cambridge Sub-Branch and the Town of Cambridge host their joint annual ANZAC Day service on 25 April each year. \nThe service will start with a parade at 7.50am\, followed by a remembrance ceremony at the West Leederville Memorial Gardens and Cenotaph at 8am. \nOn the day\, Cambridge Street (between Kerr and Abbotsford streets) will be closed from 7.30am to 9.30am to ensure a quiet and reflective ceremony. \nParking for the event is available on Abbotsford St\, Holyrood St\, and Carpark L20 (near Leederville Sporting Club). Please arrive before road closures are in place to ensure access.
URL:https://seniorocity.com.au/whats-on-perth/cambridge-anzac-day-parade-and-remembrance-ceremony/
LOCATION:West Leederville Memorial Gardens and Cenotaph\, 80 Cambridge Street\, West Leederville\, WA\, 6007\, Australia
CATEGORIES:Anzac
ATTACH;FMTTYPE=image/jpeg:https://seniorocity.com.au/wp-content/uploads/2026/04/ANZAC-Day-Parade-and-Remembrance-Ceremony.jpg
END:VEVENT
END:VCALENDAR