BEGIN:VCALENDAR
VERSION:2.0
PRODID:-//Seniorocity - Seniors / Over 55&#039;s Guide to Perth - ECPv6.15.11//NONSGML v1.0//EN
CALSCALE:GREGORIAN
METHOD:PUBLISH
X-WR-CALNAME:Seniorocity - Seniors / Over 55&#039;s Guide to Perth
X-ORIGINAL-URL:https://seniorocity.com.au
X-WR-CALDESC:Events for Seniorocity - Seniors / Over 55&#039;s Guide to Perth
REFRESH-INTERVAL;VALUE=DURATION:PT1H
X-Robots-Tag:noindex
X-PUBLISHED-TTL:PT1H
BEGIN:VTIMEZONE
TZID:Australia/Perth
BEGIN:STANDARD
TZOFFSETFROM:+0800
TZOFFSETTO:+0800
TZNAME:AWST
DTSTART:20250101T000000
END:STANDARD
END:VTIMEZONE
BEGIN:VEVENT
DTSTART;TZID=Australia/Perth:20260516T090000
DTEND;TZID=Australia/Perth:20260516T110000
DTSTAMP:20260421T140611
CREATED:20260102T072230Z
LAST-MODIFIED:20260102T072230Z
UID:10857529-1778922000-1778929200@seniorocity.com.au
SUMMARY:Repair Lab Joondalup
DESCRIPTION:Repair Lab Joondalup is a community event held at Sorrento Community Hall on the third Saturday of the month during January\, March\, May\, July\, September and November\, 9-11am . Bring along damaged household items for repair by skilled volunteers. \nOur planet has limited resources\, by choosing to repair items rather than discarding and replacing them we can reduce the demand on earth’s resources and support a sustainable future for generations ahead. Not to mention that repairing rather than replacing has other benefits such as saving money and keep well-loved items in use! \nWhat can you bring? \n\ntextiles and manchester\nbicycles\, skateboards\, scooters (non-electrical)\ntoys\njewellery\ngeneral household items (non-electrical).
URL:https://seniorocity.com.au/whats-on-perth/repair-lab-joondalup/2026-05-16/
LOCATION:Sorrento Community Centre\, 22 Padbury Cir\, Sorrento\, WA\, 6020\, Australia
CATEGORIES:Community Event
ATTACH;FMTTYPE=image/png:https://seniorocity.com.au/wp-content/uploads/2026/01/Repair_Lab-Web_News-1280x720-1.png
END:VEVENT
BEGIN:VEVENT
DTSTART;TZID=Australia/Perth:20260718T090000
DTEND;TZID=Australia/Perth:20260718T110000
DTSTAMP:20260421T140611
CREATED:20260102T072230Z
LAST-MODIFIED:20260102T072230Z
UID:10857530-1784365200-1784372400@seniorocity.com.au
SUMMARY:Repair Lab Joondalup
DESCRIPTION:Repair Lab Joondalup is a community event held at Sorrento Community Hall on the third Saturday of the month during January\, March\, May\, July\, September and November\, 9-11am . Bring along damaged household items for repair by skilled volunteers. \nOur planet has limited resources\, by choosing to repair items rather than discarding and replacing them we can reduce the demand on earth’s resources and support a sustainable future for generations ahead. Not to mention that repairing rather than replacing has other benefits such as saving money and keep well-loved items in use! \nWhat can you bring? \n\ntextiles and manchester\nbicycles\, skateboards\, scooters (non-electrical)\ntoys\njewellery\ngeneral household items (non-electrical).
URL:https://seniorocity.com.au/whats-on-perth/repair-lab-joondalup/2026-07-18/
LOCATION:Sorrento Community Centre\, 22 Padbury Cir\, Sorrento\, WA\, 6020\, Australia
CATEGORIES:Community Event
ATTACH;FMTTYPE=image/png:https://seniorocity.com.au/wp-content/uploads/2026/01/Repair_Lab-Web_News-1280x720-1.png
END:VEVENT
BEGIN:VEVENT
DTSTART;TZID=Australia/Perth:20260919T090000
DTEND;TZID=Australia/Perth:20260919T110000
DTSTAMP:20260421T140611
CREATED:20260102T072230Z
LAST-MODIFIED:20260102T072230Z
UID:10857531-1789808400-1789815600@seniorocity.com.au
SUMMARY:Repair Lab Joondalup
DESCRIPTION:Repair Lab Joondalup is a community event held at Sorrento Community Hall on the third Saturday of the month during January\, March\, May\, July\, September and November\, 9-11am . Bring along damaged household items for repair by skilled volunteers. \nOur planet has limited resources\, by choosing to repair items rather than discarding and replacing them we can reduce the demand on earth’s resources and support a sustainable future for generations ahead. Not to mention that repairing rather than replacing has other benefits such as saving money and keep well-loved items in use! \nWhat can you bring? \n\ntextiles and manchester\nbicycles\, skateboards\, scooters (non-electrical)\ntoys\njewellery\ngeneral household items (non-electrical).
URL:https://seniorocity.com.au/whats-on-perth/repair-lab-joondalup/2026-09-19/
LOCATION:Sorrento Community Centre\, 22 Padbury Cir\, Sorrento\, WA\, 6020\, Australia
CATEGORIES:Community Event
ATTACH;FMTTYPE=image/png:https://seniorocity.com.au/wp-content/uploads/2026/01/Repair_Lab-Web_News-1280x720-1.png
END:VEVENT
BEGIN:VEVENT
DTSTART;TZID=Australia/Perth:20261121T090000
DTEND;TZID=Australia/Perth:20261121T110000
DTSTAMP:20260421T140611
CREATED:20260102T072230Z
LAST-MODIFIED:20260102T072230Z
UID:10857532-1795251600-1795258800@seniorocity.com.au
SUMMARY:Repair Lab Joondalup
DESCRIPTION:Repair Lab Joondalup is a community event held at Sorrento Community Hall on the third Saturday of the month during January\, March\, May\, July\, September and November\, 9-11am . Bring along damaged household items for repair by skilled volunteers. \nOur planet has limited resources\, by choosing to repair items rather than discarding and replacing them we can reduce the demand on earth’s resources and support a sustainable future for generations ahead. Not to mention that repairing rather than replacing has other benefits such as saving money and keep well-loved items in use! \nWhat can you bring? \n\ntextiles and manchester\nbicycles\, skateboards\, scooters (non-electrical)\ntoys\njewellery\ngeneral household items (non-electrical).
URL:https://seniorocity.com.au/whats-on-perth/repair-lab-joondalup/2026-11-21/
LOCATION:Sorrento Community Centre\, 22 Padbury Cir\, Sorrento\, WA\, 6020\, Australia
CATEGORIES:Community Event
ATTACH;FMTTYPE=image/png:https://seniorocity.com.au/wp-content/uploads/2026/01/Repair_Lab-Web_News-1280x720-1.png
END:VEVENT
END:VCALENDAR