BEGIN:VCALENDAR
VERSION:2.0
PRODID:-//Seniorocity - Seniors / Over 55&#039;s Guide to Perth - ECPv6.15.11//NONSGML v1.0//EN
CALSCALE:GREGORIAN
METHOD:PUBLISH
X-WR-CALNAME:Seniorocity - Seniors / Over 55&#039;s Guide to Perth
X-ORIGINAL-URL:https://seniorocity.com.au
X-WR-CALDESC:Events for Seniorocity - Seniors / Over 55&#039;s Guide to Perth
REFRESH-INTERVAL;VALUE=DURATION:PT1H
X-Robots-Tag:noindex
X-PUBLISHED-TTL:PT1H
BEGIN:VTIMEZONE
TZID:Australia/Perth
BEGIN:STANDARD
TZOFFSETFROM:+0800
TZOFFSETTO:+0800
TZNAME:AWST
DTSTART:20250101T000000
END:STANDARD
END:VTIMEZONE
BEGIN:VEVENT
DTSTART;TZID=Australia/Perth:20260516T100000
DTEND;TZID=Australia/Perth:20260516T113000
DTSTAMP:20260421T175859
CREATED:20260102T091433Z
LAST-MODIFIED:20260102T091433Z
UID:10858645-1778925600-1778931000@seniorocity.com.au
SUMMARY:French Conversation Circle
DESCRIPTION:Voulez-vous parler en français? Join Opalina for a guided conversation with other French enthusiasts at this new monthly session. \nBest suited for intermediate French speakers. Light refreshments will be available. Allons-y! \nNo bookings required.
URL:https://seniorocity.com.au/whats-on-perth/french-conversation-circle/2026-05-16/
LOCATION:Victoria Park Library\, 27 Sussex St\, East Victoria Park\, WA\, 6101\, Australia
CATEGORIES:Language Class,Library Events
ATTACH;FMTTYPE=image/jpeg:https://seniorocity.com.au/wp-content/uploads/2026/01/imagegen-2.jpeg
GEO:-31.984312;115.90001
X-APPLE-STRUCTURED-LOCATION;VALUE=URI;X-ADDRESS=Victoria Park Library 27 Sussex St East Victoria Park WA 6101 Australia;X-APPLE-RADIUS=500;X-TITLE=27 Sussex St:geo:115.90001,-31.984312
END:VEVENT
BEGIN:VEVENT
DTSTART;TZID=Australia/Perth:20260620T100000
DTEND;TZID=Australia/Perth:20260620T113000
DTSTAMP:20260421T175859
CREATED:20260102T091433Z
LAST-MODIFIED:20260102T091433Z
UID:10858646-1781949600-1781955000@seniorocity.com.au
SUMMARY:French Conversation Circle
DESCRIPTION:Voulez-vous parler en français? Join Opalina for a guided conversation with other French enthusiasts at this new monthly session. \nBest suited for intermediate French speakers. Light refreshments will be available. Allons-y! \nNo bookings required.
URL:https://seniorocity.com.au/whats-on-perth/french-conversation-circle/2026-06-20/
LOCATION:Victoria Park Library\, 27 Sussex St\, East Victoria Park\, WA\, 6101\, Australia
CATEGORIES:Language Class,Library Events
ATTACH;FMTTYPE=image/jpeg:https://seniorocity.com.au/wp-content/uploads/2026/01/imagegen-2.jpeg
GEO:-31.984312;115.90001
X-APPLE-STRUCTURED-LOCATION;VALUE=URI;X-ADDRESS=Victoria Park Library 27 Sussex St East Victoria Park WA 6101 Australia;X-APPLE-RADIUS=500;X-TITLE=27 Sussex St:geo:115.90001,-31.984312
END:VEVENT
BEGIN:VEVENT
DTSTART;TZID=Australia/Perth:20260718T100000
DTEND;TZID=Australia/Perth:20260718T113000
DTSTAMP:20260421T175859
CREATED:20260102T091433Z
LAST-MODIFIED:20260102T091433Z
UID:10858647-1784368800-1784374200@seniorocity.com.au
SUMMARY:French Conversation Circle
DESCRIPTION:Voulez-vous parler en français? Join Opalina for a guided conversation with other French enthusiasts at this new monthly session. \nBest suited for intermediate French speakers. Light refreshments will be available. Allons-y! \nNo bookings required.
URL:https://seniorocity.com.au/whats-on-perth/french-conversation-circle/2026-07-18/
LOCATION:Victoria Park Library\, 27 Sussex St\, East Victoria Park\, WA\, 6101\, Australia
CATEGORIES:Language Class,Library Events
ATTACH;FMTTYPE=image/jpeg:https://seniorocity.com.au/wp-content/uploads/2026/01/imagegen-2.jpeg
GEO:-31.984312;115.90001
X-APPLE-STRUCTURED-LOCATION;VALUE=URI;X-ADDRESS=Victoria Park Library 27 Sussex St East Victoria Park WA 6101 Australia;X-APPLE-RADIUS=500;X-TITLE=27 Sussex St:geo:115.90001,-31.984312
END:VEVENT
BEGIN:VEVENT
DTSTART;TZID=Australia/Perth:20260815T100000
DTEND;TZID=Australia/Perth:20260815T113000
DTSTAMP:20260421T175859
CREATED:20260102T091433Z
LAST-MODIFIED:20260102T091433Z
UID:10858648-1786788000-1786793400@seniorocity.com.au
SUMMARY:French Conversation Circle
DESCRIPTION:Voulez-vous parler en français? Join Opalina for a guided conversation with other French enthusiasts at this new monthly session. \nBest suited for intermediate French speakers. Light refreshments will be available. Allons-y! \nNo bookings required.
URL:https://seniorocity.com.au/whats-on-perth/french-conversation-circle/2026-08-15/
LOCATION:Victoria Park Library\, 27 Sussex St\, East Victoria Park\, WA\, 6101\, Australia
CATEGORIES:Language Class,Library Events
ATTACH;FMTTYPE=image/jpeg:https://seniorocity.com.au/wp-content/uploads/2026/01/imagegen-2.jpeg
GEO:-31.984312;115.90001
X-APPLE-STRUCTURED-LOCATION;VALUE=URI;X-ADDRESS=Victoria Park Library 27 Sussex St East Victoria Park WA 6101 Australia;X-APPLE-RADIUS=500;X-TITLE=27 Sussex St:geo:115.90001,-31.984312
END:VEVENT
BEGIN:VEVENT
DTSTART;TZID=Australia/Perth:20260919T100000
DTEND;TZID=Australia/Perth:20260919T113000
DTSTAMP:20260421T175859
CREATED:20260102T091433Z
LAST-MODIFIED:20260102T091433Z
UID:10858649-1789812000-1789817400@seniorocity.com.au
SUMMARY:French Conversation Circle
DESCRIPTION:Voulez-vous parler en français? Join Opalina for a guided conversation with other French enthusiasts at this new monthly session. \nBest suited for intermediate French speakers. Light refreshments will be available. Allons-y! \nNo bookings required.
URL:https://seniorocity.com.au/whats-on-perth/french-conversation-circle/2026-09-19/
LOCATION:Victoria Park Library\, 27 Sussex St\, East Victoria Park\, WA\, 6101\, Australia
CATEGORIES:Language Class,Library Events
ATTACH;FMTTYPE=image/jpeg:https://seniorocity.com.au/wp-content/uploads/2026/01/imagegen-2.jpeg
GEO:-31.984312;115.90001
X-APPLE-STRUCTURED-LOCATION;VALUE=URI;X-ADDRESS=Victoria Park Library 27 Sussex St East Victoria Park WA 6101 Australia;X-APPLE-RADIUS=500;X-TITLE=27 Sussex St:geo:115.90001,-31.984312
END:VEVENT
BEGIN:VEVENT
DTSTART;TZID=Australia/Perth:20261017T100000
DTEND;TZID=Australia/Perth:20261017T113000
DTSTAMP:20260421T175859
CREATED:20260102T091433Z
LAST-MODIFIED:20260102T091433Z
UID:10858650-1792231200-1792236600@seniorocity.com.au
SUMMARY:French Conversation Circle
DESCRIPTION:Voulez-vous parler en français? Join Opalina for a guided conversation with other French enthusiasts at this new monthly session. \nBest suited for intermediate French speakers. Light refreshments will be available. Allons-y! \nNo bookings required.
URL:https://seniorocity.com.au/whats-on-perth/french-conversation-circle/2026-10-17/
LOCATION:Victoria Park Library\, 27 Sussex St\, East Victoria Park\, WA\, 6101\, Australia
CATEGORIES:Language Class,Library Events
ATTACH;FMTTYPE=image/jpeg:https://seniorocity.com.au/wp-content/uploads/2026/01/imagegen-2.jpeg
GEO:-31.984312;115.90001
X-APPLE-STRUCTURED-LOCATION;VALUE=URI;X-ADDRESS=Victoria Park Library 27 Sussex St East Victoria Park WA 6101 Australia;X-APPLE-RADIUS=500;X-TITLE=27 Sussex St:geo:115.90001,-31.984312
END:VEVENT
BEGIN:VEVENT
DTSTART;TZID=Australia/Perth:20261121T100000
DTEND;TZID=Australia/Perth:20261121T113000
DTSTAMP:20260421T175859
CREATED:20260102T091433Z
LAST-MODIFIED:20260102T091433Z
UID:10858651-1795255200-1795260600@seniorocity.com.au
SUMMARY:French Conversation Circle
DESCRIPTION:Voulez-vous parler en français? Join Opalina for a guided conversation with other French enthusiasts at this new monthly session. \nBest suited for intermediate French speakers. Light refreshments will be available. Allons-y! \nNo bookings required.
URL:https://seniorocity.com.au/whats-on-perth/french-conversation-circle/2026-11-21/
LOCATION:Victoria Park Library\, 27 Sussex St\, East Victoria Park\, WA\, 6101\, Australia
CATEGORIES:Language Class,Library Events
ATTACH;FMTTYPE=image/jpeg:https://seniorocity.com.au/wp-content/uploads/2026/01/imagegen-2.jpeg
GEO:-31.984312;115.90001
X-APPLE-STRUCTURED-LOCATION;VALUE=URI;X-ADDRESS=Victoria Park Library 27 Sussex St East Victoria Park WA 6101 Australia;X-APPLE-RADIUS=500;X-TITLE=27 Sussex St:geo:115.90001,-31.984312
END:VEVENT
BEGIN:VEVENT
DTSTART;TZID=Australia/Perth:20261219T100000
DTEND;TZID=Australia/Perth:20261219T113000
DTSTAMP:20260421T175859
CREATED:20260102T091433Z
LAST-MODIFIED:20260102T091433Z
UID:10858652-1797674400-1797679800@seniorocity.com.au
SUMMARY:French Conversation Circle
DESCRIPTION:Voulez-vous parler en français? Join Opalina for a guided conversation with other French enthusiasts at this new monthly session. \nBest suited for intermediate French speakers. Light refreshments will be available. Allons-y! \nNo bookings required.
URL:https://seniorocity.com.au/whats-on-perth/french-conversation-circle/2026-12-19/
LOCATION:Victoria Park Library\, 27 Sussex St\, East Victoria Park\, WA\, 6101\, Australia
CATEGORIES:Language Class,Library Events
ATTACH;FMTTYPE=image/jpeg:https://seniorocity.com.au/wp-content/uploads/2026/01/imagegen-2.jpeg
GEO:-31.984312;115.90001
X-APPLE-STRUCTURED-LOCATION;VALUE=URI;X-ADDRESS=Victoria Park Library 27 Sussex St East Victoria Park WA 6101 Australia;X-APPLE-RADIUS=500;X-TITLE=27 Sussex St:geo:115.90001,-31.984312
END:VEVENT
END:VCALENDAR