BEGIN:VCALENDAR
VERSION:2.0
PRODID:-//Seniorocity - Seniors / Over 55&#039;s Guide to Perth - ECPv6.15.11//NONSGML v1.0//EN
CALSCALE:GREGORIAN
METHOD:PUBLISH
X-WR-CALNAME:Seniorocity - Seniors / Over 55&#039;s Guide to Perth
X-ORIGINAL-URL:https://seniorocity.com.au
X-WR-CALDESC:Events for Seniorocity - Seniors / Over 55&#039;s Guide to Perth
REFRESH-INTERVAL;VALUE=DURATION:PT1H
X-Robots-Tag:noindex
X-PUBLISHED-TTL:PT1H
BEGIN:VTIMEZONE
TZID:Australia/Perth
BEGIN:STANDARD
TZOFFSETFROM:+0800
TZOFFSETTO:+0800
TZNAME:AWST
DTSTART:20250101T000000
END:STANDARD
END:VTIMEZONE
BEGIN:VEVENT
DTSTART;TZID=Australia/Perth:20260428T093000
DTEND;TZID=Australia/Perth:20260428T113000
DTSTAMP:20260421T230851
CREATED:20260104T142128Z
LAST-MODIFIED:20260104T142128Z
UID:10860503-1777368600-1777375800@seniorocity.com.au
SUMMARY:Fremantle knitting and crochet circle ~ over 55s
DESCRIPTION:Come along to our weekly knitting and crochet group if you enjoy meeting up to stitch and chat while supporting local charities. Donation of yarn always welcome. \n9.30-11.30am | ongoing | FREE | No booking necessary
URL:https://seniorocity.com.au/whats-on-perth/fremantle-knitting-and-crochet-circle-over-55s-2/2026-04-28/
LOCATION:Fremantle Wesley Uniting Church\, 4 Cantonment St\, Fremantle\, WA\, 6160\, Australia
CATEGORIES:Free,Knitting
ATTACH;FMTTYPE=image/jpeg:https://seniorocity.com.au/wp-content/uploads/2026/01/Fremantle-knitting-and-crochet-circle-over-55s.jpg
END:VEVENT
BEGIN:VEVENT
DTSTART;TZID=Australia/Perth:20260505T093000
DTEND;TZID=Australia/Perth:20260505T113000
DTSTAMP:20260421T230851
CREATED:20260104T142128Z
LAST-MODIFIED:20260104T142128Z
UID:10860504-1777973400-1777980600@seniorocity.com.au
SUMMARY:Fremantle knitting and crochet circle ~ over 55s
DESCRIPTION:Come along to our weekly knitting and crochet group if you enjoy meeting up to stitch and chat while supporting local charities. Donation of yarn always welcome. \n9.30-11.30am | ongoing | FREE | No booking necessary
URL:https://seniorocity.com.au/whats-on-perth/fremantle-knitting-and-crochet-circle-over-55s-2/2026-05-05/
LOCATION:Fremantle Wesley Uniting Church\, 4 Cantonment St\, Fremantle\, WA\, 6160\, Australia
CATEGORIES:Free,Knitting
ATTACH;FMTTYPE=image/jpeg:https://seniorocity.com.au/wp-content/uploads/2026/01/Fremantle-knitting-and-crochet-circle-over-55s.jpg
END:VEVENT
BEGIN:VEVENT
DTSTART;TZID=Australia/Perth:20260512T093000
DTEND;TZID=Australia/Perth:20260512T113000
DTSTAMP:20260421T230851
CREATED:20260104T142128Z
LAST-MODIFIED:20260104T142128Z
UID:10860505-1778578200-1778585400@seniorocity.com.au
SUMMARY:Fremantle knitting and crochet circle ~ over 55s
DESCRIPTION:Come along to our weekly knitting and crochet group if you enjoy meeting up to stitch and chat while supporting local charities. Donation of yarn always welcome. \n9.30-11.30am | ongoing | FREE | No booking necessary
URL:https://seniorocity.com.au/whats-on-perth/fremantle-knitting-and-crochet-circle-over-55s-2/2026-05-12/
LOCATION:Fremantle Wesley Uniting Church\, 4 Cantonment St\, Fremantle\, WA\, 6160\, Australia
CATEGORIES:Free,Knitting
ATTACH;FMTTYPE=image/jpeg:https://seniorocity.com.au/wp-content/uploads/2026/01/Fremantle-knitting-and-crochet-circle-over-55s.jpg
END:VEVENT
BEGIN:VEVENT
DTSTART;TZID=Australia/Perth:20260519T093000
DTEND;TZID=Australia/Perth:20260519T113000
DTSTAMP:20260421T230851
CREATED:20260104T142128Z
LAST-MODIFIED:20260104T142128Z
UID:10860506-1779183000-1779190200@seniorocity.com.au
SUMMARY:Fremantle knitting and crochet circle ~ over 55s
DESCRIPTION:Come along to our weekly knitting and crochet group if you enjoy meeting up to stitch and chat while supporting local charities. Donation of yarn always welcome. \n9.30-11.30am | ongoing | FREE | No booking necessary
URL:https://seniorocity.com.au/whats-on-perth/fremantle-knitting-and-crochet-circle-over-55s-2/2026-05-19/
LOCATION:Fremantle Wesley Uniting Church\, 4 Cantonment St\, Fremantle\, WA\, 6160\, Australia
CATEGORIES:Free,Knitting
ATTACH;FMTTYPE=image/jpeg:https://seniorocity.com.au/wp-content/uploads/2026/01/Fremantle-knitting-and-crochet-circle-over-55s.jpg
END:VEVENT
BEGIN:VEVENT
DTSTART;TZID=Australia/Perth:20260526T093000
DTEND;TZID=Australia/Perth:20260526T113000
DTSTAMP:20260421T230851
CREATED:20260104T142128Z
LAST-MODIFIED:20260104T142128Z
UID:10860507-1779787800-1779795000@seniorocity.com.au
SUMMARY:Fremantle knitting and crochet circle ~ over 55s
DESCRIPTION:Come along to our weekly knitting and crochet group if you enjoy meeting up to stitch and chat while supporting local charities. Donation of yarn always welcome. \n9.30-11.30am | ongoing | FREE | No booking necessary
URL:https://seniorocity.com.au/whats-on-perth/fremantle-knitting-and-crochet-circle-over-55s-2/2026-05-26/
LOCATION:Fremantle Wesley Uniting Church\, 4 Cantonment St\, Fremantle\, WA\, 6160\, Australia
CATEGORIES:Free,Knitting
ATTACH;FMTTYPE=image/jpeg:https://seniorocity.com.au/wp-content/uploads/2026/01/Fremantle-knitting-and-crochet-circle-over-55s.jpg
END:VEVENT
BEGIN:VEVENT
DTSTART;TZID=Australia/Perth:20260602T093000
DTEND;TZID=Australia/Perth:20260602T113000
DTSTAMP:20260421T230851
CREATED:20260104T142128Z
LAST-MODIFIED:20260104T142128Z
UID:10860508-1780392600-1780399800@seniorocity.com.au
SUMMARY:Fremantle knitting and crochet circle ~ over 55s
DESCRIPTION:Come along to our weekly knitting and crochet group if you enjoy meeting up to stitch and chat while supporting local charities. Donation of yarn always welcome. \n9.30-11.30am | ongoing | FREE | No booking necessary
URL:https://seniorocity.com.au/whats-on-perth/fremantle-knitting-and-crochet-circle-over-55s-2/2026-06-02/
LOCATION:Fremantle Wesley Uniting Church\, 4 Cantonment St\, Fremantle\, WA\, 6160\, Australia
CATEGORIES:Free,Knitting
ATTACH;FMTTYPE=image/jpeg:https://seniorocity.com.au/wp-content/uploads/2026/01/Fremantle-knitting-and-crochet-circle-over-55s.jpg
END:VEVENT
BEGIN:VEVENT
DTSTART;TZID=Australia/Perth:20260609T093000
DTEND;TZID=Australia/Perth:20260609T113000
DTSTAMP:20260421T230851
CREATED:20260104T142128Z
LAST-MODIFIED:20260104T142128Z
UID:10860509-1780997400-1781004600@seniorocity.com.au
SUMMARY:Fremantle knitting and crochet circle ~ over 55s
DESCRIPTION:Come along to our weekly knitting and crochet group if you enjoy meeting up to stitch and chat while supporting local charities. Donation of yarn always welcome. \n9.30-11.30am | ongoing | FREE | No booking necessary
URL:https://seniorocity.com.au/whats-on-perth/fremantle-knitting-and-crochet-circle-over-55s-2/2026-06-09/
LOCATION:Fremantle Wesley Uniting Church\, 4 Cantonment St\, Fremantle\, WA\, 6160\, Australia
CATEGORIES:Free,Knitting
ATTACH;FMTTYPE=image/jpeg:https://seniorocity.com.au/wp-content/uploads/2026/01/Fremantle-knitting-and-crochet-circle-over-55s.jpg
END:VEVENT
BEGIN:VEVENT
DTSTART;TZID=Australia/Perth:20260616T093000
DTEND;TZID=Australia/Perth:20260616T113000
DTSTAMP:20260421T230851
CREATED:20260104T142128Z
LAST-MODIFIED:20260104T142128Z
UID:10860510-1781602200-1781609400@seniorocity.com.au
SUMMARY:Fremantle knitting and crochet circle ~ over 55s
DESCRIPTION:Come along to our weekly knitting and crochet group if you enjoy meeting up to stitch and chat while supporting local charities. Donation of yarn always welcome. \n9.30-11.30am | ongoing | FREE | No booking necessary
URL:https://seniorocity.com.au/whats-on-perth/fremantle-knitting-and-crochet-circle-over-55s-2/2026-06-16/
LOCATION:Fremantle Wesley Uniting Church\, 4 Cantonment St\, Fremantle\, WA\, 6160\, Australia
CATEGORIES:Free,Knitting
ATTACH;FMTTYPE=image/jpeg:https://seniorocity.com.au/wp-content/uploads/2026/01/Fremantle-knitting-and-crochet-circle-over-55s.jpg
END:VEVENT
BEGIN:VEVENT
DTSTART;TZID=Australia/Perth:20260623T093000
DTEND;TZID=Australia/Perth:20260623T113000
DTSTAMP:20260421T230851
CREATED:20260104T142128Z
LAST-MODIFIED:20260104T142128Z
UID:10860511-1782207000-1782214200@seniorocity.com.au
SUMMARY:Fremantle knitting and crochet circle ~ over 55s
DESCRIPTION:Come along to our weekly knitting and crochet group if you enjoy meeting up to stitch and chat while supporting local charities. Donation of yarn always welcome. \n9.30-11.30am | ongoing | FREE | No booking necessary
URL:https://seniorocity.com.au/whats-on-perth/fremantle-knitting-and-crochet-circle-over-55s-2/2026-06-23/
LOCATION:Fremantle Wesley Uniting Church\, 4 Cantonment St\, Fremantle\, WA\, 6160\, Australia
CATEGORIES:Free,Knitting
ATTACH;FMTTYPE=image/jpeg:https://seniorocity.com.au/wp-content/uploads/2026/01/Fremantle-knitting-and-crochet-circle-over-55s.jpg
END:VEVENT
BEGIN:VEVENT
DTSTART;TZID=Australia/Perth:20260630T093000
DTEND;TZID=Australia/Perth:20260630T113000
DTSTAMP:20260421T230851
CREATED:20260104T142128Z
LAST-MODIFIED:20260104T142128Z
UID:10860512-1782811800-1782819000@seniorocity.com.au
SUMMARY:Fremantle knitting and crochet circle ~ over 55s
DESCRIPTION:Come along to our weekly knitting and crochet group if you enjoy meeting up to stitch and chat while supporting local charities. Donation of yarn always welcome. \n9.30-11.30am | ongoing | FREE | No booking necessary
URL:https://seniorocity.com.au/whats-on-perth/fremantle-knitting-and-crochet-circle-over-55s-2/2026-06-30/
LOCATION:Fremantle Wesley Uniting Church\, 4 Cantonment St\, Fremantle\, WA\, 6160\, Australia
CATEGORIES:Free,Knitting
ATTACH;FMTTYPE=image/jpeg:https://seniorocity.com.au/wp-content/uploads/2026/01/Fremantle-knitting-and-crochet-circle-over-55s.jpg
END:VEVENT
BEGIN:VEVENT
DTSTART;TZID=Australia/Perth:20260707T093000
DTEND;TZID=Australia/Perth:20260707T113000
DTSTAMP:20260421T230851
CREATED:20260104T142128Z
LAST-MODIFIED:20260104T142128Z
UID:10860513-1783416600-1783423800@seniorocity.com.au
SUMMARY:Fremantle knitting and crochet circle ~ over 55s
DESCRIPTION:Come along to our weekly knitting and crochet group if you enjoy meeting up to stitch and chat while supporting local charities. Donation of yarn always welcome. \n9.30-11.30am | ongoing | FREE | No booking necessary
URL:https://seniorocity.com.au/whats-on-perth/fremantle-knitting-and-crochet-circle-over-55s-2/2026-07-07/
LOCATION:Fremantle Wesley Uniting Church\, 4 Cantonment St\, Fremantle\, WA\, 6160\, Australia
CATEGORIES:Free,Knitting
ATTACH;FMTTYPE=image/jpeg:https://seniorocity.com.au/wp-content/uploads/2026/01/Fremantle-knitting-and-crochet-circle-over-55s.jpg
END:VEVENT
BEGIN:VEVENT
DTSTART;TZID=Australia/Perth:20260714T093000
DTEND;TZID=Australia/Perth:20260714T113000
DTSTAMP:20260421T230851
CREATED:20260104T142128Z
LAST-MODIFIED:20260104T142128Z
UID:10860514-1784021400-1784028600@seniorocity.com.au
SUMMARY:Fremantle knitting and crochet circle ~ over 55s
DESCRIPTION:Come along to our weekly knitting and crochet group if you enjoy meeting up to stitch and chat while supporting local charities. Donation of yarn always welcome. \n9.30-11.30am | ongoing | FREE | No booking necessary
URL:https://seniorocity.com.au/whats-on-perth/fremantle-knitting-and-crochet-circle-over-55s-2/2026-07-14/
LOCATION:Fremantle Wesley Uniting Church\, 4 Cantonment St\, Fremantle\, WA\, 6160\, Australia
CATEGORIES:Free,Knitting
ATTACH;FMTTYPE=image/jpeg:https://seniorocity.com.au/wp-content/uploads/2026/01/Fremantle-knitting-and-crochet-circle-over-55s.jpg
END:VEVENT
BEGIN:VEVENT
DTSTART;TZID=Australia/Perth:20260721T093000
DTEND;TZID=Australia/Perth:20260721T113000
DTSTAMP:20260421T230851
CREATED:20260104T142128Z
LAST-MODIFIED:20260104T142128Z
UID:10860515-1784626200-1784633400@seniorocity.com.au
SUMMARY:Fremantle knitting and crochet circle ~ over 55s
DESCRIPTION:Come along to our weekly knitting and crochet group if you enjoy meeting up to stitch and chat while supporting local charities. Donation of yarn always welcome. \n9.30-11.30am | ongoing | FREE | No booking necessary
URL:https://seniorocity.com.au/whats-on-perth/fremantle-knitting-and-crochet-circle-over-55s-2/2026-07-21/
LOCATION:Fremantle Wesley Uniting Church\, 4 Cantonment St\, Fremantle\, WA\, 6160\, Australia
CATEGORIES:Free,Knitting
ATTACH;FMTTYPE=image/jpeg:https://seniorocity.com.au/wp-content/uploads/2026/01/Fremantle-knitting-and-crochet-circle-over-55s.jpg
END:VEVENT
BEGIN:VEVENT
DTSTART;TZID=Australia/Perth:20260728T093000
DTEND;TZID=Australia/Perth:20260728T113000
DTSTAMP:20260421T230851
CREATED:20260104T142128Z
LAST-MODIFIED:20260104T142128Z
UID:10860516-1785231000-1785238200@seniorocity.com.au
SUMMARY:Fremantle knitting and crochet circle ~ over 55s
DESCRIPTION:Come along to our weekly knitting and crochet group if you enjoy meeting up to stitch and chat while supporting local charities. Donation of yarn always welcome. \n9.30-11.30am | ongoing | FREE | No booking necessary
URL:https://seniorocity.com.au/whats-on-perth/fremantle-knitting-and-crochet-circle-over-55s-2/2026-07-28/
LOCATION:Fremantle Wesley Uniting Church\, 4 Cantonment St\, Fremantle\, WA\, 6160\, Australia
CATEGORIES:Free,Knitting
ATTACH;FMTTYPE=image/jpeg:https://seniorocity.com.au/wp-content/uploads/2026/01/Fremantle-knitting-and-crochet-circle-over-55s.jpg
END:VEVENT
BEGIN:VEVENT
DTSTART;TZID=Australia/Perth:20260804T093000
DTEND;TZID=Australia/Perth:20260804T113000
DTSTAMP:20260421T230851
CREATED:20260104T142128Z
LAST-MODIFIED:20260104T142128Z
UID:10860517-1785835800-1785843000@seniorocity.com.au
SUMMARY:Fremantle knitting and crochet circle ~ over 55s
DESCRIPTION:Come along to our weekly knitting and crochet group if you enjoy meeting up to stitch and chat while supporting local charities. Donation of yarn always welcome. \n9.30-11.30am | ongoing | FREE | No booking necessary
URL:https://seniorocity.com.au/whats-on-perth/fremantle-knitting-and-crochet-circle-over-55s-2/2026-08-04/
LOCATION:Fremantle Wesley Uniting Church\, 4 Cantonment St\, Fremantle\, WA\, 6160\, Australia
CATEGORIES:Free,Knitting
ATTACH;FMTTYPE=image/jpeg:https://seniorocity.com.au/wp-content/uploads/2026/01/Fremantle-knitting-and-crochet-circle-over-55s.jpg
END:VEVENT
BEGIN:VEVENT
DTSTART;TZID=Australia/Perth:20260811T093000
DTEND;TZID=Australia/Perth:20260811T113000
DTSTAMP:20260421T230851
CREATED:20260104T142128Z
LAST-MODIFIED:20260104T142128Z
UID:10860518-1786440600-1786447800@seniorocity.com.au
SUMMARY:Fremantle knitting and crochet circle ~ over 55s
DESCRIPTION:Come along to our weekly knitting and crochet group if you enjoy meeting up to stitch and chat while supporting local charities. Donation of yarn always welcome. \n9.30-11.30am | ongoing | FREE | No booking necessary
URL:https://seniorocity.com.au/whats-on-perth/fremantle-knitting-and-crochet-circle-over-55s-2/2026-08-11/
LOCATION:Fremantle Wesley Uniting Church\, 4 Cantonment St\, Fremantle\, WA\, 6160\, Australia
CATEGORIES:Free,Knitting
ATTACH;FMTTYPE=image/jpeg:https://seniorocity.com.au/wp-content/uploads/2026/01/Fremantle-knitting-and-crochet-circle-over-55s.jpg
END:VEVENT
BEGIN:VEVENT
DTSTART;TZID=Australia/Perth:20260818T093000
DTEND;TZID=Australia/Perth:20260818T113000
DTSTAMP:20260421T230851
CREATED:20260104T142128Z
LAST-MODIFIED:20260104T142128Z
UID:10860519-1787045400-1787052600@seniorocity.com.au
SUMMARY:Fremantle knitting and crochet circle ~ over 55s
DESCRIPTION:Come along to our weekly knitting and crochet group if you enjoy meeting up to stitch and chat while supporting local charities. Donation of yarn always welcome. \n9.30-11.30am | ongoing | FREE | No booking necessary
URL:https://seniorocity.com.au/whats-on-perth/fremantle-knitting-and-crochet-circle-over-55s-2/2026-08-18/
LOCATION:Fremantle Wesley Uniting Church\, 4 Cantonment St\, Fremantle\, WA\, 6160\, Australia
CATEGORIES:Free,Knitting
ATTACH;FMTTYPE=image/jpeg:https://seniorocity.com.au/wp-content/uploads/2026/01/Fremantle-knitting-and-crochet-circle-over-55s.jpg
END:VEVENT
BEGIN:VEVENT
DTSTART;TZID=Australia/Perth:20260825T093000
DTEND;TZID=Australia/Perth:20260825T113000
DTSTAMP:20260421T230851
CREATED:20260104T142128Z
LAST-MODIFIED:20260104T142128Z
UID:10860520-1787650200-1787657400@seniorocity.com.au
SUMMARY:Fremantle knitting and crochet circle ~ over 55s
DESCRIPTION:Come along to our weekly knitting and crochet group if you enjoy meeting up to stitch and chat while supporting local charities. Donation of yarn always welcome. \n9.30-11.30am | ongoing | FREE | No booking necessary
URL:https://seniorocity.com.au/whats-on-perth/fremantle-knitting-and-crochet-circle-over-55s-2/2026-08-25/
LOCATION:Fremantle Wesley Uniting Church\, 4 Cantonment St\, Fremantle\, WA\, 6160\, Australia
CATEGORIES:Free,Knitting
ATTACH;FMTTYPE=image/jpeg:https://seniorocity.com.au/wp-content/uploads/2026/01/Fremantle-knitting-and-crochet-circle-over-55s.jpg
END:VEVENT
BEGIN:VEVENT
DTSTART;TZID=Australia/Perth:20260901T093000
DTEND;TZID=Australia/Perth:20260901T113000
DTSTAMP:20260421T230851
CREATED:20260104T142128Z
LAST-MODIFIED:20260104T142128Z
UID:10860521-1788255000-1788262200@seniorocity.com.au
SUMMARY:Fremantle knitting and crochet circle ~ over 55s
DESCRIPTION:Come along to our weekly knitting and crochet group if you enjoy meeting up to stitch and chat while supporting local charities. Donation of yarn always welcome. \n9.30-11.30am | ongoing | FREE | No booking necessary
URL:https://seniorocity.com.au/whats-on-perth/fremantle-knitting-and-crochet-circle-over-55s-2/2026-09-01/
LOCATION:Fremantle Wesley Uniting Church\, 4 Cantonment St\, Fremantle\, WA\, 6160\, Australia
CATEGORIES:Free,Knitting
ATTACH;FMTTYPE=image/jpeg:https://seniorocity.com.au/wp-content/uploads/2026/01/Fremantle-knitting-and-crochet-circle-over-55s.jpg
END:VEVENT
BEGIN:VEVENT
DTSTART;TZID=Australia/Perth:20260908T093000
DTEND;TZID=Australia/Perth:20260908T113000
DTSTAMP:20260421T230851
CREATED:20260104T142128Z
LAST-MODIFIED:20260104T142128Z
UID:10860522-1788859800-1788867000@seniorocity.com.au
SUMMARY:Fremantle knitting and crochet circle ~ over 55s
DESCRIPTION:Come along to our weekly knitting and crochet group if you enjoy meeting up to stitch and chat while supporting local charities. Donation of yarn always welcome. \n9.30-11.30am | ongoing | FREE | No booking necessary
URL:https://seniorocity.com.au/whats-on-perth/fremantle-knitting-and-crochet-circle-over-55s-2/2026-09-08/
LOCATION:Fremantle Wesley Uniting Church\, 4 Cantonment St\, Fremantle\, WA\, 6160\, Australia
CATEGORIES:Free,Knitting
ATTACH;FMTTYPE=image/jpeg:https://seniorocity.com.au/wp-content/uploads/2026/01/Fremantle-knitting-and-crochet-circle-over-55s.jpg
END:VEVENT
BEGIN:VEVENT
DTSTART;TZID=Australia/Perth:20260915T093000
DTEND;TZID=Australia/Perth:20260915T113000
DTSTAMP:20260421T230851
CREATED:20260104T142128Z
LAST-MODIFIED:20260104T142128Z
UID:10860523-1789464600-1789471800@seniorocity.com.au
SUMMARY:Fremantle knitting and crochet circle ~ over 55s
DESCRIPTION:Come along to our weekly knitting and crochet group if you enjoy meeting up to stitch and chat while supporting local charities. Donation of yarn always welcome. \n9.30-11.30am | ongoing | FREE | No booking necessary
URL:https://seniorocity.com.au/whats-on-perth/fremantle-knitting-and-crochet-circle-over-55s-2/2026-09-15/
LOCATION:Fremantle Wesley Uniting Church\, 4 Cantonment St\, Fremantle\, WA\, 6160\, Australia
CATEGORIES:Free,Knitting
ATTACH;FMTTYPE=image/jpeg:https://seniorocity.com.au/wp-content/uploads/2026/01/Fremantle-knitting-and-crochet-circle-over-55s.jpg
END:VEVENT
BEGIN:VEVENT
DTSTART;TZID=Australia/Perth:20260922T093000
DTEND;TZID=Australia/Perth:20260922T113000
DTSTAMP:20260421T230851
CREATED:20260104T142128Z
LAST-MODIFIED:20260104T142128Z
UID:10860524-1790069400-1790076600@seniorocity.com.au
SUMMARY:Fremantle knitting and crochet circle ~ over 55s
DESCRIPTION:Come along to our weekly knitting and crochet group if you enjoy meeting up to stitch and chat while supporting local charities. Donation of yarn always welcome. \n9.30-11.30am | ongoing | FREE | No booking necessary
URL:https://seniorocity.com.au/whats-on-perth/fremantle-knitting-and-crochet-circle-over-55s-2/2026-09-22/
LOCATION:Fremantle Wesley Uniting Church\, 4 Cantonment St\, Fremantle\, WA\, 6160\, Australia
CATEGORIES:Free,Knitting
ATTACH;FMTTYPE=image/jpeg:https://seniorocity.com.au/wp-content/uploads/2026/01/Fremantle-knitting-and-crochet-circle-over-55s.jpg
END:VEVENT
BEGIN:VEVENT
DTSTART;TZID=Australia/Perth:20260929T093000
DTEND;TZID=Australia/Perth:20260929T113000
DTSTAMP:20260421T230851
CREATED:20260104T142128Z
LAST-MODIFIED:20260104T142128Z
UID:10860525-1790674200-1790681400@seniorocity.com.au
SUMMARY:Fremantle knitting and crochet circle ~ over 55s
DESCRIPTION:Come along to our weekly knitting and crochet group if you enjoy meeting up to stitch and chat while supporting local charities. Donation of yarn always welcome. \n9.30-11.30am | ongoing | FREE | No booking necessary
URL:https://seniorocity.com.au/whats-on-perth/fremantle-knitting-and-crochet-circle-over-55s-2/2026-09-29/
LOCATION:Fremantle Wesley Uniting Church\, 4 Cantonment St\, Fremantle\, WA\, 6160\, Australia
CATEGORIES:Free,Knitting
ATTACH;FMTTYPE=image/jpeg:https://seniorocity.com.au/wp-content/uploads/2026/01/Fremantle-knitting-and-crochet-circle-over-55s.jpg
END:VEVENT
BEGIN:VEVENT
DTSTART;TZID=Australia/Perth:20261006T093000
DTEND;TZID=Australia/Perth:20261006T113000
DTSTAMP:20260421T230851
CREATED:20260104T142128Z
LAST-MODIFIED:20260104T142128Z
UID:10860526-1791279000-1791286200@seniorocity.com.au
SUMMARY:Fremantle knitting and crochet circle ~ over 55s
DESCRIPTION:Come along to our weekly knitting and crochet group if you enjoy meeting up to stitch and chat while supporting local charities. Donation of yarn always welcome. \n9.30-11.30am | ongoing | FREE | No booking necessary
URL:https://seniorocity.com.au/whats-on-perth/fremantle-knitting-and-crochet-circle-over-55s-2/2026-10-06/
LOCATION:Fremantle Wesley Uniting Church\, 4 Cantonment St\, Fremantle\, WA\, 6160\, Australia
CATEGORIES:Free,Knitting
ATTACH;FMTTYPE=image/jpeg:https://seniorocity.com.au/wp-content/uploads/2026/01/Fremantle-knitting-and-crochet-circle-over-55s.jpg
END:VEVENT
BEGIN:VEVENT
DTSTART;TZID=Australia/Perth:20261013T093000
DTEND;TZID=Australia/Perth:20261013T113000
DTSTAMP:20260421T230851
CREATED:20260104T142128Z
LAST-MODIFIED:20260104T142128Z
UID:10860527-1791883800-1791891000@seniorocity.com.au
SUMMARY:Fremantle knitting and crochet circle ~ over 55s
DESCRIPTION:Come along to our weekly knitting and crochet group if you enjoy meeting up to stitch and chat while supporting local charities. Donation of yarn always welcome. \n9.30-11.30am | ongoing | FREE | No booking necessary
URL:https://seniorocity.com.au/whats-on-perth/fremantle-knitting-and-crochet-circle-over-55s-2/2026-10-13/
LOCATION:Fremantle Wesley Uniting Church\, 4 Cantonment St\, Fremantle\, WA\, 6160\, Australia
CATEGORIES:Free,Knitting
ATTACH;FMTTYPE=image/jpeg:https://seniorocity.com.au/wp-content/uploads/2026/01/Fremantle-knitting-and-crochet-circle-over-55s.jpg
END:VEVENT
BEGIN:VEVENT
DTSTART;TZID=Australia/Perth:20261020T093000
DTEND;TZID=Australia/Perth:20261020T113000
DTSTAMP:20260421T230851
CREATED:20260104T142128Z
LAST-MODIFIED:20260104T142128Z
UID:10860528-1792488600-1792495800@seniorocity.com.au
SUMMARY:Fremantle knitting and crochet circle ~ over 55s
DESCRIPTION:Come along to our weekly knitting and crochet group if you enjoy meeting up to stitch and chat while supporting local charities. Donation of yarn always welcome. \n9.30-11.30am | ongoing | FREE | No booking necessary
URL:https://seniorocity.com.au/whats-on-perth/fremantle-knitting-and-crochet-circle-over-55s-2/2026-10-20/
LOCATION:Fremantle Wesley Uniting Church\, 4 Cantonment St\, Fremantle\, WA\, 6160\, Australia
CATEGORIES:Free,Knitting
ATTACH;FMTTYPE=image/jpeg:https://seniorocity.com.au/wp-content/uploads/2026/01/Fremantle-knitting-and-crochet-circle-over-55s.jpg
END:VEVENT
BEGIN:VEVENT
DTSTART;TZID=Australia/Perth:20261027T093000
DTEND;TZID=Australia/Perth:20261027T113000
DTSTAMP:20260421T230851
CREATED:20260104T142128Z
LAST-MODIFIED:20260104T142128Z
UID:10860529-1793093400-1793100600@seniorocity.com.au
SUMMARY:Fremantle knitting and crochet circle ~ over 55s
DESCRIPTION:Come along to our weekly knitting and crochet group if you enjoy meeting up to stitch and chat while supporting local charities. Donation of yarn always welcome. \n9.30-11.30am | ongoing | FREE | No booking necessary
URL:https://seniorocity.com.au/whats-on-perth/fremantle-knitting-and-crochet-circle-over-55s-2/2026-10-27/
LOCATION:Fremantle Wesley Uniting Church\, 4 Cantonment St\, Fremantle\, WA\, 6160\, Australia
CATEGORIES:Free,Knitting
ATTACH;FMTTYPE=image/jpeg:https://seniorocity.com.au/wp-content/uploads/2026/01/Fremantle-knitting-and-crochet-circle-over-55s.jpg
END:VEVENT
BEGIN:VEVENT
DTSTART;TZID=Australia/Perth:20261103T093000
DTEND;TZID=Australia/Perth:20261103T113000
DTSTAMP:20260421T230851
CREATED:20260104T142128Z
LAST-MODIFIED:20260104T142128Z
UID:10860530-1793698200-1793705400@seniorocity.com.au
SUMMARY:Fremantle knitting and crochet circle ~ over 55s
DESCRIPTION:Come along to our weekly knitting and crochet group if you enjoy meeting up to stitch and chat while supporting local charities. Donation of yarn always welcome. \n9.30-11.30am | ongoing | FREE | No booking necessary
URL:https://seniorocity.com.au/whats-on-perth/fremantle-knitting-and-crochet-circle-over-55s-2/2026-11-03/
LOCATION:Fremantle Wesley Uniting Church\, 4 Cantonment St\, Fremantle\, WA\, 6160\, Australia
CATEGORIES:Free,Knitting
ATTACH;FMTTYPE=image/jpeg:https://seniorocity.com.au/wp-content/uploads/2026/01/Fremantle-knitting-and-crochet-circle-over-55s.jpg
END:VEVENT
BEGIN:VEVENT
DTSTART;TZID=Australia/Perth:20261110T093000
DTEND;TZID=Australia/Perth:20261110T113000
DTSTAMP:20260421T230852
CREATED:20260104T142128Z
LAST-MODIFIED:20260104T142128Z
UID:10860531-1794303000-1794310200@seniorocity.com.au
SUMMARY:Fremantle knitting and crochet circle ~ over 55s
DESCRIPTION:Come along to our weekly knitting and crochet group if you enjoy meeting up to stitch and chat while supporting local charities. Donation of yarn always welcome. \n9.30-11.30am | ongoing | FREE | No booking necessary
URL:https://seniorocity.com.au/whats-on-perth/fremantle-knitting-and-crochet-circle-over-55s-2/2026-11-10/
LOCATION:Fremantle Wesley Uniting Church\, 4 Cantonment St\, Fremantle\, WA\, 6160\, Australia
CATEGORIES:Free,Knitting
ATTACH;FMTTYPE=image/jpeg:https://seniorocity.com.au/wp-content/uploads/2026/01/Fremantle-knitting-and-crochet-circle-over-55s.jpg
END:VEVENT
BEGIN:VEVENT
DTSTART;TZID=Australia/Perth:20261117T093000
DTEND;TZID=Australia/Perth:20261117T113000
DTSTAMP:20260421T230852
CREATED:20260104T142128Z
LAST-MODIFIED:20260104T142128Z
UID:10860532-1794907800-1794915000@seniorocity.com.au
SUMMARY:Fremantle knitting and crochet circle ~ over 55s
DESCRIPTION:Come along to our weekly knitting and crochet group if you enjoy meeting up to stitch and chat while supporting local charities. Donation of yarn always welcome. \n9.30-11.30am | ongoing | FREE | No booking necessary
URL:https://seniorocity.com.au/whats-on-perth/fremantle-knitting-and-crochet-circle-over-55s-2/2026-11-17/
LOCATION:Fremantle Wesley Uniting Church\, 4 Cantonment St\, Fremantle\, WA\, 6160\, Australia
CATEGORIES:Free,Knitting
ATTACH;FMTTYPE=image/jpeg:https://seniorocity.com.au/wp-content/uploads/2026/01/Fremantle-knitting-and-crochet-circle-over-55s.jpg
END:VEVENT
END:VCALENDAR