BEGIN:VCALENDAR
VERSION:2.0
PRODID:-//Seniorocity - Seniors / Over 55&#039;s Guide to Perth - ECPv6.15.11//NONSGML v1.0//EN
CALSCALE:GREGORIAN
METHOD:PUBLISH
X-WR-CALNAME:Seniorocity - Seniors / Over 55&#039;s Guide to Perth
X-ORIGINAL-URL:https://seniorocity.com.au
X-WR-CALDESC:Events for Seniorocity - Seniors / Over 55&#039;s Guide to Perth
REFRESH-INTERVAL;VALUE=DURATION:PT1H
X-Robots-Tag:noindex
X-PUBLISHED-TTL:PT1H
BEGIN:VTIMEZONE
TZID:Australia/Perth
BEGIN:STANDARD
TZOFFSETFROM:+0800
TZOFFSETTO:+0800
TZNAME:AWST
DTSTART:20250101T000000
END:STANDARD
END:VTIMEZONE
BEGIN:VEVENT
DTSTART;TZID=Australia/Perth:20260501T143000
DTEND;TZID=Australia/Perth:20260501T170000
DTSTAMP:20260422T114301
CREATED:20260106T153044Z
LAST-MODIFIED:20260106T153044Z
UID:10861020-1777645800-1777654800@seniorocity.com.au
SUMMARY:First Friday Film Club
DESCRIPTION:Join industry insider and movie buff Michael O’Rourke each month for a film from the library’s free streaming platform Kanopy. \nEach month AH Bracks Library will screen one of the amazing films available on the library’s free streaming platform Kanopy. Industry insider\, movie buff and Kanopy lover Michael O’Rourke will enrich the screening by sharing his knowledge and insights about the film and his tips for what to watch out for! \n  \nPlease note that this event is intended for adults. Films shown may contain a variety of adult content and themes. \n  \nAbout the presenter:\nMichael O’Rourke\nMichael is a screenwriter who worked in the film industry as an editor and assistant director before joining the story department of Grundy Television in 1990. He has worked since then as a script editor and freelance writer. Currently\, Michael is one of the presenters of Book-to-Film screenings at Perth’s Backlot Cinema. \nBook this event
URL:https://seniorocity.com.au/whats-on-perth/first-friday-film-club-13/2026-05-01/
LOCATION:AH Bracks Library + Creative Space\, 431 Canning Highway (cnr of Stock Road)\, Melville\, WA\, 6156\, Australia
CATEGORIES:Free,Library Events,Movies,Social
ATTACH;FMTTYPE=image/jpeg:https://seniorocity.com.au/wp-content/uploads/2026/01/First-Friday-Film-Club.jpg
END:VEVENT
BEGIN:VEVENT
DTSTART;TZID=Australia/Perth:20260605T143000
DTEND;TZID=Australia/Perth:20260605T170000
DTSTAMP:20260422T114301
CREATED:20260106T153044Z
LAST-MODIFIED:20260106T153044Z
UID:10861021-1780669800-1780678800@seniorocity.com.au
SUMMARY:First Friday Film Club
DESCRIPTION:Join industry insider and movie buff Michael O’Rourke each month for a film from the library’s free streaming platform Kanopy. \nEach month AH Bracks Library will screen one of the amazing films available on the library’s free streaming platform Kanopy. Industry insider\, movie buff and Kanopy lover Michael O’Rourke will enrich the screening by sharing his knowledge and insights about the film and his tips for what to watch out for! \n  \nPlease note that this event is intended for adults. Films shown may contain a variety of adult content and themes. \n  \nAbout the presenter:\nMichael O’Rourke\nMichael is a screenwriter who worked in the film industry as an editor and assistant director before joining the story department of Grundy Television in 1990. He has worked since then as a script editor and freelance writer. Currently\, Michael is one of the presenters of Book-to-Film screenings at Perth’s Backlot Cinema. \nBook this event
URL:https://seniorocity.com.au/whats-on-perth/first-friday-film-club-13/2026-06-05/
LOCATION:AH Bracks Library + Creative Space\, 431 Canning Highway (cnr of Stock Road)\, Melville\, WA\, 6156\, Australia
CATEGORIES:Free,Library Events,Movies,Social
ATTACH;FMTTYPE=image/jpeg:https://seniorocity.com.au/wp-content/uploads/2026/01/First-Friday-Film-Club.jpg
END:VEVENT
END:VCALENDAR