BEGIN:VCALENDAR
VERSION:2.0
PRODID:-//Seniorocity - Seniors / Over 55&#039;s Guide to Perth - ECPv6.15.11//NONSGML v1.0//EN
CALSCALE:GREGORIAN
METHOD:PUBLISH
X-WR-CALNAME:Seniorocity - Seniors / Over 55&#039;s Guide to Perth
X-ORIGINAL-URL:https://seniorocity.com.au
X-WR-CALDESC:Events for Seniorocity - Seniors / Over 55&#039;s Guide to Perth
REFRESH-INTERVAL;VALUE=DURATION:PT1H
X-Robots-Tag:noindex
X-PUBLISHED-TTL:PT1H
BEGIN:VTIMEZONE
TZID:Australia/Perth
BEGIN:STANDARD
TZOFFSETFROM:+0800
TZOFFSETTO:+0800
TZNAME:AWST
DTSTART:20250101T000000
END:STANDARD
END:VTIMEZONE
BEGIN:VEVENT
DTSTART;TZID=Australia/Perth:20260423T100000
DTEND;TZID=Australia/Perth:20260423T120000
DTSTAMP:20260421T134857
CREATED:20260108T085422Z
LAST-MODIFIED:20260108T085422Z
UID:10861108-1776938400-1776945600@seniorocity.com.au
SUMMARY:Seniors Craft Group
DESCRIPTION:Cost is $2 and includes refreshments. Proudly supported by Shire of Mundaring. \n\n\n\n\n\n\nTime: 10am to 12pm \nLocation: The Hub of the Hills\, 8 Craig Street\, Mundaring
URL:https://seniorocity.com.au/whats-on-perth/seniors-craft-group/2026-04-23/
LOCATION:Hub of the Hills\, Craig Street\, Mundaring\, WA\, Australia
CATEGORIES:Craft,Social
ATTACH;FMTTYPE=image/jpeg:https://seniorocity.com.au/wp-content/uploads/2026/01/Seniors-Craft-Group.jpg
END:VEVENT
BEGIN:VEVENT
DTSTART;TZID=Australia/Perth:20260430T100000
DTEND;TZID=Australia/Perth:20260430T120000
DTSTAMP:20260421T134857
CREATED:20260108T085422Z
LAST-MODIFIED:20260108T085422Z
UID:10861109-1777543200-1777550400@seniorocity.com.au
SUMMARY:Seniors Craft Group
DESCRIPTION:Cost is $2 and includes refreshments. Proudly supported by Shire of Mundaring. \n\n\n\n\n\n\nTime: 10am to 12pm \nLocation: The Hub of the Hills\, 8 Craig Street\, Mundaring
URL:https://seniorocity.com.au/whats-on-perth/seniors-craft-group/2026-04-30/
LOCATION:Hub of the Hills\, Craig Street\, Mundaring\, WA\, Australia
CATEGORIES:Craft,Social
ATTACH;FMTTYPE=image/jpeg:https://seniorocity.com.au/wp-content/uploads/2026/01/Seniors-Craft-Group.jpg
END:VEVENT
BEGIN:VEVENT
DTSTART;TZID=Australia/Perth:20260507T100000
DTEND;TZID=Australia/Perth:20260507T120000
DTSTAMP:20260421T134857
CREATED:20260108T085422Z
LAST-MODIFIED:20260108T085422Z
UID:10861110-1778148000-1778155200@seniorocity.com.au
SUMMARY:Seniors Craft Group
DESCRIPTION:Cost is $2 and includes refreshments. Proudly supported by Shire of Mundaring. \n\n\n\n\n\n\nTime: 10am to 12pm \nLocation: The Hub of the Hills\, 8 Craig Street\, Mundaring
URL:https://seniorocity.com.au/whats-on-perth/seniors-craft-group/2026-05-07/
LOCATION:Hub of the Hills\, Craig Street\, Mundaring\, WA\, Australia
CATEGORIES:Craft,Social
ATTACH;FMTTYPE=image/jpeg:https://seniorocity.com.au/wp-content/uploads/2026/01/Seniors-Craft-Group.jpg
END:VEVENT
BEGIN:VEVENT
DTSTART;TZID=Australia/Perth:20260514T100000
DTEND;TZID=Australia/Perth:20260514T120000
DTSTAMP:20260421T134857
CREATED:20260108T085422Z
LAST-MODIFIED:20260108T085422Z
UID:10861111-1778752800-1778760000@seniorocity.com.au
SUMMARY:Seniors Craft Group
DESCRIPTION:Cost is $2 and includes refreshments. Proudly supported by Shire of Mundaring. \n\n\n\n\n\n\nTime: 10am to 12pm \nLocation: The Hub of the Hills\, 8 Craig Street\, Mundaring
URL:https://seniorocity.com.au/whats-on-perth/seniors-craft-group/2026-05-14/
LOCATION:Hub of the Hills\, Craig Street\, Mundaring\, WA\, Australia
CATEGORIES:Craft,Social
ATTACH;FMTTYPE=image/jpeg:https://seniorocity.com.au/wp-content/uploads/2026/01/Seniors-Craft-Group.jpg
END:VEVENT
BEGIN:VEVENT
DTSTART;TZID=Australia/Perth:20260521T100000
DTEND;TZID=Australia/Perth:20260521T120000
DTSTAMP:20260421T134857
CREATED:20260108T085422Z
LAST-MODIFIED:20260108T085422Z
UID:10861112-1779357600-1779364800@seniorocity.com.au
SUMMARY:Seniors Craft Group
DESCRIPTION:Cost is $2 and includes refreshments. Proudly supported by Shire of Mundaring. \n\n\n\n\n\n\nTime: 10am to 12pm \nLocation: The Hub of the Hills\, 8 Craig Street\, Mundaring
URL:https://seniorocity.com.au/whats-on-perth/seniors-craft-group/2026-05-21/
LOCATION:Hub of the Hills\, Craig Street\, Mundaring\, WA\, Australia
CATEGORIES:Craft,Social
ATTACH;FMTTYPE=image/jpeg:https://seniorocity.com.au/wp-content/uploads/2026/01/Seniors-Craft-Group.jpg
END:VEVENT
BEGIN:VEVENT
DTSTART;TZID=Australia/Perth:20260528T100000
DTEND;TZID=Australia/Perth:20260528T120000
DTSTAMP:20260421T134857
CREATED:20260108T085422Z
LAST-MODIFIED:20260108T085422Z
UID:10861113-1779962400-1779969600@seniorocity.com.au
SUMMARY:Seniors Craft Group
DESCRIPTION:Cost is $2 and includes refreshments. Proudly supported by Shire of Mundaring. \n\n\n\n\n\n\nTime: 10am to 12pm \nLocation: The Hub of the Hills\, 8 Craig Street\, Mundaring
URL:https://seniorocity.com.au/whats-on-perth/seniors-craft-group/2026-05-28/
LOCATION:Hub of the Hills\, Craig Street\, Mundaring\, WA\, Australia
CATEGORIES:Craft,Social
ATTACH;FMTTYPE=image/jpeg:https://seniorocity.com.au/wp-content/uploads/2026/01/Seniors-Craft-Group.jpg
END:VEVENT
BEGIN:VEVENT
DTSTART;TZID=Australia/Perth:20260604T100000
DTEND;TZID=Australia/Perth:20260604T120000
DTSTAMP:20260421T134857
CREATED:20260108T085422Z
LAST-MODIFIED:20260108T085422Z
UID:10861114-1780567200-1780574400@seniorocity.com.au
SUMMARY:Seniors Craft Group
DESCRIPTION:Cost is $2 and includes refreshments. Proudly supported by Shire of Mundaring. \n\n\n\n\n\n\nTime: 10am to 12pm \nLocation: The Hub of the Hills\, 8 Craig Street\, Mundaring
URL:https://seniorocity.com.au/whats-on-perth/seniors-craft-group/2026-06-04/
LOCATION:Hub of the Hills\, Craig Street\, Mundaring\, WA\, Australia
CATEGORIES:Craft,Social
ATTACH;FMTTYPE=image/jpeg:https://seniorocity.com.au/wp-content/uploads/2026/01/Seniors-Craft-Group.jpg
END:VEVENT
BEGIN:VEVENT
DTSTART;TZID=Australia/Perth:20260611T100000
DTEND;TZID=Australia/Perth:20260611T120000
DTSTAMP:20260421T134857
CREATED:20260108T085422Z
LAST-MODIFIED:20260108T085422Z
UID:10861115-1781172000-1781179200@seniorocity.com.au
SUMMARY:Seniors Craft Group
DESCRIPTION:Cost is $2 and includes refreshments. Proudly supported by Shire of Mundaring. \n\n\n\n\n\n\nTime: 10am to 12pm \nLocation: The Hub of the Hills\, 8 Craig Street\, Mundaring
URL:https://seniorocity.com.au/whats-on-perth/seniors-craft-group/2026-06-11/
LOCATION:Hub of the Hills\, Craig Street\, Mundaring\, WA\, Australia
CATEGORIES:Craft,Social
ATTACH;FMTTYPE=image/jpeg:https://seniorocity.com.au/wp-content/uploads/2026/01/Seniors-Craft-Group.jpg
END:VEVENT
BEGIN:VEVENT
DTSTART;TZID=Australia/Perth:20260618T100000
DTEND;TZID=Australia/Perth:20260618T120000
DTSTAMP:20260421T134857
CREATED:20260108T085422Z
LAST-MODIFIED:20260108T085422Z
UID:10861116-1781776800-1781784000@seniorocity.com.au
SUMMARY:Seniors Craft Group
DESCRIPTION:Cost is $2 and includes refreshments. Proudly supported by Shire of Mundaring. \n\n\n\n\n\n\nTime: 10am to 12pm \nLocation: The Hub of the Hills\, 8 Craig Street\, Mundaring
URL:https://seniorocity.com.au/whats-on-perth/seniors-craft-group/2026-06-18/
LOCATION:Hub of the Hills\, Craig Street\, Mundaring\, WA\, Australia
CATEGORIES:Craft,Social
ATTACH;FMTTYPE=image/jpeg:https://seniorocity.com.au/wp-content/uploads/2026/01/Seniors-Craft-Group.jpg
END:VEVENT
BEGIN:VEVENT
DTSTART;TZID=Australia/Perth:20260625T100000
DTEND;TZID=Australia/Perth:20260625T120000
DTSTAMP:20260421T134857
CREATED:20260108T085422Z
LAST-MODIFIED:20260108T085422Z
UID:10861117-1782381600-1782388800@seniorocity.com.au
SUMMARY:Seniors Craft Group
DESCRIPTION:Cost is $2 and includes refreshments. Proudly supported by Shire of Mundaring. \n\n\n\n\n\n\nTime: 10am to 12pm \nLocation: The Hub of the Hills\, 8 Craig Street\, Mundaring
URL:https://seniorocity.com.au/whats-on-perth/seniors-craft-group/2026-06-25/
LOCATION:Hub of the Hills\, Craig Street\, Mundaring\, WA\, Australia
CATEGORIES:Craft,Social
ATTACH;FMTTYPE=image/jpeg:https://seniorocity.com.au/wp-content/uploads/2026/01/Seniors-Craft-Group.jpg
END:VEVENT
BEGIN:VEVENT
DTSTART;TZID=Australia/Perth:20260702T100000
DTEND;TZID=Australia/Perth:20260702T120000
DTSTAMP:20260421T134857
CREATED:20260108T085422Z
LAST-MODIFIED:20260108T085422Z
UID:10861118-1782986400-1782993600@seniorocity.com.au
SUMMARY:Seniors Craft Group
DESCRIPTION:Cost is $2 and includes refreshments. Proudly supported by Shire of Mundaring. \n\n\n\n\n\n\nTime: 10am to 12pm \nLocation: The Hub of the Hills\, 8 Craig Street\, Mundaring
URL:https://seniorocity.com.au/whats-on-perth/seniors-craft-group/2026-07-02/
LOCATION:Hub of the Hills\, Craig Street\, Mundaring\, WA\, Australia
CATEGORIES:Craft,Social
ATTACH;FMTTYPE=image/jpeg:https://seniorocity.com.au/wp-content/uploads/2026/01/Seniors-Craft-Group.jpg
END:VEVENT
BEGIN:VEVENT
DTSTART;TZID=Australia/Perth:20260709T100000
DTEND;TZID=Australia/Perth:20260709T120000
DTSTAMP:20260421T134857
CREATED:20260108T085422Z
LAST-MODIFIED:20260108T085422Z
UID:10861119-1783591200-1783598400@seniorocity.com.au
SUMMARY:Seniors Craft Group
DESCRIPTION:Cost is $2 and includes refreshments. Proudly supported by Shire of Mundaring. \n\n\n\n\n\n\nTime: 10am to 12pm \nLocation: The Hub of the Hills\, 8 Craig Street\, Mundaring
URL:https://seniorocity.com.au/whats-on-perth/seniors-craft-group/2026-07-09/
LOCATION:Hub of the Hills\, Craig Street\, Mundaring\, WA\, Australia
CATEGORIES:Craft,Social
ATTACH;FMTTYPE=image/jpeg:https://seniorocity.com.au/wp-content/uploads/2026/01/Seniors-Craft-Group.jpg
END:VEVENT
BEGIN:VEVENT
DTSTART;TZID=Australia/Perth:20260716T100000
DTEND;TZID=Australia/Perth:20260716T120000
DTSTAMP:20260421T134857
CREATED:20260108T085422Z
LAST-MODIFIED:20260108T085422Z
UID:10861120-1784196000-1784203200@seniorocity.com.au
SUMMARY:Seniors Craft Group
DESCRIPTION:Cost is $2 and includes refreshments. Proudly supported by Shire of Mundaring. \n\n\n\n\n\n\nTime: 10am to 12pm \nLocation: The Hub of the Hills\, 8 Craig Street\, Mundaring
URL:https://seniorocity.com.au/whats-on-perth/seniors-craft-group/2026-07-16/
LOCATION:Hub of the Hills\, Craig Street\, Mundaring\, WA\, Australia
CATEGORIES:Craft,Social
ATTACH;FMTTYPE=image/jpeg:https://seniorocity.com.au/wp-content/uploads/2026/01/Seniors-Craft-Group.jpg
END:VEVENT
BEGIN:VEVENT
DTSTART;TZID=Australia/Perth:20260723T100000
DTEND;TZID=Australia/Perth:20260723T120000
DTSTAMP:20260421T134857
CREATED:20260108T085422Z
LAST-MODIFIED:20260108T085422Z
UID:10861121-1784800800-1784808000@seniorocity.com.au
SUMMARY:Seniors Craft Group
DESCRIPTION:Cost is $2 and includes refreshments. Proudly supported by Shire of Mundaring. \n\n\n\n\n\n\nTime: 10am to 12pm \nLocation: The Hub of the Hills\, 8 Craig Street\, Mundaring
URL:https://seniorocity.com.au/whats-on-perth/seniors-craft-group/2026-07-23/
LOCATION:Hub of the Hills\, Craig Street\, Mundaring\, WA\, Australia
CATEGORIES:Craft,Social
ATTACH;FMTTYPE=image/jpeg:https://seniorocity.com.au/wp-content/uploads/2026/01/Seniors-Craft-Group.jpg
END:VEVENT
BEGIN:VEVENT
DTSTART;TZID=Australia/Perth:20260730T100000
DTEND;TZID=Australia/Perth:20260730T120000
DTSTAMP:20260421T134857
CREATED:20260108T085422Z
LAST-MODIFIED:20260108T085422Z
UID:10861122-1785405600-1785412800@seniorocity.com.au
SUMMARY:Seniors Craft Group
DESCRIPTION:Cost is $2 and includes refreshments. Proudly supported by Shire of Mundaring. \n\n\n\n\n\n\nTime: 10am to 12pm \nLocation: The Hub of the Hills\, 8 Craig Street\, Mundaring
URL:https://seniorocity.com.au/whats-on-perth/seniors-craft-group/2026-07-30/
LOCATION:Hub of the Hills\, Craig Street\, Mundaring\, WA\, Australia
CATEGORIES:Craft,Social
ATTACH;FMTTYPE=image/jpeg:https://seniorocity.com.au/wp-content/uploads/2026/01/Seniors-Craft-Group.jpg
END:VEVENT
BEGIN:VEVENT
DTSTART;TZID=Australia/Perth:20260806T100000
DTEND;TZID=Australia/Perth:20260806T120000
DTSTAMP:20260421T134857
CREATED:20260108T085422Z
LAST-MODIFIED:20260108T085422Z
UID:10861123-1786010400-1786017600@seniorocity.com.au
SUMMARY:Seniors Craft Group
DESCRIPTION:Cost is $2 and includes refreshments. Proudly supported by Shire of Mundaring. \n\n\n\n\n\n\nTime: 10am to 12pm \nLocation: The Hub of the Hills\, 8 Craig Street\, Mundaring
URL:https://seniorocity.com.au/whats-on-perth/seniors-craft-group/2026-08-06/
LOCATION:Hub of the Hills\, Craig Street\, Mundaring\, WA\, Australia
CATEGORIES:Craft,Social
ATTACH;FMTTYPE=image/jpeg:https://seniorocity.com.au/wp-content/uploads/2026/01/Seniors-Craft-Group.jpg
END:VEVENT
BEGIN:VEVENT
DTSTART;TZID=Australia/Perth:20260813T100000
DTEND;TZID=Australia/Perth:20260813T120000
DTSTAMP:20260421T134857
CREATED:20260108T085422Z
LAST-MODIFIED:20260108T085422Z
UID:10861124-1786615200-1786622400@seniorocity.com.au
SUMMARY:Seniors Craft Group
DESCRIPTION:Cost is $2 and includes refreshments. Proudly supported by Shire of Mundaring. \n\n\n\n\n\n\nTime: 10am to 12pm \nLocation: The Hub of the Hills\, 8 Craig Street\, Mundaring
URL:https://seniorocity.com.au/whats-on-perth/seniors-craft-group/2026-08-13/
LOCATION:Hub of the Hills\, Craig Street\, Mundaring\, WA\, Australia
CATEGORIES:Craft,Social
ATTACH;FMTTYPE=image/jpeg:https://seniorocity.com.au/wp-content/uploads/2026/01/Seniors-Craft-Group.jpg
END:VEVENT
BEGIN:VEVENT
DTSTART;TZID=Australia/Perth:20260820T100000
DTEND;TZID=Australia/Perth:20260820T120000
DTSTAMP:20260421T134857
CREATED:20260108T085422Z
LAST-MODIFIED:20260108T085422Z
UID:10861125-1787220000-1787227200@seniorocity.com.au
SUMMARY:Seniors Craft Group
DESCRIPTION:Cost is $2 and includes refreshments. Proudly supported by Shire of Mundaring. \n\n\n\n\n\n\nTime: 10am to 12pm \nLocation: The Hub of the Hills\, 8 Craig Street\, Mundaring
URL:https://seniorocity.com.au/whats-on-perth/seniors-craft-group/2026-08-20/
LOCATION:Hub of the Hills\, Craig Street\, Mundaring\, WA\, Australia
CATEGORIES:Craft,Social
ATTACH;FMTTYPE=image/jpeg:https://seniorocity.com.au/wp-content/uploads/2026/01/Seniors-Craft-Group.jpg
END:VEVENT
BEGIN:VEVENT
DTSTART;TZID=Australia/Perth:20260827T100000
DTEND;TZID=Australia/Perth:20260827T120000
DTSTAMP:20260421T134857
CREATED:20260108T085422Z
LAST-MODIFIED:20260108T085422Z
UID:10861126-1787824800-1787832000@seniorocity.com.au
SUMMARY:Seniors Craft Group
DESCRIPTION:Cost is $2 and includes refreshments. Proudly supported by Shire of Mundaring. \n\n\n\n\n\n\nTime: 10am to 12pm \nLocation: The Hub of the Hills\, 8 Craig Street\, Mundaring
URL:https://seniorocity.com.au/whats-on-perth/seniors-craft-group/2026-08-27/
LOCATION:Hub of the Hills\, Craig Street\, Mundaring\, WA\, Australia
CATEGORIES:Craft,Social
ATTACH;FMTTYPE=image/jpeg:https://seniorocity.com.au/wp-content/uploads/2026/01/Seniors-Craft-Group.jpg
END:VEVENT
BEGIN:VEVENT
DTSTART;TZID=Australia/Perth:20260903T100000
DTEND;TZID=Australia/Perth:20260903T120000
DTSTAMP:20260421T134857
CREATED:20260108T085422Z
LAST-MODIFIED:20260108T085422Z
UID:10861127-1788429600-1788436800@seniorocity.com.au
SUMMARY:Seniors Craft Group
DESCRIPTION:Cost is $2 and includes refreshments. Proudly supported by Shire of Mundaring. \n\n\n\n\n\n\nTime: 10am to 12pm \nLocation: The Hub of the Hills\, 8 Craig Street\, Mundaring
URL:https://seniorocity.com.au/whats-on-perth/seniors-craft-group/2026-09-03/
LOCATION:Hub of the Hills\, Craig Street\, Mundaring\, WA\, Australia
CATEGORIES:Craft,Social
ATTACH;FMTTYPE=image/jpeg:https://seniorocity.com.au/wp-content/uploads/2026/01/Seniors-Craft-Group.jpg
END:VEVENT
BEGIN:VEVENT
DTSTART;TZID=Australia/Perth:20260910T100000
DTEND;TZID=Australia/Perth:20260910T120000
DTSTAMP:20260421T134857
CREATED:20260108T085422Z
LAST-MODIFIED:20260108T085422Z
UID:10861128-1789034400-1789041600@seniorocity.com.au
SUMMARY:Seniors Craft Group
DESCRIPTION:Cost is $2 and includes refreshments. Proudly supported by Shire of Mundaring. \n\n\n\n\n\n\nTime: 10am to 12pm \nLocation: The Hub of the Hills\, 8 Craig Street\, Mundaring
URL:https://seniorocity.com.au/whats-on-perth/seniors-craft-group/2026-09-10/
LOCATION:Hub of the Hills\, Craig Street\, Mundaring\, WA\, Australia
CATEGORIES:Craft,Social
ATTACH;FMTTYPE=image/jpeg:https://seniorocity.com.au/wp-content/uploads/2026/01/Seniors-Craft-Group.jpg
END:VEVENT
BEGIN:VEVENT
DTSTART;TZID=Australia/Perth:20260917T100000
DTEND;TZID=Australia/Perth:20260917T120000
DTSTAMP:20260421T134857
CREATED:20260108T085422Z
LAST-MODIFIED:20260108T085422Z
UID:10861129-1789639200-1789646400@seniorocity.com.au
SUMMARY:Seniors Craft Group
DESCRIPTION:Cost is $2 and includes refreshments. Proudly supported by Shire of Mundaring. \n\n\n\n\n\n\nTime: 10am to 12pm \nLocation: The Hub of the Hills\, 8 Craig Street\, Mundaring
URL:https://seniorocity.com.au/whats-on-perth/seniors-craft-group/2026-09-17/
LOCATION:Hub of the Hills\, Craig Street\, Mundaring\, WA\, Australia
CATEGORIES:Craft,Social
ATTACH;FMTTYPE=image/jpeg:https://seniorocity.com.au/wp-content/uploads/2026/01/Seniors-Craft-Group.jpg
END:VEVENT
BEGIN:VEVENT
DTSTART;TZID=Australia/Perth:20260924T100000
DTEND;TZID=Australia/Perth:20260924T120000
DTSTAMP:20260421T134857
CREATED:20260108T085422Z
LAST-MODIFIED:20260108T085422Z
UID:10861130-1790244000-1790251200@seniorocity.com.au
SUMMARY:Seniors Craft Group
DESCRIPTION:Cost is $2 and includes refreshments. Proudly supported by Shire of Mundaring. \n\n\n\n\n\n\nTime: 10am to 12pm \nLocation: The Hub of the Hills\, 8 Craig Street\, Mundaring
URL:https://seniorocity.com.au/whats-on-perth/seniors-craft-group/2026-09-24/
LOCATION:Hub of the Hills\, Craig Street\, Mundaring\, WA\, Australia
CATEGORIES:Craft,Social
ATTACH;FMTTYPE=image/jpeg:https://seniorocity.com.au/wp-content/uploads/2026/01/Seniors-Craft-Group.jpg
END:VEVENT
BEGIN:VEVENT
DTSTART;TZID=Australia/Perth:20261001T100000
DTEND;TZID=Australia/Perth:20261001T120000
DTSTAMP:20260421T134857
CREATED:20260108T085422Z
LAST-MODIFIED:20260108T085422Z
UID:10861131-1790848800-1790856000@seniorocity.com.au
SUMMARY:Seniors Craft Group
DESCRIPTION:Cost is $2 and includes refreshments. Proudly supported by Shire of Mundaring. \n\n\n\n\n\n\nTime: 10am to 12pm \nLocation: The Hub of the Hills\, 8 Craig Street\, Mundaring
URL:https://seniorocity.com.au/whats-on-perth/seniors-craft-group/2026-10-01/
LOCATION:Hub of the Hills\, Craig Street\, Mundaring\, WA\, Australia
CATEGORIES:Craft,Social
ATTACH;FMTTYPE=image/jpeg:https://seniorocity.com.au/wp-content/uploads/2026/01/Seniors-Craft-Group.jpg
END:VEVENT
BEGIN:VEVENT
DTSTART;TZID=Australia/Perth:20261008T100000
DTEND;TZID=Australia/Perth:20261008T120000
DTSTAMP:20260421T134857
CREATED:20260108T085422Z
LAST-MODIFIED:20260108T085422Z
UID:10861132-1791453600-1791460800@seniorocity.com.au
SUMMARY:Seniors Craft Group
DESCRIPTION:Cost is $2 and includes refreshments. Proudly supported by Shire of Mundaring. \n\n\n\n\n\n\nTime: 10am to 12pm \nLocation: The Hub of the Hills\, 8 Craig Street\, Mundaring
URL:https://seniorocity.com.au/whats-on-perth/seniors-craft-group/2026-10-08/
LOCATION:Hub of the Hills\, Craig Street\, Mundaring\, WA\, Australia
CATEGORIES:Craft,Social
ATTACH;FMTTYPE=image/jpeg:https://seniorocity.com.au/wp-content/uploads/2026/01/Seniors-Craft-Group.jpg
END:VEVENT
BEGIN:VEVENT
DTSTART;TZID=Australia/Perth:20261015T100000
DTEND;TZID=Australia/Perth:20261015T120000
DTSTAMP:20260421T134857
CREATED:20260108T085422Z
LAST-MODIFIED:20260108T085422Z
UID:10861133-1792058400-1792065600@seniorocity.com.au
SUMMARY:Seniors Craft Group
DESCRIPTION:Cost is $2 and includes refreshments. Proudly supported by Shire of Mundaring. \n\n\n\n\n\n\nTime: 10am to 12pm \nLocation: The Hub of the Hills\, 8 Craig Street\, Mundaring
URL:https://seniorocity.com.au/whats-on-perth/seniors-craft-group/2026-10-15/
LOCATION:Hub of the Hills\, Craig Street\, Mundaring\, WA\, Australia
CATEGORIES:Craft,Social
ATTACH;FMTTYPE=image/jpeg:https://seniorocity.com.au/wp-content/uploads/2026/01/Seniors-Craft-Group.jpg
END:VEVENT
BEGIN:VEVENT
DTSTART;TZID=Australia/Perth:20261022T100000
DTEND;TZID=Australia/Perth:20261022T120000
DTSTAMP:20260421T134857
CREATED:20260108T085422Z
LAST-MODIFIED:20260108T085422Z
UID:10861134-1792663200-1792670400@seniorocity.com.au
SUMMARY:Seniors Craft Group
DESCRIPTION:Cost is $2 and includes refreshments. Proudly supported by Shire of Mundaring. \n\n\n\n\n\n\nTime: 10am to 12pm \nLocation: The Hub of the Hills\, 8 Craig Street\, Mundaring
URL:https://seniorocity.com.au/whats-on-perth/seniors-craft-group/2026-10-22/
LOCATION:Hub of the Hills\, Craig Street\, Mundaring\, WA\, Australia
CATEGORIES:Craft,Social
ATTACH;FMTTYPE=image/jpeg:https://seniorocity.com.au/wp-content/uploads/2026/01/Seniors-Craft-Group.jpg
END:VEVENT
BEGIN:VEVENT
DTSTART;TZID=Australia/Perth:20261029T100000
DTEND;TZID=Australia/Perth:20261029T120000
DTSTAMP:20260421T134857
CREATED:20260108T085422Z
LAST-MODIFIED:20260108T085422Z
UID:10861135-1793268000-1793275200@seniorocity.com.au
SUMMARY:Seniors Craft Group
DESCRIPTION:Cost is $2 and includes refreshments. Proudly supported by Shire of Mundaring. \n\n\n\n\n\n\nTime: 10am to 12pm \nLocation: The Hub of the Hills\, 8 Craig Street\, Mundaring
URL:https://seniorocity.com.au/whats-on-perth/seniors-craft-group/2026-10-29/
LOCATION:Hub of the Hills\, Craig Street\, Mundaring\, WA\, Australia
CATEGORIES:Craft,Social
ATTACH;FMTTYPE=image/jpeg:https://seniorocity.com.au/wp-content/uploads/2026/01/Seniors-Craft-Group.jpg
END:VEVENT
BEGIN:VEVENT
DTSTART;TZID=Australia/Perth:20261105T100000
DTEND;TZID=Australia/Perth:20261105T120000
DTSTAMP:20260421T134857
CREATED:20260108T085422Z
LAST-MODIFIED:20260108T085422Z
UID:10861136-1793872800-1793880000@seniorocity.com.au
SUMMARY:Seniors Craft Group
DESCRIPTION:Cost is $2 and includes refreshments. Proudly supported by Shire of Mundaring. \n\n\n\n\n\n\nTime: 10am to 12pm \nLocation: The Hub of the Hills\, 8 Craig Street\, Mundaring
URL:https://seniorocity.com.au/whats-on-perth/seniors-craft-group/2026-11-05/
LOCATION:Hub of the Hills\, Craig Street\, Mundaring\, WA\, Australia
CATEGORIES:Craft,Social
ATTACH;FMTTYPE=image/jpeg:https://seniorocity.com.au/wp-content/uploads/2026/01/Seniors-Craft-Group.jpg
END:VEVENT
BEGIN:VEVENT
DTSTART;TZID=Australia/Perth:20261112T100000
DTEND;TZID=Australia/Perth:20261112T120000
DTSTAMP:20260421T134857
CREATED:20260108T085422Z
LAST-MODIFIED:20260108T085422Z
UID:10861137-1794477600-1794484800@seniorocity.com.au
SUMMARY:Seniors Craft Group
DESCRIPTION:Cost is $2 and includes refreshments. Proudly supported by Shire of Mundaring. \n\n\n\n\n\n\nTime: 10am to 12pm \nLocation: The Hub of the Hills\, 8 Craig Street\, Mundaring
URL:https://seniorocity.com.au/whats-on-perth/seniors-craft-group/2026-11-12/
LOCATION:Hub of the Hills\, Craig Street\, Mundaring\, WA\, Australia
CATEGORIES:Craft,Social
ATTACH;FMTTYPE=image/jpeg:https://seniorocity.com.au/wp-content/uploads/2026/01/Seniors-Craft-Group.jpg
END:VEVENT
END:VCALENDAR