BEGIN:VCALENDAR
VERSION:2.0
PRODID:-//Seniorocity - Seniors / Over 55&#039;s Guide to Perth - ECPv6.15.11//NONSGML v1.0//EN
CALSCALE:GREGORIAN
METHOD:PUBLISH
X-WR-CALNAME:Seniorocity - Seniors / Over 55&#039;s Guide to Perth
X-ORIGINAL-URL:https://seniorocity.com.au
X-WR-CALDESC:Events for Seniorocity - Seniors / Over 55&#039;s Guide to Perth
REFRESH-INTERVAL;VALUE=DURATION:PT1H
X-Robots-Tag:noindex
X-PUBLISHED-TTL:PT1H
BEGIN:VTIMEZONE
TZID:Australia/Perth
BEGIN:STANDARD
TZOFFSETFROM:+0800
TZOFFSETTO:+0800
TZNAME:AWST
DTSTART:20250101T000000
END:STANDARD
END:VTIMEZONE
BEGIN:VEVENT
DTSTART;TZID=Australia/Perth:20260423T130000
DTEND;TZID=Australia/Perth:20260423T150000
DTSTAMP:20260422T162737
CREATED:20260108T085836Z
LAST-MODIFIED:20260108T085836Z
UID:10861153-1776949200-1776956400@seniorocity.com.au
SUMMARY:Cryptic Crosswords Group
DESCRIPTION:All levels welcome. Cost is $2\, includes refreshments. \n\n\n\n\n\n\nTime: 1pm to 3pm \nLocation: The Hub of the Hills\, 8 Craig Street\, Mundaring
URL:https://seniorocity.com.au/whats-on-perth/cryptic-crosswords-group/2026-04-23/
LOCATION:Hub of the Hills\, Craig Street\, Mundaring\, WA\, Australia
CATEGORIES:Games,Social
ATTACH;FMTTYPE=image/jpeg:https://seniorocity.com.au/wp-content/uploads/2026/01/Cryptic-Crosswords-Group.jpg
END:VEVENT
BEGIN:VEVENT
DTSTART;TZID=Australia/Perth:20260430T130000
DTEND;TZID=Australia/Perth:20260430T150000
DTSTAMP:20260422T162737
CREATED:20260108T085836Z
LAST-MODIFIED:20260108T085836Z
UID:10861154-1777554000-1777561200@seniorocity.com.au
SUMMARY:Cryptic Crosswords Group
DESCRIPTION:All levels welcome. Cost is $2\, includes refreshments. \n\n\n\n\n\n\nTime: 1pm to 3pm \nLocation: The Hub of the Hills\, 8 Craig Street\, Mundaring
URL:https://seniorocity.com.au/whats-on-perth/cryptic-crosswords-group/2026-04-30/
LOCATION:Hub of the Hills\, Craig Street\, Mundaring\, WA\, Australia
CATEGORIES:Games,Social
ATTACH;FMTTYPE=image/jpeg:https://seniorocity.com.au/wp-content/uploads/2026/01/Cryptic-Crosswords-Group.jpg
END:VEVENT
BEGIN:VEVENT
DTSTART;TZID=Australia/Perth:20260507T130000
DTEND;TZID=Australia/Perth:20260507T150000
DTSTAMP:20260422T162737
CREATED:20260108T085836Z
LAST-MODIFIED:20260108T085836Z
UID:10861155-1778158800-1778166000@seniorocity.com.au
SUMMARY:Cryptic Crosswords Group
DESCRIPTION:All levels welcome. Cost is $2\, includes refreshments. \n\n\n\n\n\n\nTime: 1pm to 3pm \nLocation: The Hub of the Hills\, 8 Craig Street\, Mundaring
URL:https://seniorocity.com.au/whats-on-perth/cryptic-crosswords-group/2026-05-07/
LOCATION:Hub of the Hills\, Craig Street\, Mundaring\, WA\, Australia
CATEGORIES:Games,Social
ATTACH;FMTTYPE=image/jpeg:https://seniorocity.com.au/wp-content/uploads/2026/01/Cryptic-Crosswords-Group.jpg
END:VEVENT
BEGIN:VEVENT
DTSTART;TZID=Australia/Perth:20260514T130000
DTEND;TZID=Australia/Perth:20260514T150000
DTSTAMP:20260422T162737
CREATED:20260108T085836Z
LAST-MODIFIED:20260108T085836Z
UID:10861156-1778763600-1778770800@seniorocity.com.au
SUMMARY:Cryptic Crosswords Group
DESCRIPTION:All levels welcome. Cost is $2\, includes refreshments. \n\n\n\n\n\n\nTime: 1pm to 3pm \nLocation: The Hub of the Hills\, 8 Craig Street\, Mundaring
URL:https://seniorocity.com.au/whats-on-perth/cryptic-crosswords-group/2026-05-14/
LOCATION:Hub of the Hills\, Craig Street\, Mundaring\, WA\, Australia
CATEGORIES:Games,Social
ATTACH;FMTTYPE=image/jpeg:https://seniorocity.com.au/wp-content/uploads/2026/01/Cryptic-Crosswords-Group.jpg
END:VEVENT
BEGIN:VEVENT
DTSTART;TZID=Australia/Perth:20260521T130000
DTEND;TZID=Australia/Perth:20260521T150000
DTSTAMP:20260422T162737
CREATED:20260108T085836Z
LAST-MODIFIED:20260108T085836Z
UID:10861157-1779368400-1779375600@seniorocity.com.au
SUMMARY:Cryptic Crosswords Group
DESCRIPTION:All levels welcome. Cost is $2\, includes refreshments. \n\n\n\n\n\n\nTime: 1pm to 3pm \nLocation: The Hub of the Hills\, 8 Craig Street\, Mundaring
URL:https://seniorocity.com.au/whats-on-perth/cryptic-crosswords-group/2026-05-21/
LOCATION:Hub of the Hills\, Craig Street\, Mundaring\, WA\, Australia
CATEGORIES:Games,Social
ATTACH;FMTTYPE=image/jpeg:https://seniorocity.com.au/wp-content/uploads/2026/01/Cryptic-Crosswords-Group.jpg
END:VEVENT
BEGIN:VEVENT
DTSTART;TZID=Australia/Perth:20260528T130000
DTEND;TZID=Australia/Perth:20260528T150000
DTSTAMP:20260422T162737
CREATED:20260108T085836Z
LAST-MODIFIED:20260108T085836Z
UID:10861158-1779973200-1779980400@seniorocity.com.au
SUMMARY:Cryptic Crosswords Group
DESCRIPTION:All levels welcome. Cost is $2\, includes refreshments. \n\n\n\n\n\n\nTime: 1pm to 3pm \nLocation: The Hub of the Hills\, 8 Craig Street\, Mundaring
URL:https://seniorocity.com.au/whats-on-perth/cryptic-crosswords-group/2026-05-28/
LOCATION:Hub of the Hills\, Craig Street\, Mundaring\, WA\, Australia
CATEGORIES:Games,Social
ATTACH;FMTTYPE=image/jpeg:https://seniorocity.com.au/wp-content/uploads/2026/01/Cryptic-Crosswords-Group.jpg
END:VEVENT
BEGIN:VEVENT
DTSTART;TZID=Australia/Perth:20260604T130000
DTEND;TZID=Australia/Perth:20260604T150000
DTSTAMP:20260422T162737
CREATED:20260108T085836Z
LAST-MODIFIED:20260108T085836Z
UID:10861159-1780578000-1780585200@seniorocity.com.au
SUMMARY:Cryptic Crosswords Group
DESCRIPTION:All levels welcome. Cost is $2\, includes refreshments. \n\n\n\n\n\n\nTime: 1pm to 3pm \nLocation: The Hub of the Hills\, 8 Craig Street\, Mundaring
URL:https://seniorocity.com.au/whats-on-perth/cryptic-crosswords-group/2026-06-04/
LOCATION:Hub of the Hills\, Craig Street\, Mundaring\, WA\, Australia
CATEGORIES:Games,Social
ATTACH;FMTTYPE=image/jpeg:https://seniorocity.com.au/wp-content/uploads/2026/01/Cryptic-Crosswords-Group.jpg
END:VEVENT
BEGIN:VEVENT
DTSTART;TZID=Australia/Perth:20260611T130000
DTEND;TZID=Australia/Perth:20260611T150000
DTSTAMP:20260422T162737
CREATED:20260108T085836Z
LAST-MODIFIED:20260108T085836Z
UID:10861160-1781182800-1781190000@seniorocity.com.au
SUMMARY:Cryptic Crosswords Group
DESCRIPTION:All levels welcome. Cost is $2\, includes refreshments. \n\n\n\n\n\n\nTime: 1pm to 3pm \nLocation: The Hub of the Hills\, 8 Craig Street\, Mundaring
URL:https://seniorocity.com.au/whats-on-perth/cryptic-crosswords-group/2026-06-11/
LOCATION:Hub of the Hills\, Craig Street\, Mundaring\, WA\, Australia
CATEGORIES:Games,Social
ATTACH;FMTTYPE=image/jpeg:https://seniorocity.com.au/wp-content/uploads/2026/01/Cryptic-Crosswords-Group.jpg
END:VEVENT
BEGIN:VEVENT
DTSTART;TZID=Australia/Perth:20260618T130000
DTEND;TZID=Australia/Perth:20260618T150000
DTSTAMP:20260422T162737
CREATED:20260108T085836Z
LAST-MODIFIED:20260108T085836Z
UID:10861161-1781787600-1781794800@seniorocity.com.au
SUMMARY:Cryptic Crosswords Group
DESCRIPTION:All levels welcome. Cost is $2\, includes refreshments. \n\n\n\n\n\n\nTime: 1pm to 3pm \nLocation: The Hub of the Hills\, 8 Craig Street\, Mundaring
URL:https://seniorocity.com.au/whats-on-perth/cryptic-crosswords-group/2026-06-18/
LOCATION:Hub of the Hills\, Craig Street\, Mundaring\, WA\, Australia
CATEGORIES:Games,Social
ATTACH;FMTTYPE=image/jpeg:https://seniorocity.com.au/wp-content/uploads/2026/01/Cryptic-Crosswords-Group.jpg
END:VEVENT
BEGIN:VEVENT
DTSTART;TZID=Australia/Perth:20260625T130000
DTEND;TZID=Australia/Perth:20260625T150000
DTSTAMP:20260422T162737
CREATED:20260108T085836Z
LAST-MODIFIED:20260108T085836Z
UID:10861162-1782392400-1782399600@seniorocity.com.au
SUMMARY:Cryptic Crosswords Group
DESCRIPTION:All levels welcome. Cost is $2\, includes refreshments. \n\n\n\n\n\n\nTime: 1pm to 3pm \nLocation: The Hub of the Hills\, 8 Craig Street\, Mundaring
URL:https://seniorocity.com.au/whats-on-perth/cryptic-crosswords-group/2026-06-25/
LOCATION:Hub of the Hills\, Craig Street\, Mundaring\, WA\, Australia
CATEGORIES:Games,Social
ATTACH;FMTTYPE=image/jpeg:https://seniorocity.com.au/wp-content/uploads/2026/01/Cryptic-Crosswords-Group.jpg
END:VEVENT
BEGIN:VEVENT
DTSTART;TZID=Australia/Perth:20260702T130000
DTEND;TZID=Australia/Perth:20260702T150000
DTSTAMP:20260422T162737
CREATED:20260108T085836Z
LAST-MODIFIED:20260108T085836Z
UID:10861163-1782997200-1783004400@seniorocity.com.au
SUMMARY:Cryptic Crosswords Group
DESCRIPTION:All levels welcome. Cost is $2\, includes refreshments. \n\n\n\n\n\n\nTime: 1pm to 3pm \nLocation: The Hub of the Hills\, 8 Craig Street\, Mundaring
URL:https://seniorocity.com.au/whats-on-perth/cryptic-crosswords-group/2026-07-02/
LOCATION:Hub of the Hills\, Craig Street\, Mundaring\, WA\, Australia
CATEGORIES:Games,Social
ATTACH;FMTTYPE=image/jpeg:https://seniorocity.com.au/wp-content/uploads/2026/01/Cryptic-Crosswords-Group.jpg
END:VEVENT
BEGIN:VEVENT
DTSTART;TZID=Australia/Perth:20260709T130000
DTEND;TZID=Australia/Perth:20260709T150000
DTSTAMP:20260422T162737
CREATED:20260108T085836Z
LAST-MODIFIED:20260108T085836Z
UID:10861164-1783602000-1783609200@seniorocity.com.au
SUMMARY:Cryptic Crosswords Group
DESCRIPTION:All levels welcome. Cost is $2\, includes refreshments. \n\n\n\n\n\n\nTime: 1pm to 3pm \nLocation: The Hub of the Hills\, 8 Craig Street\, Mundaring
URL:https://seniorocity.com.au/whats-on-perth/cryptic-crosswords-group/2026-07-09/
LOCATION:Hub of the Hills\, Craig Street\, Mundaring\, WA\, Australia
CATEGORIES:Games,Social
ATTACH;FMTTYPE=image/jpeg:https://seniorocity.com.au/wp-content/uploads/2026/01/Cryptic-Crosswords-Group.jpg
END:VEVENT
BEGIN:VEVENT
DTSTART;TZID=Australia/Perth:20260716T130000
DTEND;TZID=Australia/Perth:20260716T150000
DTSTAMP:20260422T162737
CREATED:20260108T085836Z
LAST-MODIFIED:20260108T085836Z
UID:10861165-1784206800-1784214000@seniorocity.com.au
SUMMARY:Cryptic Crosswords Group
DESCRIPTION:All levels welcome. Cost is $2\, includes refreshments. \n\n\n\n\n\n\nTime: 1pm to 3pm \nLocation: The Hub of the Hills\, 8 Craig Street\, Mundaring
URL:https://seniorocity.com.au/whats-on-perth/cryptic-crosswords-group/2026-07-16/
LOCATION:Hub of the Hills\, Craig Street\, Mundaring\, WA\, Australia
CATEGORIES:Games,Social
ATTACH;FMTTYPE=image/jpeg:https://seniorocity.com.au/wp-content/uploads/2026/01/Cryptic-Crosswords-Group.jpg
END:VEVENT
BEGIN:VEVENT
DTSTART;TZID=Australia/Perth:20260723T130000
DTEND;TZID=Australia/Perth:20260723T150000
DTSTAMP:20260422T162737
CREATED:20260108T085836Z
LAST-MODIFIED:20260108T085836Z
UID:10861166-1784811600-1784818800@seniorocity.com.au
SUMMARY:Cryptic Crosswords Group
DESCRIPTION:All levels welcome. Cost is $2\, includes refreshments. \n\n\n\n\n\n\nTime: 1pm to 3pm \nLocation: The Hub of the Hills\, 8 Craig Street\, Mundaring
URL:https://seniorocity.com.au/whats-on-perth/cryptic-crosswords-group/2026-07-23/
LOCATION:Hub of the Hills\, Craig Street\, Mundaring\, WA\, Australia
CATEGORIES:Games,Social
ATTACH;FMTTYPE=image/jpeg:https://seniorocity.com.au/wp-content/uploads/2026/01/Cryptic-Crosswords-Group.jpg
END:VEVENT
BEGIN:VEVENT
DTSTART;TZID=Australia/Perth:20260730T130000
DTEND;TZID=Australia/Perth:20260730T150000
DTSTAMP:20260422T162737
CREATED:20260108T085836Z
LAST-MODIFIED:20260108T085836Z
UID:10861167-1785416400-1785423600@seniorocity.com.au
SUMMARY:Cryptic Crosswords Group
DESCRIPTION:All levels welcome. Cost is $2\, includes refreshments. \n\n\n\n\n\n\nTime: 1pm to 3pm \nLocation: The Hub of the Hills\, 8 Craig Street\, Mundaring
URL:https://seniorocity.com.au/whats-on-perth/cryptic-crosswords-group/2026-07-30/
LOCATION:Hub of the Hills\, Craig Street\, Mundaring\, WA\, Australia
CATEGORIES:Games,Social
ATTACH;FMTTYPE=image/jpeg:https://seniorocity.com.au/wp-content/uploads/2026/01/Cryptic-Crosswords-Group.jpg
END:VEVENT
BEGIN:VEVENT
DTSTART;TZID=Australia/Perth:20260806T130000
DTEND;TZID=Australia/Perth:20260806T150000
DTSTAMP:20260422T162737
CREATED:20260108T085836Z
LAST-MODIFIED:20260108T085836Z
UID:10861168-1786021200-1786028400@seniorocity.com.au
SUMMARY:Cryptic Crosswords Group
DESCRIPTION:All levels welcome. Cost is $2\, includes refreshments. \n\n\n\n\n\n\nTime: 1pm to 3pm \nLocation: The Hub of the Hills\, 8 Craig Street\, Mundaring
URL:https://seniorocity.com.au/whats-on-perth/cryptic-crosswords-group/2026-08-06/
LOCATION:Hub of the Hills\, Craig Street\, Mundaring\, WA\, Australia
CATEGORIES:Games,Social
ATTACH;FMTTYPE=image/jpeg:https://seniorocity.com.au/wp-content/uploads/2026/01/Cryptic-Crosswords-Group.jpg
END:VEVENT
BEGIN:VEVENT
DTSTART;TZID=Australia/Perth:20260813T130000
DTEND;TZID=Australia/Perth:20260813T150000
DTSTAMP:20260422T162737
CREATED:20260108T085836Z
LAST-MODIFIED:20260108T085836Z
UID:10861169-1786626000-1786633200@seniorocity.com.au
SUMMARY:Cryptic Crosswords Group
DESCRIPTION:All levels welcome. Cost is $2\, includes refreshments. \n\n\n\n\n\n\nTime: 1pm to 3pm \nLocation: The Hub of the Hills\, 8 Craig Street\, Mundaring
URL:https://seniorocity.com.au/whats-on-perth/cryptic-crosswords-group/2026-08-13/
LOCATION:Hub of the Hills\, Craig Street\, Mundaring\, WA\, Australia
CATEGORIES:Games,Social
ATTACH;FMTTYPE=image/jpeg:https://seniorocity.com.au/wp-content/uploads/2026/01/Cryptic-Crosswords-Group.jpg
END:VEVENT
BEGIN:VEVENT
DTSTART;TZID=Australia/Perth:20260820T130000
DTEND;TZID=Australia/Perth:20260820T150000
DTSTAMP:20260422T162737
CREATED:20260108T085836Z
LAST-MODIFIED:20260108T085836Z
UID:10861170-1787230800-1787238000@seniorocity.com.au
SUMMARY:Cryptic Crosswords Group
DESCRIPTION:All levels welcome. Cost is $2\, includes refreshments. \n\n\n\n\n\n\nTime: 1pm to 3pm \nLocation: The Hub of the Hills\, 8 Craig Street\, Mundaring
URL:https://seniorocity.com.au/whats-on-perth/cryptic-crosswords-group/2026-08-20/
LOCATION:Hub of the Hills\, Craig Street\, Mundaring\, WA\, Australia
CATEGORIES:Games,Social
ATTACH;FMTTYPE=image/jpeg:https://seniorocity.com.au/wp-content/uploads/2026/01/Cryptic-Crosswords-Group.jpg
END:VEVENT
BEGIN:VEVENT
DTSTART;TZID=Australia/Perth:20260827T130000
DTEND;TZID=Australia/Perth:20260827T150000
DTSTAMP:20260422T162737
CREATED:20260108T085836Z
LAST-MODIFIED:20260108T085836Z
UID:10861171-1787835600-1787842800@seniorocity.com.au
SUMMARY:Cryptic Crosswords Group
DESCRIPTION:All levels welcome. Cost is $2\, includes refreshments. \n\n\n\n\n\n\nTime: 1pm to 3pm \nLocation: The Hub of the Hills\, 8 Craig Street\, Mundaring
URL:https://seniorocity.com.au/whats-on-perth/cryptic-crosswords-group/2026-08-27/
LOCATION:Hub of the Hills\, Craig Street\, Mundaring\, WA\, Australia
CATEGORIES:Games,Social
ATTACH;FMTTYPE=image/jpeg:https://seniorocity.com.au/wp-content/uploads/2026/01/Cryptic-Crosswords-Group.jpg
END:VEVENT
BEGIN:VEVENT
DTSTART;TZID=Australia/Perth:20260903T130000
DTEND;TZID=Australia/Perth:20260903T150000
DTSTAMP:20260422T162737
CREATED:20260108T085836Z
LAST-MODIFIED:20260108T085836Z
UID:10861172-1788440400-1788447600@seniorocity.com.au
SUMMARY:Cryptic Crosswords Group
DESCRIPTION:All levels welcome. Cost is $2\, includes refreshments. \n\n\n\n\n\n\nTime: 1pm to 3pm \nLocation: The Hub of the Hills\, 8 Craig Street\, Mundaring
URL:https://seniorocity.com.au/whats-on-perth/cryptic-crosswords-group/2026-09-03/
LOCATION:Hub of the Hills\, Craig Street\, Mundaring\, WA\, Australia
CATEGORIES:Games,Social
ATTACH;FMTTYPE=image/jpeg:https://seniorocity.com.au/wp-content/uploads/2026/01/Cryptic-Crosswords-Group.jpg
END:VEVENT
BEGIN:VEVENT
DTSTART;TZID=Australia/Perth:20260910T130000
DTEND;TZID=Australia/Perth:20260910T150000
DTSTAMP:20260422T162737
CREATED:20260108T085836Z
LAST-MODIFIED:20260108T085836Z
UID:10861173-1789045200-1789052400@seniorocity.com.au
SUMMARY:Cryptic Crosswords Group
DESCRIPTION:All levels welcome. Cost is $2\, includes refreshments. \n\n\n\n\n\n\nTime: 1pm to 3pm \nLocation: The Hub of the Hills\, 8 Craig Street\, Mundaring
URL:https://seniorocity.com.au/whats-on-perth/cryptic-crosswords-group/2026-09-10/
LOCATION:Hub of the Hills\, Craig Street\, Mundaring\, WA\, Australia
CATEGORIES:Games,Social
ATTACH;FMTTYPE=image/jpeg:https://seniorocity.com.au/wp-content/uploads/2026/01/Cryptic-Crosswords-Group.jpg
END:VEVENT
BEGIN:VEVENT
DTSTART;TZID=Australia/Perth:20260917T130000
DTEND;TZID=Australia/Perth:20260917T150000
DTSTAMP:20260422T162737
CREATED:20260108T085836Z
LAST-MODIFIED:20260108T085836Z
UID:10861174-1789650000-1789657200@seniorocity.com.au
SUMMARY:Cryptic Crosswords Group
DESCRIPTION:All levels welcome. Cost is $2\, includes refreshments. \n\n\n\n\n\n\nTime: 1pm to 3pm \nLocation: The Hub of the Hills\, 8 Craig Street\, Mundaring
URL:https://seniorocity.com.au/whats-on-perth/cryptic-crosswords-group/2026-09-17/
LOCATION:Hub of the Hills\, Craig Street\, Mundaring\, WA\, Australia
CATEGORIES:Games,Social
ATTACH;FMTTYPE=image/jpeg:https://seniorocity.com.au/wp-content/uploads/2026/01/Cryptic-Crosswords-Group.jpg
END:VEVENT
BEGIN:VEVENT
DTSTART;TZID=Australia/Perth:20260924T130000
DTEND;TZID=Australia/Perth:20260924T150000
DTSTAMP:20260422T162737
CREATED:20260108T085836Z
LAST-MODIFIED:20260108T085836Z
UID:10861175-1790254800-1790262000@seniorocity.com.au
SUMMARY:Cryptic Crosswords Group
DESCRIPTION:All levels welcome. Cost is $2\, includes refreshments. \n\n\n\n\n\n\nTime: 1pm to 3pm \nLocation: The Hub of the Hills\, 8 Craig Street\, Mundaring
URL:https://seniorocity.com.au/whats-on-perth/cryptic-crosswords-group/2026-09-24/
LOCATION:Hub of the Hills\, Craig Street\, Mundaring\, WA\, Australia
CATEGORIES:Games,Social
ATTACH;FMTTYPE=image/jpeg:https://seniorocity.com.au/wp-content/uploads/2026/01/Cryptic-Crosswords-Group.jpg
END:VEVENT
BEGIN:VEVENT
DTSTART;TZID=Australia/Perth:20261001T130000
DTEND;TZID=Australia/Perth:20261001T150000
DTSTAMP:20260422T162737
CREATED:20260108T085836Z
LAST-MODIFIED:20260108T085836Z
UID:10861176-1790859600-1790866800@seniorocity.com.au
SUMMARY:Cryptic Crosswords Group
DESCRIPTION:All levels welcome. Cost is $2\, includes refreshments. \n\n\n\n\n\n\nTime: 1pm to 3pm \nLocation: The Hub of the Hills\, 8 Craig Street\, Mundaring
URL:https://seniorocity.com.au/whats-on-perth/cryptic-crosswords-group/2026-10-01/
LOCATION:Hub of the Hills\, Craig Street\, Mundaring\, WA\, Australia
CATEGORIES:Games,Social
ATTACH;FMTTYPE=image/jpeg:https://seniorocity.com.au/wp-content/uploads/2026/01/Cryptic-Crosswords-Group.jpg
END:VEVENT
BEGIN:VEVENT
DTSTART;TZID=Australia/Perth:20261008T130000
DTEND;TZID=Australia/Perth:20261008T150000
DTSTAMP:20260422T162737
CREATED:20260108T085836Z
LAST-MODIFIED:20260108T085836Z
UID:10861177-1791464400-1791471600@seniorocity.com.au
SUMMARY:Cryptic Crosswords Group
DESCRIPTION:All levels welcome. Cost is $2\, includes refreshments. \n\n\n\n\n\n\nTime: 1pm to 3pm \nLocation: The Hub of the Hills\, 8 Craig Street\, Mundaring
URL:https://seniorocity.com.au/whats-on-perth/cryptic-crosswords-group/2026-10-08/
LOCATION:Hub of the Hills\, Craig Street\, Mundaring\, WA\, Australia
CATEGORIES:Games,Social
ATTACH;FMTTYPE=image/jpeg:https://seniorocity.com.au/wp-content/uploads/2026/01/Cryptic-Crosswords-Group.jpg
END:VEVENT
BEGIN:VEVENT
DTSTART;TZID=Australia/Perth:20261015T130000
DTEND;TZID=Australia/Perth:20261015T150000
DTSTAMP:20260422T162737
CREATED:20260108T085836Z
LAST-MODIFIED:20260108T085836Z
UID:10861178-1792069200-1792076400@seniorocity.com.au
SUMMARY:Cryptic Crosswords Group
DESCRIPTION:All levels welcome. Cost is $2\, includes refreshments. \n\n\n\n\n\n\nTime: 1pm to 3pm \nLocation: The Hub of the Hills\, 8 Craig Street\, Mundaring
URL:https://seniorocity.com.au/whats-on-perth/cryptic-crosswords-group/2026-10-15/
LOCATION:Hub of the Hills\, Craig Street\, Mundaring\, WA\, Australia
CATEGORIES:Games,Social
ATTACH;FMTTYPE=image/jpeg:https://seniorocity.com.au/wp-content/uploads/2026/01/Cryptic-Crosswords-Group.jpg
END:VEVENT
BEGIN:VEVENT
DTSTART;TZID=Australia/Perth:20261022T130000
DTEND;TZID=Australia/Perth:20261022T150000
DTSTAMP:20260422T162737
CREATED:20260108T085836Z
LAST-MODIFIED:20260108T085836Z
UID:10861179-1792674000-1792681200@seniorocity.com.au
SUMMARY:Cryptic Crosswords Group
DESCRIPTION:All levels welcome. Cost is $2\, includes refreshments. \n\n\n\n\n\n\nTime: 1pm to 3pm \nLocation: The Hub of the Hills\, 8 Craig Street\, Mundaring
URL:https://seniorocity.com.au/whats-on-perth/cryptic-crosswords-group/2026-10-22/
LOCATION:Hub of the Hills\, Craig Street\, Mundaring\, WA\, Australia
CATEGORIES:Games,Social
ATTACH;FMTTYPE=image/jpeg:https://seniorocity.com.au/wp-content/uploads/2026/01/Cryptic-Crosswords-Group.jpg
END:VEVENT
BEGIN:VEVENT
DTSTART;TZID=Australia/Perth:20261029T130000
DTEND;TZID=Australia/Perth:20261029T150000
DTSTAMP:20260422T162737
CREATED:20260108T085836Z
LAST-MODIFIED:20260108T085836Z
UID:10861180-1793278800-1793286000@seniorocity.com.au
SUMMARY:Cryptic Crosswords Group
DESCRIPTION:All levels welcome. Cost is $2\, includes refreshments. \n\n\n\n\n\n\nTime: 1pm to 3pm \nLocation: The Hub of the Hills\, 8 Craig Street\, Mundaring
URL:https://seniorocity.com.au/whats-on-perth/cryptic-crosswords-group/2026-10-29/
LOCATION:Hub of the Hills\, Craig Street\, Mundaring\, WA\, Australia
CATEGORIES:Games,Social
ATTACH;FMTTYPE=image/jpeg:https://seniorocity.com.au/wp-content/uploads/2026/01/Cryptic-Crosswords-Group.jpg
END:VEVENT
BEGIN:VEVENT
DTSTART;TZID=Australia/Perth:20261105T130000
DTEND;TZID=Australia/Perth:20261105T150000
DTSTAMP:20260422T162737
CREATED:20260108T085836Z
LAST-MODIFIED:20260108T085836Z
UID:10861181-1793883600-1793890800@seniorocity.com.au
SUMMARY:Cryptic Crosswords Group
DESCRIPTION:All levels welcome. Cost is $2\, includes refreshments. \n\n\n\n\n\n\nTime: 1pm to 3pm \nLocation: The Hub of the Hills\, 8 Craig Street\, Mundaring
URL:https://seniorocity.com.au/whats-on-perth/cryptic-crosswords-group/2026-11-05/
LOCATION:Hub of the Hills\, Craig Street\, Mundaring\, WA\, Australia
CATEGORIES:Games,Social
ATTACH;FMTTYPE=image/jpeg:https://seniorocity.com.au/wp-content/uploads/2026/01/Cryptic-Crosswords-Group.jpg
END:VEVENT
BEGIN:VEVENT
DTSTART;TZID=Australia/Perth:20261112T130000
DTEND;TZID=Australia/Perth:20261112T150000
DTSTAMP:20260422T162737
CREATED:20260108T085836Z
LAST-MODIFIED:20260108T085836Z
UID:10861182-1794488400-1794495600@seniorocity.com.au
SUMMARY:Cryptic Crosswords Group
DESCRIPTION:All levels welcome. Cost is $2\, includes refreshments. \n\n\n\n\n\n\nTime: 1pm to 3pm \nLocation: The Hub of the Hills\, 8 Craig Street\, Mundaring
URL:https://seniorocity.com.au/whats-on-perth/cryptic-crosswords-group/2026-11-12/
LOCATION:Hub of the Hills\, Craig Street\, Mundaring\, WA\, Australia
CATEGORIES:Games,Social
ATTACH;FMTTYPE=image/jpeg:https://seniorocity.com.au/wp-content/uploads/2026/01/Cryptic-Crosswords-Group.jpg
END:VEVENT
END:VCALENDAR