BEGIN:VCALENDAR
VERSION:2.0
PRODID:-//Seniorocity - Seniors / Over 55&#039;s Guide to Perth - ECPv6.15.11//NONSGML v1.0//EN
CALSCALE:GREGORIAN
METHOD:PUBLISH
X-WR-CALNAME:Seniorocity - Seniors / Over 55&#039;s Guide to Perth
X-ORIGINAL-URL:https://seniorocity.com.au
X-WR-CALDESC:Events for Seniorocity - Seniors / Over 55&#039;s Guide to Perth
REFRESH-INTERVAL;VALUE=DURATION:PT1H
X-Robots-Tag:noindex
X-PUBLISHED-TTL:PT1H
BEGIN:VTIMEZONE
TZID:Australia/Perth
BEGIN:STANDARD
TZOFFSETFROM:+0800
TZOFFSETTO:+0800
TZNAME:AWST
DTSTART:20250101T000000
END:STANDARD
END:VTIMEZONE
BEGIN:VEVENT
DTSTART;TZID=Australia/Perth:20260424T180000
DTEND;TZID=Australia/Perth:20260424T200000
DTSTAMP:20260422T144438
CREATED:20260113T141130Z
LAST-MODIFIED:20260113T141130Z
UID:10861627-1777053600-1777060800@seniorocity.com.au
SUMMARY:Summer Film series
DESCRIPTION:Friday night is movie night at the Victoria Park Library! Join Dr. Damien Spiccia for a movie and engaging guided discussion after the film. \nBookings are essential and can be done online\, in person or over the phone. \nBook Online
URL:https://seniorocity.com.au/whats-on-perth/summer-film-series-2/2026-04-24/
LOCATION:Victoria Park Library\, 27 Sussex St\, East Victoria Park\, WA\, 6101\, Australia
CATEGORIES:Free,Library Events,Movies
ATTACH;FMTTYPE=image/jpeg:https://seniorocity.com.au/wp-content/uploads/2026/01/Summer-Film-series.jpg
GEO:-31.984312;115.90001
X-APPLE-STRUCTURED-LOCATION;VALUE=URI;X-ADDRESS=Victoria Park Library 27 Sussex St East Victoria Park WA 6101 Australia;X-APPLE-RADIUS=500;X-TITLE=27 Sussex St:geo:115.90001,-31.984312
END:VEVENT
BEGIN:VEVENT
DTSTART;TZID=Australia/Perth:20260515T180000
DTEND;TZID=Australia/Perth:20260515T200000
DTSTAMP:20260422T144438
CREATED:20260113T141130Z
LAST-MODIFIED:20260113T141130Z
UID:10861628-1778868000-1778875200@seniorocity.com.au
SUMMARY:Summer Film series
DESCRIPTION:Friday night is movie night at the Victoria Park Library! Join Dr. Damien Spiccia for a movie and engaging guided discussion after the film. \nBookings are essential and can be done online\, in person or over the phone. \nBook Online
URL:https://seniorocity.com.au/whats-on-perth/summer-film-series-2/2026-05-15/
LOCATION:Victoria Park Library\, 27 Sussex St\, East Victoria Park\, WA\, 6101\, Australia
CATEGORIES:Free,Library Events,Movies
ATTACH;FMTTYPE=image/jpeg:https://seniorocity.com.au/wp-content/uploads/2026/01/Summer-Film-series.jpg
GEO:-31.984312;115.90001
X-APPLE-STRUCTURED-LOCATION;VALUE=URI;X-ADDRESS=Victoria Park Library 27 Sussex St East Victoria Park WA 6101 Australia;X-APPLE-RADIUS=500;X-TITLE=27 Sussex St:geo:115.90001,-31.984312
END:VEVENT
END:VCALENDAR