BEGIN:VCALENDAR
VERSION:2.0
PRODID:-//Seniorocity - Seniors / Over 55&#039;s Guide to Perth - ECPv6.15.11//NONSGML v1.0//EN
CALSCALE:GREGORIAN
METHOD:PUBLISH
X-WR-CALNAME:Seniorocity - Seniors / Over 55&#039;s Guide to Perth
X-ORIGINAL-URL:https://seniorocity.com.au
X-WR-CALDESC:Events for Seniorocity - Seniors / Over 55&#039;s Guide to Perth
REFRESH-INTERVAL;VALUE=DURATION:PT1H
X-Robots-Tag:noindex
X-PUBLISHED-TTL:PT1H
BEGIN:VTIMEZONE
TZID:Australia/Perth
BEGIN:STANDARD
TZOFFSETFROM:+0800
TZOFFSETTO:+0800
TZNAME:AWST
DTSTART:20250101T000000
END:STANDARD
END:VTIMEZONE
BEGIN:VEVENT
DTSTART;TZID=Australia/Perth:20260427T093000
DTEND;TZID=Australia/Perth:20260427T113000
DTSTAMP:20260421T175921
CREATED:20260117T142559Z
LAST-MODIFIED:20260117T142559Z
UID:10862043-1777282200-1777289400@seniorocity.com.au
SUMMARY:Art group
DESCRIPTION:Join our weekly community art group for inspiration\, great chats and new friendships in a creative space. \nNo cost. No bookings required.
URL:https://seniorocity.com.au/whats-on-perth/art-group-3/2026-04-27/
LOCATION:Woodvale Library\, 5 Trappers Drive\, Woodvale\, WA\, 6026\, Australia
CATEGORIES:Craft,Free,Library Events
ATTACH;FMTTYPE=image/jpeg:https://seniorocity.com.au/wp-content/uploads/2026/01/Art-group-1.jpg
END:VEVENT
BEGIN:VEVENT
DTSTART;TZID=Australia/Perth:20260504T093000
DTEND;TZID=Australia/Perth:20260504T113000
DTSTAMP:20260421T175921
CREATED:20260117T142559Z
LAST-MODIFIED:20260117T142559Z
UID:10862044-1777887000-1777894200@seniorocity.com.au
SUMMARY:Art group
DESCRIPTION:Join our weekly community art group for inspiration\, great chats and new friendships in a creative space. \nNo cost. No bookings required.
URL:https://seniorocity.com.au/whats-on-perth/art-group-3/2026-05-04/
LOCATION:Woodvale Library\, 5 Trappers Drive\, Woodvale\, WA\, 6026\, Australia
CATEGORIES:Craft,Free,Library Events
ATTACH;FMTTYPE=image/jpeg:https://seniorocity.com.au/wp-content/uploads/2026/01/Art-group-1.jpg
END:VEVENT
BEGIN:VEVENT
DTSTART;TZID=Australia/Perth:20260511T093000
DTEND;TZID=Australia/Perth:20260511T113000
DTSTAMP:20260421T175921
CREATED:20260117T142559Z
LAST-MODIFIED:20260117T142559Z
UID:10862045-1778491800-1778499000@seniorocity.com.au
SUMMARY:Art group
DESCRIPTION:Join our weekly community art group for inspiration\, great chats and new friendships in a creative space. \nNo cost. No bookings required.
URL:https://seniorocity.com.au/whats-on-perth/art-group-3/2026-05-11/
LOCATION:Woodvale Library\, 5 Trappers Drive\, Woodvale\, WA\, 6026\, Australia
CATEGORIES:Craft,Free,Library Events
ATTACH;FMTTYPE=image/jpeg:https://seniorocity.com.au/wp-content/uploads/2026/01/Art-group-1.jpg
END:VEVENT
BEGIN:VEVENT
DTSTART;TZID=Australia/Perth:20260518T093000
DTEND;TZID=Australia/Perth:20260518T113000
DTSTAMP:20260421T175921
CREATED:20260117T142559Z
LAST-MODIFIED:20260117T142559Z
UID:10862046-1779096600-1779103800@seniorocity.com.au
SUMMARY:Art group
DESCRIPTION:Join our weekly community art group for inspiration\, great chats and new friendships in a creative space. \nNo cost. No bookings required.
URL:https://seniorocity.com.au/whats-on-perth/art-group-3/2026-05-18/
LOCATION:Woodvale Library\, 5 Trappers Drive\, Woodvale\, WA\, 6026\, Australia
CATEGORIES:Craft,Free,Library Events
ATTACH;FMTTYPE=image/jpeg:https://seniorocity.com.au/wp-content/uploads/2026/01/Art-group-1.jpg
END:VEVENT
BEGIN:VEVENT
DTSTART;TZID=Australia/Perth:20260525T093000
DTEND;TZID=Australia/Perth:20260525T113000
DTSTAMP:20260421T175921
CREATED:20260117T142559Z
LAST-MODIFIED:20260117T142559Z
UID:10862047-1779701400-1779708600@seniorocity.com.au
SUMMARY:Art group
DESCRIPTION:Join our weekly community art group for inspiration\, great chats and new friendships in a creative space. \nNo cost. No bookings required.
URL:https://seniorocity.com.au/whats-on-perth/art-group-3/2026-05-25/
LOCATION:Woodvale Library\, 5 Trappers Drive\, Woodvale\, WA\, 6026\, Australia
CATEGORIES:Craft,Free,Library Events
ATTACH;FMTTYPE=image/jpeg:https://seniorocity.com.au/wp-content/uploads/2026/01/Art-group-1.jpg
END:VEVENT
BEGIN:VEVENT
DTSTART;TZID=Australia/Perth:20260601T093000
DTEND;TZID=Australia/Perth:20260601T113000
DTSTAMP:20260421T175921
CREATED:20260117T142559Z
LAST-MODIFIED:20260117T142559Z
UID:10862048-1780306200-1780313400@seniorocity.com.au
SUMMARY:Art group
DESCRIPTION:Join our weekly community art group for inspiration\, great chats and new friendships in a creative space. \nNo cost. No bookings required.
URL:https://seniorocity.com.au/whats-on-perth/art-group-3/2026-06-01/
LOCATION:Woodvale Library\, 5 Trappers Drive\, Woodvale\, WA\, 6026\, Australia
CATEGORIES:Craft,Free,Library Events
ATTACH;FMTTYPE=image/jpeg:https://seniorocity.com.au/wp-content/uploads/2026/01/Art-group-1.jpg
END:VEVENT
BEGIN:VEVENT
DTSTART;TZID=Australia/Perth:20260608T093000
DTEND;TZID=Australia/Perth:20260608T113000
DTSTAMP:20260421T175921
CREATED:20260117T142559Z
LAST-MODIFIED:20260117T142559Z
UID:10862049-1780911000-1780918200@seniorocity.com.au
SUMMARY:Art group
DESCRIPTION:Join our weekly community art group for inspiration\, great chats and new friendships in a creative space. \nNo cost. No bookings required.
URL:https://seniorocity.com.au/whats-on-perth/art-group-3/2026-06-08/
LOCATION:Woodvale Library\, 5 Trappers Drive\, Woodvale\, WA\, 6026\, Australia
CATEGORIES:Craft,Free,Library Events
ATTACH;FMTTYPE=image/jpeg:https://seniorocity.com.au/wp-content/uploads/2026/01/Art-group-1.jpg
END:VEVENT
BEGIN:VEVENT
DTSTART;TZID=Australia/Perth:20260615T093000
DTEND;TZID=Australia/Perth:20260615T113000
DTSTAMP:20260421T175921
CREATED:20260117T142559Z
LAST-MODIFIED:20260117T142559Z
UID:10862050-1781515800-1781523000@seniorocity.com.au
SUMMARY:Art group
DESCRIPTION:Join our weekly community art group for inspiration\, great chats and new friendships in a creative space. \nNo cost. No bookings required.
URL:https://seniorocity.com.au/whats-on-perth/art-group-3/2026-06-15/
LOCATION:Woodvale Library\, 5 Trappers Drive\, Woodvale\, WA\, 6026\, Australia
CATEGORIES:Craft,Free,Library Events
ATTACH;FMTTYPE=image/jpeg:https://seniorocity.com.au/wp-content/uploads/2026/01/Art-group-1.jpg
END:VEVENT
BEGIN:VEVENT
DTSTART;TZID=Australia/Perth:20260622T093000
DTEND;TZID=Australia/Perth:20260622T113000
DTSTAMP:20260421T175921
CREATED:20260117T142559Z
LAST-MODIFIED:20260117T142559Z
UID:10862051-1782120600-1782127800@seniorocity.com.au
SUMMARY:Art group
DESCRIPTION:Join our weekly community art group for inspiration\, great chats and new friendships in a creative space. \nNo cost. No bookings required.
URL:https://seniorocity.com.au/whats-on-perth/art-group-3/2026-06-22/
LOCATION:Woodvale Library\, 5 Trappers Drive\, Woodvale\, WA\, 6026\, Australia
CATEGORIES:Craft,Free,Library Events
ATTACH;FMTTYPE=image/jpeg:https://seniorocity.com.au/wp-content/uploads/2026/01/Art-group-1.jpg
END:VEVENT
BEGIN:VEVENT
DTSTART;TZID=Australia/Perth:20260629T093000
DTEND;TZID=Australia/Perth:20260629T113000
DTSTAMP:20260421T175921
CREATED:20260117T142559Z
LAST-MODIFIED:20260117T142559Z
UID:10862052-1782725400-1782732600@seniorocity.com.au
SUMMARY:Art group
DESCRIPTION:Join our weekly community art group for inspiration\, great chats and new friendships in a creative space. \nNo cost. No bookings required.
URL:https://seniorocity.com.au/whats-on-perth/art-group-3/2026-06-29/
LOCATION:Woodvale Library\, 5 Trappers Drive\, Woodvale\, WA\, 6026\, Australia
CATEGORIES:Craft,Free,Library Events
ATTACH;FMTTYPE=image/jpeg:https://seniorocity.com.au/wp-content/uploads/2026/01/Art-group-1.jpg
END:VEVENT
BEGIN:VEVENT
DTSTART;TZID=Australia/Perth:20260706T093000
DTEND;TZID=Australia/Perth:20260706T113000
DTSTAMP:20260421T175921
CREATED:20260117T142559Z
LAST-MODIFIED:20260117T142559Z
UID:10862053-1783330200-1783337400@seniorocity.com.au
SUMMARY:Art group
DESCRIPTION:Join our weekly community art group for inspiration\, great chats and new friendships in a creative space. \nNo cost. No bookings required.
URL:https://seniorocity.com.au/whats-on-perth/art-group-3/2026-07-06/
LOCATION:Woodvale Library\, 5 Trappers Drive\, Woodvale\, WA\, 6026\, Australia
CATEGORIES:Craft,Free,Library Events
ATTACH;FMTTYPE=image/jpeg:https://seniorocity.com.au/wp-content/uploads/2026/01/Art-group-1.jpg
END:VEVENT
BEGIN:VEVENT
DTSTART;TZID=Australia/Perth:20260713T093000
DTEND;TZID=Australia/Perth:20260713T113000
DTSTAMP:20260421T175921
CREATED:20260117T142559Z
LAST-MODIFIED:20260117T142559Z
UID:10862054-1783935000-1783942200@seniorocity.com.au
SUMMARY:Art group
DESCRIPTION:Join our weekly community art group for inspiration\, great chats and new friendships in a creative space. \nNo cost. No bookings required.
URL:https://seniorocity.com.au/whats-on-perth/art-group-3/2026-07-13/
LOCATION:Woodvale Library\, 5 Trappers Drive\, Woodvale\, WA\, 6026\, Australia
CATEGORIES:Craft,Free,Library Events
ATTACH;FMTTYPE=image/jpeg:https://seniorocity.com.au/wp-content/uploads/2026/01/Art-group-1.jpg
END:VEVENT
BEGIN:VEVENT
DTSTART;TZID=Australia/Perth:20260720T093000
DTEND;TZID=Australia/Perth:20260720T113000
DTSTAMP:20260421T175921
CREATED:20260117T142559Z
LAST-MODIFIED:20260117T142559Z
UID:10862055-1784539800-1784547000@seniorocity.com.au
SUMMARY:Art group
DESCRIPTION:Join our weekly community art group for inspiration\, great chats and new friendships in a creative space. \nNo cost. No bookings required.
URL:https://seniorocity.com.au/whats-on-perth/art-group-3/2026-07-20/
LOCATION:Woodvale Library\, 5 Trappers Drive\, Woodvale\, WA\, 6026\, Australia
CATEGORIES:Craft,Free,Library Events
ATTACH;FMTTYPE=image/jpeg:https://seniorocity.com.au/wp-content/uploads/2026/01/Art-group-1.jpg
END:VEVENT
BEGIN:VEVENT
DTSTART;TZID=Australia/Perth:20260727T093000
DTEND;TZID=Australia/Perth:20260727T113000
DTSTAMP:20260421T175921
CREATED:20260117T142559Z
LAST-MODIFIED:20260117T142559Z
UID:10862056-1785144600-1785151800@seniorocity.com.au
SUMMARY:Art group
DESCRIPTION:Join our weekly community art group for inspiration\, great chats and new friendships in a creative space. \nNo cost. No bookings required.
URL:https://seniorocity.com.au/whats-on-perth/art-group-3/2026-07-27/
LOCATION:Woodvale Library\, 5 Trappers Drive\, Woodvale\, WA\, 6026\, Australia
CATEGORIES:Craft,Free,Library Events
ATTACH;FMTTYPE=image/jpeg:https://seniorocity.com.au/wp-content/uploads/2026/01/Art-group-1.jpg
END:VEVENT
BEGIN:VEVENT
DTSTART;TZID=Australia/Perth:20260803T093000
DTEND;TZID=Australia/Perth:20260803T113000
DTSTAMP:20260421T175921
CREATED:20260117T142559Z
LAST-MODIFIED:20260117T142559Z
UID:10862057-1785749400-1785756600@seniorocity.com.au
SUMMARY:Art group
DESCRIPTION:Join our weekly community art group for inspiration\, great chats and new friendships in a creative space. \nNo cost. No bookings required.
URL:https://seniorocity.com.au/whats-on-perth/art-group-3/2026-08-03/
LOCATION:Woodvale Library\, 5 Trappers Drive\, Woodvale\, WA\, 6026\, Australia
CATEGORIES:Craft,Free,Library Events
ATTACH;FMTTYPE=image/jpeg:https://seniorocity.com.au/wp-content/uploads/2026/01/Art-group-1.jpg
END:VEVENT
BEGIN:VEVENT
DTSTART;TZID=Australia/Perth:20260810T093000
DTEND;TZID=Australia/Perth:20260810T113000
DTSTAMP:20260421T175921
CREATED:20260117T142559Z
LAST-MODIFIED:20260117T142559Z
UID:10862058-1786354200-1786361400@seniorocity.com.au
SUMMARY:Art group
DESCRIPTION:Join our weekly community art group for inspiration\, great chats and new friendships in a creative space. \nNo cost. No bookings required.
URL:https://seniorocity.com.au/whats-on-perth/art-group-3/2026-08-10/
LOCATION:Woodvale Library\, 5 Trappers Drive\, Woodvale\, WA\, 6026\, Australia
CATEGORIES:Craft,Free,Library Events
ATTACH;FMTTYPE=image/jpeg:https://seniorocity.com.au/wp-content/uploads/2026/01/Art-group-1.jpg
END:VEVENT
BEGIN:VEVENT
DTSTART;TZID=Australia/Perth:20260817T093000
DTEND;TZID=Australia/Perth:20260817T113000
DTSTAMP:20260421T175921
CREATED:20260117T142559Z
LAST-MODIFIED:20260117T142559Z
UID:10862059-1786959000-1786966200@seniorocity.com.au
SUMMARY:Art group
DESCRIPTION:Join our weekly community art group for inspiration\, great chats and new friendships in a creative space. \nNo cost. No bookings required.
URL:https://seniorocity.com.au/whats-on-perth/art-group-3/2026-08-17/
LOCATION:Woodvale Library\, 5 Trappers Drive\, Woodvale\, WA\, 6026\, Australia
CATEGORIES:Craft,Free,Library Events
ATTACH;FMTTYPE=image/jpeg:https://seniorocity.com.au/wp-content/uploads/2026/01/Art-group-1.jpg
END:VEVENT
BEGIN:VEVENT
DTSTART;TZID=Australia/Perth:20260824T093000
DTEND;TZID=Australia/Perth:20260824T113000
DTSTAMP:20260421T175921
CREATED:20260117T142559Z
LAST-MODIFIED:20260117T142559Z
UID:10862060-1787563800-1787571000@seniorocity.com.au
SUMMARY:Art group
DESCRIPTION:Join our weekly community art group for inspiration\, great chats and new friendships in a creative space. \nNo cost. No bookings required.
URL:https://seniorocity.com.au/whats-on-perth/art-group-3/2026-08-24/
LOCATION:Woodvale Library\, 5 Trappers Drive\, Woodvale\, WA\, 6026\, Australia
CATEGORIES:Craft,Free,Library Events
ATTACH;FMTTYPE=image/jpeg:https://seniorocity.com.au/wp-content/uploads/2026/01/Art-group-1.jpg
END:VEVENT
BEGIN:VEVENT
DTSTART;TZID=Australia/Perth:20260831T093000
DTEND;TZID=Australia/Perth:20260831T113000
DTSTAMP:20260421T175921
CREATED:20260117T142559Z
LAST-MODIFIED:20260117T142559Z
UID:10862061-1788168600-1788175800@seniorocity.com.au
SUMMARY:Art group
DESCRIPTION:Join our weekly community art group for inspiration\, great chats and new friendships in a creative space. \nNo cost. No bookings required.
URL:https://seniorocity.com.au/whats-on-perth/art-group-3/2026-08-31/
LOCATION:Woodvale Library\, 5 Trappers Drive\, Woodvale\, WA\, 6026\, Australia
CATEGORIES:Craft,Free,Library Events
ATTACH;FMTTYPE=image/jpeg:https://seniorocity.com.au/wp-content/uploads/2026/01/Art-group-1.jpg
END:VEVENT
BEGIN:VEVENT
DTSTART;TZID=Australia/Perth:20260907T093000
DTEND;TZID=Australia/Perth:20260907T113000
DTSTAMP:20260421T175921
CREATED:20260117T142559Z
LAST-MODIFIED:20260117T142559Z
UID:10862062-1788773400-1788780600@seniorocity.com.au
SUMMARY:Art group
DESCRIPTION:Join our weekly community art group for inspiration\, great chats and new friendships in a creative space. \nNo cost. No bookings required.
URL:https://seniorocity.com.au/whats-on-perth/art-group-3/2026-09-07/
LOCATION:Woodvale Library\, 5 Trappers Drive\, Woodvale\, WA\, 6026\, Australia
CATEGORIES:Craft,Free,Library Events
ATTACH;FMTTYPE=image/jpeg:https://seniorocity.com.au/wp-content/uploads/2026/01/Art-group-1.jpg
END:VEVENT
BEGIN:VEVENT
DTSTART;TZID=Australia/Perth:20260914T093000
DTEND;TZID=Australia/Perth:20260914T113000
DTSTAMP:20260421T175921
CREATED:20260117T142559Z
LAST-MODIFIED:20260117T142559Z
UID:10862063-1789378200-1789385400@seniorocity.com.au
SUMMARY:Art group
DESCRIPTION:Join our weekly community art group for inspiration\, great chats and new friendships in a creative space. \nNo cost. No bookings required.
URL:https://seniorocity.com.au/whats-on-perth/art-group-3/2026-09-14/
LOCATION:Woodvale Library\, 5 Trappers Drive\, Woodvale\, WA\, 6026\, Australia
CATEGORIES:Craft,Free,Library Events
ATTACH;FMTTYPE=image/jpeg:https://seniorocity.com.au/wp-content/uploads/2026/01/Art-group-1.jpg
END:VEVENT
BEGIN:VEVENT
DTSTART;TZID=Australia/Perth:20260921T093000
DTEND;TZID=Australia/Perth:20260921T113000
DTSTAMP:20260421T175921
CREATED:20260117T142559Z
LAST-MODIFIED:20260117T142559Z
UID:10862064-1789983000-1789990200@seniorocity.com.au
SUMMARY:Art group
DESCRIPTION:Join our weekly community art group for inspiration\, great chats and new friendships in a creative space. \nNo cost. No bookings required.
URL:https://seniorocity.com.au/whats-on-perth/art-group-3/2026-09-21/
LOCATION:Woodvale Library\, 5 Trappers Drive\, Woodvale\, WA\, 6026\, Australia
CATEGORIES:Craft,Free,Library Events
ATTACH;FMTTYPE=image/jpeg:https://seniorocity.com.au/wp-content/uploads/2026/01/Art-group-1.jpg
END:VEVENT
BEGIN:VEVENT
DTSTART;TZID=Australia/Perth:20260928T093000
DTEND;TZID=Australia/Perth:20260928T113000
DTSTAMP:20260421T175921
CREATED:20260117T142559Z
LAST-MODIFIED:20260117T142559Z
UID:10862065-1790587800-1790595000@seniorocity.com.au
SUMMARY:Art group
DESCRIPTION:Join our weekly community art group for inspiration\, great chats and new friendships in a creative space. \nNo cost. No bookings required.
URL:https://seniorocity.com.au/whats-on-perth/art-group-3/2026-09-28/
LOCATION:Woodvale Library\, 5 Trappers Drive\, Woodvale\, WA\, 6026\, Australia
CATEGORIES:Craft,Free,Library Events
ATTACH;FMTTYPE=image/jpeg:https://seniorocity.com.au/wp-content/uploads/2026/01/Art-group-1.jpg
END:VEVENT
BEGIN:VEVENT
DTSTART;TZID=Australia/Perth:20261005T093000
DTEND;TZID=Australia/Perth:20261005T113000
DTSTAMP:20260421T175921
CREATED:20260117T142559Z
LAST-MODIFIED:20260117T142559Z
UID:10862066-1791192600-1791199800@seniorocity.com.au
SUMMARY:Art group
DESCRIPTION:Join our weekly community art group for inspiration\, great chats and new friendships in a creative space. \nNo cost. No bookings required.
URL:https://seniorocity.com.au/whats-on-perth/art-group-3/2026-10-05/
LOCATION:Woodvale Library\, 5 Trappers Drive\, Woodvale\, WA\, 6026\, Australia
CATEGORIES:Craft,Free,Library Events
ATTACH;FMTTYPE=image/jpeg:https://seniorocity.com.au/wp-content/uploads/2026/01/Art-group-1.jpg
END:VEVENT
BEGIN:VEVENT
DTSTART;TZID=Australia/Perth:20261012T093000
DTEND;TZID=Australia/Perth:20261012T113000
DTSTAMP:20260421T175921
CREATED:20260117T142559Z
LAST-MODIFIED:20260117T142559Z
UID:10862067-1791797400-1791804600@seniorocity.com.au
SUMMARY:Art group
DESCRIPTION:Join our weekly community art group for inspiration\, great chats and new friendships in a creative space. \nNo cost. No bookings required.
URL:https://seniorocity.com.au/whats-on-perth/art-group-3/2026-10-12/
LOCATION:Woodvale Library\, 5 Trappers Drive\, Woodvale\, WA\, 6026\, Australia
CATEGORIES:Craft,Free,Library Events
ATTACH;FMTTYPE=image/jpeg:https://seniorocity.com.au/wp-content/uploads/2026/01/Art-group-1.jpg
END:VEVENT
BEGIN:VEVENT
DTSTART;TZID=Australia/Perth:20261019T093000
DTEND;TZID=Australia/Perth:20261019T113000
DTSTAMP:20260421T175921
CREATED:20260117T142559Z
LAST-MODIFIED:20260117T142559Z
UID:10862068-1792402200-1792409400@seniorocity.com.au
SUMMARY:Art group
DESCRIPTION:Join our weekly community art group for inspiration\, great chats and new friendships in a creative space. \nNo cost. No bookings required.
URL:https://seniorocity.com.au/whats-on-perth/art-group-3/2026-10-19/
LOCATION:Woodvale Library\, 5 Trappers Drive\, Woodvale\, WA\, 6026\, Australia
CATEGORIES:Craft,Free,Library Events
ATTACH;FMTTYPE=image/jpeg:https://seniorocity.com.au/wp-content/uploads/2026/01/Art-group-1.jpg
END:VEVENT
BEGIN:VEVENT
DTSTART;TZID=Australia/Perth:20261026T093000
DTEND;TZID=Australia/Perth:20261026T113000
DTSTAMP:20260421T175921
CREATED:20260117T142559Z
LAST-MODIFIED:20260117T142559Z
UID:10862069-1793007000-1793014200@seniorocity.com.au
SUMMARY:Art group
DESCRIPTION:Join our weekly community art group for inspiration\, great chats and new friendships in a creative space. \nNo cost. No bookings required.
URL:https://seniorocity.com.au/whats-on-perth/art-group-3/2026-10-26/
LOCATION:Woodvale Library\, 5 Trappers Drive\, Woodvale\, WA\, 6026\, Australia
CATEGORIES:Craft,Free,Library Events
ATTACH;FMTTYPE=image/jpeg:https://seniorocity.com.au/wp-content/uploads/2026/01/Art-group-1.jpg
END:VEVENT
BEGIN:VEVENT
DTSTART;TZID=Australia/Perth:20261102T093000
DTEND;TZID=Australia/Perth:20261102T113000
DTSTAMP:20260421T175921
CREATED:20260117T142559Z
LAST-MODIFIED:20260117T142559Z
UID:10862070-1793611800-1793619000@seniorocity.com.au
SUMMARY:Art group
DESCRIPTION:Join our weekly community art group for inspiration\, great chats and new friendships in a creative space. \nNo cost. No bookings required.
URL:https://seniorocity.com.au/whats-on-perth/art-group-3/2026-11-02/
LOCATION:Woodvale Library\, 5 Trappers Drive\, Woodvale\, WA\, 6026\, Australia
CATEGORIES:Craft,Free,Library Events
ATTACH;FMTTYPE=image/jpeg:https://seniorocity.com.au/wp-content/uploads/2026/01/Art-group-1.jpg
END:VEVENT
BEGIN:VEVENT
DTSTART;TZID=Australia/Perth:20261109T093000
DTEND;TZID=Australia/Perth:20261109T113000
DTSTAMP:20260421T175921
CREATED:20260117T142559Z
LAST-MODIFIED:20260117T142559Z
UID:10862071-1794216600-1794223800@seniorocity.com.au
SUMMARY:Art group
DESCRIPTION:Join our weekly community art group for inspiration\, great chats and new friendships in a creative space. \nNo cost. No bookings required.
URL:https://seniorocity.com.au/whats-on-perth/art-group-3/2026-11-09/
LOCATION:Woodvale Library\, 5 Trappers Drive\, Woodvale\, WA\, 6026\, Australia
CATEGORIES:Craft,Free,Library Events
ATTACH;FMTTYPE=image/jpeg:https://seniorocity.com.au/wp-content/uploads/2026/01/Art-group-1.jpg
END:VEVENT
BEGIN:VEVENT
DTSTART;TZID=Australia/Perth:20261116T093000
DTEND;TZID=Australia/Perth:20261116T113000
DTSTAMP:20260421T175921
CREATED:20260117T142559Z
LAST-MODIFIED:20260117T142559Z
UID:10862072-1794821400-1794828600@seniorocity.com.au
SUMMARY:Art group
DESCRIPTION:Join our weekly community art group for inspiration\, great chats and new friendships in a creative space. \nNo cost. No bookings required.
URL:https://seniorocity.com.au/whats-on-perth/art-group-3/2026-11-16/
LOCATION:Woodvale Library\, 5 Trappers Drive\, Woodvale\, WA\, 6026\, Australia
CATEGORIES:Craft,Free,Library Events
ATTACH;FMTTYPE=image/jpeg:https://seniorocity.com.au/wp-content/uploads/2026/01/Art-group-1.jpg
END:VEVENT
END:VCALENDAR