BEGIN:VCALENDAR
VERSION:2.0
PRODID:-//Seniorocity - Seniors / Over 55&#039;s Guide to Perth - ECPv6.15.11//NONSGML v1.0//EN
CALSCALE:GREGORIAN
METHOD:PUBLISH
X-WR-CALNAME:Seniorocity - Seniors / Over 55&#039;s Guide to Perth
X-ORIGINAL-URL:https://seniorocity.com.au
X-WR-CALDESC:Events for Seniorocity - Seniors / Over 55&#039;s Guide to Perth
REFRESH-INTERVAL;VALUE=DURATION:PT1H
X-Robots-Tag:noindex
X-PUBLISHED-TTL:PT1H
BEGIN:VTIMEZONE
TZID:Australia/Perth
BEGIN:STANDARD
TZOFFSETFROM:+0800
TZOFFSETTO:+0800
TZNAME:AWST
DTSTART:20250101T000000
END:STANDARD
END:VTIMEZONE
BEGIN:VEVENT
DTSTART;TZID=Australia/Perth:20260421T130000
DTEND;TZID=Australia/Perth:20260421T160000
DTSTAMP:20260420T125842
CREATED:20260117T144203Z
LAST-MODIFIED:20260117T144203Z
UID:10862203-1776776400-1776787200@seniorocity.com.au
SUMMARY:Snooker
DESCRIPTION:If you are aged over 55 years\, come along for a snooker afternoon every Tuesday and Thursday. \n\n\n\n\n\n\n\n\n\nCost: $40 per year
URL:https://seniorocity.com.au/whats-on-perth/snooker/2026-04-21/
LOCATION:Mildenhall\, 49 Beddi Road\, Duncraig\, WA\, 6023\, Australia
CATEGORIES:Club,Games,Meet New People,Social,Sport Activities
ATTACH;FMTTYPE=image/png:https://seniorocity.com.au/wp-content/uploads/2026/01/Snooker.png
END:VEVENT
BEGIN:VEVENT
DTSTART;TZID=Australia/Perth:20260423T130000
DTEND;TZID=Australia/Perth:20260423T160000
DTSTAMP:20260420T125842
CREATED:20260117T144203Z
LAST-MODIFIED:20260117T144203Z
UID:10862204-1776949200-1776960000@seniorocity.com.au
SUMMARY:Snooker
DESCRIPTION:If you are aged over 55 years\, come along for a snooker afternoon every Tuesday and Thursday. \n\n\n\n\n\n\n\n\n\nCost: $40 per year
URL:https://seniorocity.com.au/whats-on-perth/snooker/2026-04-23/
LOCATION:Mildenhall\, 49 Beddi Road\, Duncraig\, WA\, 6023\, Australia
CATEGORIES:Club,Games,Meet New People,Social,Sport Activities
ATTACH;FMTTYPE=image/png:https://seniorocity.com.au/wp-content/uploads/2026/01/Snooker.png
END:VEVENT
BEGIN:VEVENT
DTSTART;TZID=Australia/Perth:20260428T130000
DTEND;TZID=Australia/Perth:20260428T160000
DTSTAMP:20260420T125842
CREATED:20260117T144203Z
LAST-MODIFIED:20260117T144203Z
UID:10862205-1777381200-1777392000@seniorocity.com.au
SUMMARY:Snooker
DESCRIPTION:If you are aged over 55 years\, come along for a snooker afternoon every Tuesday and Thursday. \n\n\n\n\n\n\n\n\n\nCost: $40 per year
URL:https://seniorocity.com.au/whats-on-perth/snooker/2026-04-28/
LOCATION:Mildenhall\, 49 Beddi Road\, Duncraig\, WA\, 6023\, Australia
CATEGORIES:Club,Games,Meet New People,Social,Sport Activities
ATTACH;FMTTYPE=image/png:https://seniorocity.com.au/wp-content/uploads/2026/01/Snooker.png
END:VEVENT
BEGIN:VEVENT
DTSTART;TZID=Australia/Perth:20260430T130000
DTEND;TZID=Australia/Perth:20260430T160000
DTSTAMP:20260420T125842
CREATED:20260117T144203Z
LAST-MODIFIED:20260117T144203Z
UID:10862206-1777554000-1777564800@seniorocity.com.au
SUMMARY:Snooker
DESCRIPTION:If you are aged over 55 years\, come along for a snooker afternoon every Tuesday and Thursday. \n\n\n\n\n\n\n\n\n\nCost: $40 per year
URL:https://seniorocity.com.au/whats-on-perth/snooker/2026-04-30/
LOCATION:Mildenhall\, 49 Beddi Road\, Duncraig\, WA\, 6023\, Australia
CATEGORIES:Club,Games,Meet New People,Social,Sport Activities
ATTACH;FMTTYPE=image/png:https://seniorocity.com.au/wp-content/uploads/2026/01/Snooker.png
END:VEVENT
BEGIN:VEVENT
DTSTART;TZID=Australia/Perth:20260505T130000
DTEND;TZID=Australia/Perth:20260505T160000
DTSTAMP:20260420T125842
CREATED:20260117T144203Z
LAST-MODIFIED:20260117T144203Z
UID:10862207-1777986000-1777996800@seniorocity.com.au
SUMMARY:Snooker
DESCRIPTION:If you are aged over 55 years\, come along for a snooker afternoon every Tuesday and Thursday. \n\n\n\n\n\n\n\n\n\nCost: $40 per year
URL:https://seniorocity.com.au/whats-on-perth/snooker/2026-05-05/
LOCATION:Mildenhall\, 49 Beddi Road\, Duncraig\, WA\, 6023\, Australia
CATEGORIES:Club,Games,Meet New People,Social,Sport Activities
ATTACH;FMTTYPE=image/png:https://seniorocity.com.au/wp-content/uploads/2026/01/Snooker.png
END:VEVENT
BEGIN:VEVENT
DTSTART;TZID=Australia/Perth:20260507T130000
DTEND;TZID=Australia/Perth:20260507T160000
DTSTAMP:20260420T125842
CREATED:20260117T144203Z
LAST-MODIFIED:20260117T144203Z
UID:10862208-1778158800-1778169600@seniorocity.com.au
SUMMARY:Snooker
DESCRIPTION:If you are aged over 55 years\, come along for a snooker afternoon every Tuesday and Thursday. \n\n\n\n\n\n\n\n\n\nCost: $40 per year
URL:https://seniorocity.com.au/whats-on-perth/snooker/2026-05-07/
LOCATION:Mildenhall\, 49 Beddi Road\, Duncraig\, WA\, 6023\, Australia
CATEGORIES:Club,Games,Meet New People,Social,Sport Activities
ATTACH;FMTTYPE=image/png:https://seniorocity.com.au/wp-content/uploads/2026/01/Snooker.png
END:VEVENT
BEGIN:VEVENT
DTSTART;TZID=Australia/Perth:20260512T130000
DTEND;TZID=Australia/Perth:20260512T160000
DTSTAMP:20260420T125842
CREATED:20260117T144203Z
LAST-MODIFIED:20260117T144203Z
UID:10862209-1778590800-1778601600@seniorocity.com.au
SUMMARY:Snooker
DESCRIPTION:If you are aged over 55 years\, come along for a snooker afternoon every Tuesday and Thursday. \n\n\n\n\n\n\n\n\n\nCost: $40 per year
URL:https://seniorocity.com.au/whats-on-perth/snooker/2026-05-12/
LOCATION:Mildenhall\, 49 Beddi Road\, Duncraig\, WA\, 6023\, Australia
CATEGORIES:Club,Games,Meet New People,Social,Sport Activities
ATTACH;FMTTYPE=image/png:https://seniorocity.com.au/wp-content/uploads/2026/01/Snooker.png
END:VEVENT
BEGIN:VEVENT
DTSTART;TZID=Australia/Perth:20260514T130000
DTEND;TZID=Australia/Perth:20260514T160000
DTSTAMP:20260420T125842
CREATED:20260117T144203Z
LAST-MODIFIED:20260117T144203Z
UID:10862210-1778763600-1778774400@seniorocity.com.au
SUMMARY:Snooker
DESCRIPTION:If you are aged over 55 years\, come along for a snooker afternoon every Tuesday and Thursday. \n\n\n\n\n\n\n\n\n\nCost: $40 per year
URL:https://seniorocity.com.au/whats-on-perth/snooker/2026-05-14/
LOCATION:Mildenhall\, 49 Beddi Road\, Duncraig\, WA\, 6023\, Australia
CATEGORIES:Club,Games,Meet New People,Social,Sport Activities
ATTACH;FMTTYPE=image/png:https://seniorocity.com.au/wp-content/uploads/2026/01/Snooker.png
END:VEVENT
BEGIN:VEVENT
DTSTART;TZID=Australia/Perth:20260519T130000
DTEND;TZID=Australia/Perth:20260519T160000
DTSTAMP:20260420T125842
CREATED:20260117T144203Z
LAST-MODIFIED:20260117T144203Z
UID:10862211-1779195600-1779206400@seniorocity.com.au
SUMMARY:Snooker
DESCRIPTION:If you are aged over 55 years\, come along for a snooker afternoon every Tuesday and Thursday. \n\n\n\n\n\n\n\n\n\nCost: $40 per year
URL:https://seniorocity.com.au/whats-on-perth/snooker/2026-05-19/
LOCATION:Mildenhall\, 49 Beddi Road\, Duncraig\, WA\, 6023\, Australia
CATEGORIES:Club,Games,Meet New People,Social,Sport Activities
ATTACH;FMTTYPE=image/png:https://seniorocity.com.au/wp-content/uploads/2026/01/Snooker.png
END:VEVENT
BEGIN:VEVENT
DTSTART;TZID=Australia/Perth:20260521T130000
DTEND;TZID=Australia/Perth:20260521T160000
DTSTAMP:20260420T125842
CREATED:20260117T144203Z
LAST-MODIFIED:20260117T144203Z
UID:10862212-1779368400-1779379200@seniorocity.com.au
SUMMARY:Snooker
DESCRIPTION:If you are aged over 55 years\, come along for a snooker afternoon every Tuesday and Thursday. \n\n\n\n\n\n\n\n\n\nCost: $40 per year
URL:https://seniorocity.com.au/whats-on-perth/snooker/2026-05-21/
LOCATION:Mildenhall\, 49 Beddi Road\, Duncraig\, WA\, 6023\, Australia
CATEGORIES:Club,Games,Meet New People,Social,Sport Activities
ATTACH;FMTTYPE=image/png:https://seniorocity.com.au/wp-content/uploads/2026/01/Snooker.png
END:VEVENT
BEGIN:VEVENT
DTSTART;TZID=Australia/Perth:20260526T130000
DTEND;TZID=Australia/Perth:20260526T160000
DTSTAMP:20260420T125842
CREATED:20260117T144203Z
LAST-MODIFIED:20260117T144203Z
UID:10862213-1779800400-1779811200@seniorocity.com.au
SUMMARY:Snooker
DESCRIPTION:If you are aged over 55 years\, come along for a snooker afternoon every Tuesday and Thursday. \n\n\n\n\n\n\n\n\n\nCost: $40 per year
URL:https://seniorocity.com.au/whats-on-perth/snooker/2026-05-26/
LOCATION:Mildenhall\, 49 Beddi Road\, Duncraig\, WA\, 6023\, Australia
CATEGORIES:Club,Games,Meet New People,Social,Sport Activities
ATTACH;FMTTYPE=image/png:https://seniorocity.com.au/wp-content/uploads/2026/01/Snooker.png
END:VEVENT
BEGIN:VEVENT
DTSTART;TZID=Australia/Perth:20260528T130000
DTEND;TZID=Australia/Perth:20260528T160000
DTSTAMP:20260420T125842
CREATED:20260117T144203Z
LAST-MODIFIED:20260117T144203Z
UID:10862214-1779973200-1779984000@seniorocity.com.au
SUMMARY:Snooker
DESCRIPTION:If you are aged over 55 years\, come along for a snooker afternoon every Tuesday and Thursday. \n\n\n\n\n\n\n\n\n\nCost: $40 per year
URL:https://seniorocity.com.au/whats-on-perth/snooker/2026-05-28/
LOCATION:Mildenhall\, 49 Beddi Road\, Duncraig\, WA\, 6023\, Australia
CATEGORIES:Club,Games,Meet New People,Social,Sport Activities
ATTACH;FMTTYPE=image/png:https://seniorocity.com.au/wp-content/uploads/2026/01/Snooker.png
END:VEVENT
BEGIN:VEVENT
DTSTART;TZID=Australia/Perth:20260602T130000
DTEND;TZID=Australia/Perth:20260602T160000
DTSTAMP:20260420T125842
CREATED:20260117T144203Z
LAST-MODIFIED:20260117T144203Z
UID:10862215-1780405200-1780416000@seniorocity.com.au
SUMMARY:Snooker
DESCRIPTION:If you are aged over 55 years\, come along for a snooker afternoon every Tuesday and Thursday. \n\n\n\n\n\n\n\n\n\nCost: $40 per year
URL:https://seniorocity.com.au/whats-on-perth/snooker/2026-06-02/
LOCATION:Mildenhall\, 49 Beddi Road\, Duncraig\, WA\, 6023\, Australia
CATEGORIES:Club,Games,Meet New People,Social,Sport Activities
ATTACH;FMTTYPE=image/png:https://seniorocity.com.au/wp-content/uploads/2026/01/Snooker.png
END:VEVENT
BEGIN:VEVENT
DTSTART;TZID=Australia/Perth:20260604T130000
DTEND;TZID=Australia/Perth:20260604T160000
DTSTAMP:20260420T125842
CREATED:20260117T144203Z
LAST-MODIFIED:20260117T144203Z
UID:10862216-1780578000-1780588800@seniorocity.com.au
SUMMARY:Snooker
DESCRIPTION:If you are aged over 55 years\, come along for a snooker afternoon every Tuesday and Thursday. \n\n\n\n\n\n\n\n\n\nCost: $40 per year
URL:https://seniorocity.com.au/whats-on-perth/snooker/2026-06-04/
LOCATION:Mildenhall\, 49 Beddi Road\, Duncraig\, WA\, 6023\, Australia
CATEGORIES:Club,Games,Meet New People,Social,Sport Activities
ATTACH;FMTTYPE=image/png:https://seniorocity.com.au/wp-content/uploads/2026/01/Snooker.png
END:VEVENT
BEGIN:VEVENT
DTSTART;TZID=Australia/Perth:20260609T130000
DTEND;TZID=Australia/Perth:20260609T160000
DTSTAMP:20260420T125842
CREATED:20260117T144203Z
LAST-MODIFIED:20260117T144203Z
UID:10862217-1781010000-1781020800@seniorocity.com.au
SUMMARY:Snooker
DESCRIPTION:If you are aged over 55 years\, come along for a snooker afternoon every Tuesday and Thursday. \n\n\n\n\n\n\n\n\n\nCost: $40 per year
URL:https://seniorocity.com.au/whats-on-perth/snooker/2026-06-09/
LOCATION:Mildenhall\, 49 Beddi Road\, Duncraig\, WA\, 6023\, Australia
CATEGORIES:Club,Games,Meet New People,Social,Sport Activities
ATTACH;FMTTYPE=image/png:https://seniorocity.com.au/wp-content/uploads/2026/01/Snooker.png
END:VEVENT
BEGIN:VEVENT
DTSTART;TZID=Australia/Perth:20260611T130000
DTEND;TZID=Australia/Perth:20260611T160000
DTSTAMP:20260420T125842
CREATED:20260117T144203Z
LAST-MODIFIED:20260117T144203Z
UID:10862218-1781182800-1781193600@seniorocity.com.au
SUMMARY:Snooker
DESCRIPTION:If you are aged over 55 years\, come along for a snooker afternoon every Tuesday and Thursday. \n\n\n\n\n\n\n\n\n\nCost: $40 per year
URL:https://seniorocity.com.au/whats-on-perth/snooker/2026-06-11/
LOCATION:Mildenhall\, 49 Beddi Road\, Duncraig\, WA\, 6023\, Australia
CATEGORIES:Club,Games,Meet New People,Social,Sport Activities
ATTACH;FMTTYPE=image/png:https://seniorocity.com.au/wp-content/uploads/2026/01/Snooker.png
END:VEVENT
BEGIN:VEVENT
DTSTART;TZID=Australia/Perth:20260616T130000
DTEND;TZID=Australia/Perth:20260616T160000
DTSTAMP:20260420T125842
CREATED:20260117T144203Z
LAST-MODIFIED:20260117T144203Z
UID:10862219-1781614800-1781625600@seniorocity.com.au
SUMMARY:Snooker
DESCRIPTION:If you are aged over 55 years\, come along for a snooker afternoon every Tuesday and Thursday. \n\n\n\n\n\n\n\n\n\nCost: $40 per year
URL:https://seniorocity.com.au/whats-on-perth/snooker/2026-06-16/
LOCATION:Mildenhall\, 49 Beddi Road\, Duncraig\, WA\, 6023\, Australia
CATEGORIES:Club,Games,Meet New People,Social,Sport Activities
ATTACH;FMTTYPE=image/png:https://seniorocity.com.au/wp-content/uploads/2026/01/Snooker.png
END:VEVENT
BEGIN:VEVENT
DTSTART;TZID=Australia/Perth:20260618T130000
DTEND;TZID=Australia/Perth:20260618T160000
DTSTAMP:20260420T125842
CREATED:20260117T144203Z
LAST-MODIFIED:20260117T144203Z
UID:10862220-1781787600-1781798400@seniorocity.com.au
SUMMARY:Snooker
DESCRIPTION:If you are aged over 55 years\, come along for a snooker afternoon every Tuesday and Thursday. \n\n\n\n\n\n\n\n\n\nCost: $40 per year
URL:https://seniorocity.com.au/whats-on-perth/snooker/2026-06-18/
LOCATION:Mildenhall\, 49 Beddi Road\, Duncraig\, WA\, 6023\, Australia
CATEGORIES:Club,Games,Meet New People,Social,Sport Activities
ATTACH;FMTTYPE=image/png:https://seniorocity.com.au/wp-content/uploads/2026/01/Snooker.png
END:VEVENT
BEGIN:VEVENT
DTSTART;TZID=Australia/Perth:20260623T130000
DTEND;TZID=Australia/Perth:20260623T160000
DTSTAMP:20260420T125842
CREATED:20260117T144203Z
LAST-MODIFIED:20260117T144203Z
UID:10862221-1782219600-1782230400@seniorocity.com.au
SUMMARY:Snooker
DESCRIPTION:If you are aged over 55 years\, come along for a snooker afternoon every Tuesday and Thursday. \n\n\n\n\n\n\n\n\n\nCost: $40 per year
URL:https://seniorocity.com.au/whats-on-perth/snooker/2026-06-23/
LOCATION:Mildenhall\, 49 Beddi Road\, Duncraig\, WA\, 6023\, Australia
CATEGORIES:Club,Games,Meet New People,Social,Sport Activities
ATTACH;FMTTYPE=image/png:https://seniorocity.com.au/wp-content/uploads/2026/01/Snooker.png
END:VEVENT
BEGIN:VEVENT
DTSTART;TZID=Australia/Perth:20260625T130000
DTEND;TZID=Australia/Perth:20260625T160000
DTSTAMP:20260420T125842
CREATED:20260117T144203Z
LAST-MODIFIED:20260117T144203Z
UID:10862222-1782392400-1782403200@seniorocity.com.au
SUMMARY:Snooker
DESCRIPTION:If you are aged over 55 years\, come along for a snooker afternoon every Tuesday and Thursday. \n\n\n\n\n\n\n\n\n\nCost: $40 per year
URL:https://seniorocity.com.au/whats-on-perth/snooker/2026-06-25/
LOCATION:Mildenhall\, 49 Beddi Road\, Duncraig\, WA\, 6023\, Australia
CATEGORIES:Club,Games,Meet New People,Social,Sport Activities
ATTACH;FMTTYPE=image/png:https://seniorocity.com.au/wp-content/uploads/2026/01/Snooker.png
END:VEVENT
BEGIN:VEVENT
DTSTART;TZID=Australia/Perth:20260630T130000
DTEND;TZID=Australia/Perth:20260630T160000
DTSTAMP:20260420T125842
CREATED:20260117T144203Z
LAST-MODIFIED:20260117T144203Z
UID:10862223-1782824400-1782835200@seniorocity.com.au
SUMMARY:Snooker
DESCRIPTION:If you are aged over 55 years\, come along for a snooker afternoon every Tuesday and Thursday. \n\n\n\n\n\n\n\n\n\nCost: $40 per year
URL:https://seniorocity.com.au/whats-on-perth/snooker/2026-06-30/
LOCATION:Mildenhall\, 49 Beddi Road\, Duncraig\, WA\, 6023\, Australia
CATEGORIES:Club,Games,Meet New People,Social,Sport Activities
ATTACH;FMTTYPE=image/png:https://seniorocity.com.au/wp-content/uploads/2026/01/Snooker.png
END:VEVENT
BEGIN:VEVENT
DTSTART;TZID=Australia/Perth:20260702T130000
DTEND;TZID=Australia/Perth:20260702T160000
DTSTAMP:20260420T125842
CREATED:20260117T144203Z
LAST-MODIFIED:20260117T144203Z
UID:10862224-1782997200-1783008000@seniorocity.com.au
SUMMARY:Snooker
DESCRIPTION:If you are aged over 55 years\, come along for a snooker afternoon every Tuesday and Thursday. \n\n\n\n\n\n\n\n\n\nCost: $40 per year
URL:https://seniorocity.com.au/whats-on-perth/snooker/2026-07-02/
LOCATION:Mildenhall\, 49 Beddi Road\, Duncraig\, WA\, 6023\, Australia
CATEGORIES:Club,Games,Meet New People,Social,Sport Activities
ATTACH;FMTTYPE=image/png:https://seniorocity.com.au/wp-content/uploads/2026/01/Snooker.png
END:VEVENT
BEGIN:VEVENT
DTSTART;TZID=Australia/Perth:20260707T130000
DTEND;TZID=Australia/Perth:20260707T160000
DTSTAMP:20260420T125842
CREATED:20260117T144203Z
LAST-MODIFIED:20260117T144203Z
UID:10862225-1783429200-1783440000@seniorocity.com.au
SUMMARY:Snooker
DESCRIPTION:If you are aged over 55 years\, come along for a snooker afternoon every Tuesday and Thursday. \n\n\n\n\n\n\n\n\n\nCost: $40 per year
URL:https://seniorocity.com.au/whats-on-perth/snooker/2026-07-07/
LOCATION:Mildenhall\, 49 Beddi Road\, Duncraig\, WA\, 6023\, Australia
CATEGORIES:Club,Games,Meet New People,Social,Sport Activities
ATTACH;FMTTYPE=image/png:https://seniorocity.com.au/wp-content/uploads/2026/01/Snooker.png
END:VEVENT
BEGIN:VEVENT
DTSTART;TZID=Australia/Perth:20260709T130000
DTEND;TZID=Australia/Perth:20260709T160000
DTSTAMP:20260420T125842
CREATED:20260117T144203Z
LAST-MODIFIED:20260117T144203Z
UID:10862226-1783602000-1783612800@seniorocity.com.au
SUMMARY:Snooker
DESCRIPTION:If you are aged over 55 years\, come along for a snooker afternoon every Tuesday and Thursday. \n\n\n\n\n\n\n\n\n\nCost: $40 per year
URL:https://seniorocity.com.au/whats-on-perth/snooker/2026-07-09/
LOCATION:Mildenhall\, 49 Beddi Road\, Duncraig\, WA\, 6023\, Australia
CATEGORIES:Club,Games,Meet New People,Social,Sport Activities
ATTACH;FMTTYPE=image/png:https://seniorocity.com.au/wp-content/uploads/2026/01/Snooker.png
END:VEVENT
BEGIN:VEVENT
DTSTART;TZID=Australia/Perth:20260714T130000
DTEND;TZID=Australia/Perth:20260714T160000
DTSTAMP:20260420T125842
CREATED:20260117T144203Z
LAST-MODIFIED:20260117T144203Z
UID:10862227-1784034000-1784044800@seniorocity.com.au
SUMMARY:Snooker
DESCRIPTION:If you are aged over 55 years\, come along for a snooker afternoon every Tuesday and Thursday. \n\n\n\n\n\n\n\n\n\nCost: $40 per year
URL:https://seniorocity.com.au/whats-on-perth/snooker/2026-07-14/
LOCATION:Mildenhall\, 49 Beddi Road\, Duncraig\, WA\, 6023\, Australia
CATEGORIES:Club,Games,Meet New People,Social,Sport Activities
ATTACH;FMTTYPE=image/png:https://seniorocity.com.au/wp-content/uploads/2026/01/Snooker.png
END:VEVENT
BEGIN:VEVENT
DTSTART;TZID=Australia/Perth:20260716T130000
DTEND;TZID=Australia/Perth:20260716T160000
DTSTAMP:20260420T125842
CREATED:20260117T144203Z
LAST-MODIFIED:20260117T144203Z
UID:10862228-1784206800-1784217600@seniorocity.com.au
SUMMARY:Snooker
DESCRIPTION:If you are aged over 55 years\, come along for a snooker afternoon every Tuesday and Thursday. \n\n\n\n\n\n\n\n\n\nCost: $40 per year
URL:https://seniorocity.com.au/whats-on-perth/snooker/2026-07-16/
LOCATION:Mildenhall\, 49 Beddi Road\, Duncraig\, WA\, 6023\, Australia
CATEGORIES:Club,Games,Meet New People,Social,Sport Activities
ATTACH;FMTTYPE=image/png:https://seniorocity.com.au/wp-content/uploads/2026/01/Snooker.png
END:VEVENT
BEGIN:VEVENT
DTSTART;TZID=Australia/Perth:20260721T130000
DTEND;TZID=Australia/Perth:20260721T160000
DTSTAMP:20260420T125842
CREATED:20260117T144203Z
LAST-MODIFIED:20260117T144203Z
UID:10862229-1784638800-1784649600@seniorocity.com.au
SUMMARY:Snooker
DESCRIPTION:If you are aged over 55 years\, come along for a snooker afternoon every Tuesday and Thursday. \n\n\n\n\n\n\n\n\n\nCost: $40 per year
URL:https://seniorocity.com.au/whats-on-perth/snooker/2026-07-21/
LOCATION:Mildenhall\, 49 Beddi Road\, Duncraig\, WA\, 6023\, Australia
CATEGORIES:Club,Games,Meet New People,Social,Sport Activities
ATTACH;FMTTYPE=image/png:https://seniorocity.com.au/wp-content/uploads/2026/01/Snooker.png
END:VEVENT
BEGIN:VEVENT
DTSTART;TZID=Australia/Perth:20260723T130000
DTEND;TZID=Australia/Perth:20260723T160000
DTSTAMP:20260420T125842
CREATED:20260117T144203Z
LAST-MODIFIED:20260117T144203Z
UID:10862230-1784811600-1784822400@seniorocity.com.au
SUMMARY:Snooker
DESCRIPTION:If you are aged over 55 years\, come along for a snooker afternoon every Tuesday and Thursday. \n\n\n\n\n\n\n\n\n\nCost: $40 per year
URL:https://seniorocity.com.au/whats-on-perth/snooker/2026-07-23/
LOCATION:Mildenhall\, 49 Beddi Road\, Duncraig\, WA\, 6023\, Australia
CATEGORIES:Club,Games,Meet New People,Social,Sport Activities
ATTACH;FMTTYPE=image/png:https://seniorocity.com.au/wp-content/uploads/2026/01/Snooker.png
END:VEVENT
BEGIN:VEVENT
DTSTART;TZID=Australia/Perth:20260728T130000
DTEND;TZID=Australia/Perth:20260728T160000
DTSTAMP:20260420T125842
CREATED:20260117T144203Z
LAST-MODIFIED:20260117T144203Z
UID:10862231-1785243600-1785254400@seniorocity.com.au
SUMMARY:Snooker
DESCRIPTION:If you are aged over 55 years\, come along for a snooker afternoon every Tuesday and Thursday. \n\n\n\n\n\n\n\n\n\nCost: $40 per year
URL:https://seniorocity.com.au/whats-on-perth/snooker/2026-07-28/
LOCATION:Mildenhall\, 49 Beddi Road\, Duncraig\, WA\, 6023\, Australia
CATEGORIES:Club,Games,Meet New People,Social,Sport Activities
ATTACH;FMTTYPE=image/png:https://seniorocity.com.au/wp-content/uploads/2026/01/Snooker.png
END:VEVENT
BEGIN:VEVENT
DTSTART;TZID=Australia/Perth:20260730T130000
DTEND;TZID=Australia/Perth:20260730T160000
DTSTAMP:20260420T125842
CREATED:20260117T144203Z
LAST-MODIFIED:20260117T144203Z
UID:10862232-1785416400-1785427200@seniorocity.com.au
SUMMARY:Snooker
DESCRIPTION:If you are aged over 55 years\, come along for a snooker afternoon every Tuesday and Thursday. \n\n\n\n\n\n\n\n\n\nCost: $40 per year
URL:https://seniorocity.com.au/whats-on-perth/snooker/2026-07-30/
LOCATION:Mildenhall\, 49 Beddi Road\, Duncraig\, WA\, 6023\, Australia
CATEGORIES:Club,Games,Meet New People,Social,Sport Activities
ATTACH;FMTTYPE=image/png:https://seniorocity.com.au/wp-content/uploads/2026/01/Snooker.png
END:VEVENT
END:VCALENDAR