BEGIN:VCALENDAR
VERSION:2.0
PRODID:-//Seniorocity - Seniors / Over 55&#039;s Guide to Perth - ECPv6.15.11//NONSGML v1.0//EN
CALSCALE:GREGORIAN
METHOD:PUBLISH
X-WR-CALNAME:Seniorocity - Seniors / Over 55&#039;s Guide to Perth
X-ORIGINAL-URL:https://seniorocity.com.au
X-WR-CALDESC:Events for Seniorocity - Seniors / Over 55&#039;s Guide to Perth
REFRESH-INTERVAL;VALUE=DURATION:PT1H
X-Robots-Tag:noindex
X-PUBLISHED-TTL:PT1H
BEGIN:VTIMEZONE
TZID:Australia/Perth
BEGIN:STANDARD
TZOFFSETFROM:+0800
TZOFFSETTO:+0800
TZNAME:AWST
DTSTART:20250101T000000
END:STANDARD
END:VTIMEZONE
BEGIN:VEVENT
DTSTART;TZID=Australia/Perth:20260520T140000
DTEND;TZID=Australia/Perth:20260520T160000
DTSTAMP:20260420T185944
CREATED:20260119T022352Z
LAST-MODIFIED:20260119T022352Z
UID:10862517-1779285600-1779292800@seniorocity.com.au
SUMMARY:Jigsaw group
DESCRIPTION:Challenge your memory and spatial reasoning as you explore a variety of puzzles and connect with fellow puzzle lovers. \nIt’s a fun\, social way to keep your brain active and enjoy the satisfaction of solving puzzles together.
URL:https://seniorocity.com.au/whats-on-perth/jigsaw-group-2/2026-05-20/
LOCATION:Duncraig Library\, Cnr Warwick Road and Marmion Avenue\, Duncraig\, WA\, Australia
CATEGORIES:Free,Games,Library Events,Social
ATTACH;FMTTYPE=image/jpeg:https://seniorocity.com.au/wp-content/uploads/2026/01/Jigsaw-group.jpg
GEO:-31.8348164;115.7644252
X-APPLE-STRUCTURED-LOCATION;VALUE=URI;X-ADDRESS=Duncraig Library Cnr Warwick Road and Marmion Avenue Duncraig WA Australia;X-APPLE-RADIUS=500;X-TITLE=Cnr Warwick Road and Marmion Avenue:geo:115.7644252,-31.8348164
END:VEVENT
BEGIN:VEVENT
DTSTART;TZID=Australia/Perth:20260617T140000
DTEND;TZID=Australia/Perth:20260617T160000
DTSTAMP:20260420T185944
CREATED:20260119T022352Z
LAST-MODIFIED:20260119T022352Z
UID:10862518-1781704800-1781712000@seniorocity.com.au
SUMMARY:Jigsaw group
DESCRIPTION:Challenge your memory and spatial reasoning as you explore a variety of puzzles and connect with fellow puzzle lovers. \nIt’s a fun\, social way to keep your brain active and enjoy the satisfaction of solving puzzles together.
URL:https://seniorocity.com.au/whats-on-perth/jigsaw-group-2/2026-06-17/
LOCATION:Duncraig Library\, Cnr Warwick Road and Marmion Avenue\, Duncraig\, WA\, Australia
CATEGORIES:Free,Games,Library Events,Social
ATTACH;FMTTYPE=image/jpeg:https://seniorocity.com.au/wp-content/uploads/2026/01/Jigsaw-group.jpg
GEO:-31.8348164;115.7644252
X-APPLE-STRUCTURED-LOCATION;VALUE=URI;X-ADDRESS=Duncraig Library Cnr Warwick Road and Marmion Avenue Duncraig WA Australia;X-APPLE-RADIUS=500;X-TITLE=Cnr Warwick Road and Marmion Avenue:geo:115.7644252,-31.8348164
END:VEVENT
BEGIN:VEVENT
DTSTART;TZID=Australia/Perth:20260715T140000
DTEND;TZID=Australia/Perth:20260715T160000
DTSTAMP:20260420T185944
CREATED:20260119T022352Z
LAST-MODIFIED:20260119T022352Z
UID:10862519-1784124000-1784131200@seniorocity.com.au
SUMMARY:Jigsaw group
DESCRIPTION:Challenge your memory and spatial reasoning as you explore a variety of puzzles and connect with fellow puzzle lovers. \nIt’s a fun\, social way to keep your brain active and enjoy the satisfaction of solving puzzles together.
URL:https://seniorocity.com.au/whats-on-perth/jigsaw-group-2/2026-07-15/
LOCATION:Duncraig Library\, Cnr Warwick Road and Marmion Avenue\, Duncraig\, WA\, Australia
CATEGORIES:Free,Games,Library Events,Social
ATTACH;FMTTYPE=image/jpeg:https://seniorocity.com.au/wp-content/uploads/2026/01/Jigsaw-group.jpg
GEO:-31.8348164;115.7644252
X-APPLE-STRUCTURED-LOCATION;VALUE=URI;X-ADDRESS=Duncraig Library Cnr Warwick Road and Marmion Avenue Duncraig WA Australia;X-APPLE-RADIUS=500;X-TITLE=Cnr Warwick Road and Marmion Avenue:geo:115.7644252,-31.8348164
END:VEVENT
BEGIN:VEVENT
DTSTART;TZID=Australia/Perth:20260819T140000
DTEND;TZID=Australia/Perth:20260819T160000
DTSTAMP:20260420T185944
CREATED:20260119T022352Z
LAST-MODIFIED:20260119T022352Z
UID:10862520-1787148000-1787155200@seniorocity.com.au
SUMMARY:Jigsaw group
DESCRIPTION:Challenge your memory and spatial reasoning as you explore a variety of puzzles and connect with fellow puzzle lovers. \nIt’s a fun\, social way to keep your brain active and enjoy the satisfaction of solving puzzles together.
URL:https://seniorocity.com.au/whats-on-perth/jigsaw-group-2/2026-08-19/
LOCATION:Duncraig Library\, Cnr Warwick Road and Marmion Avenue\, Duncraig\, WA\, Australia
CATEGORIES:Free,Games,Library Events,Social
ATTACH;FMTTYPE=image/jpeg:https://seniorocity.com.au/wp-content/uploads/2026/01/Jigsaw-group.jpg
GEO:-31.8348164;115.7644252
X-APPLE-STRUCTURED-LOCATION;VALUE=URI;X-ADDRESS=Duncraig Library Cnr Warwick Road and Marmion Avenue Duncraig WA Australia;X-APPLE-RADIUS=500;X-TITLE=Cnr Warwick Road and Marmion Avenue:geo:115.7644252,-31.8348164
END:VEVENT
BEGIN:VEVENT
DTSTART;TZID=Australia/Perth:20260916T140000
DTEND;TZID=Australia/Perth:20260916T160000
DTSTAMP:20260420T185944
CREATED:20260119T022352Z
LAST-MODIFIED:20260119T022352Z
UID:10862521-1789567200-1789574400@seniorocity.com.au
SUMMARY:Jigsaw group
DESCRIPTION:Challenge your memory and spatial reasoning as you explore a variety of puzzles and connect with fellow puzzle lovers. \nIt’s a fun\, social way to keep your brain active and enjoy the satisfaction of solving puzzles together.
URL:https://seniorocity.com.au/whats-on-perth/jigsaw-group-2/2026-09-16/
LOCATION:Duncraig Library\, Cnr Warwick Road and Marmion Avenue\, Duncraig\, WA\, Australia
CATEGORIES:Free,Games,Library Events,Social
ATTACH;FMTTYPE=image/jpeg:https://seniorocity.com.au/wp-content/uploads/2026/01/Jigsaw-group.jpg
GEO:-31.8348164;115.7644252
X-APPLE-STRUCTURED-LOCATION;VALUE=URI;X-ADDRESS=Duncraig Library Cnr Warwick Road and Marmion Avenue Duncraig WA Australia;X-APPLE-RADIUS=500;X-TITLE=Cnr Warwick Road and Marmion Avenue:geo:115.7644252,-31.8348164
END:VEVENT
BEGIN:VEVENT
DTSTART;TZID=Australia/Perth:20261021T140000
DTEND;TZID=Australia/Perth:20261021T160000
DTSTAMP:20260420T185944
CREATED:20260119T022352Z
LAST-MODIFIED:20260119T022352Z
UID:10862522-1792591200-1792598400@seniorocity.com.au
SUMMARY:Jigsaw group
DESCRIPTION:Challenge your memory and spatial reasoning as you explore a variety of puzzles and connect with fellow puzzle lovers. \nIt’s a fun\, social way to keep your brain active and enjoy the satisfaction of solving puzzles together.
URL:https://seniorocity.com.au/whats-on-perth/jigsaw-group-2/2026-10-21/
LOCATION:Duncraig Library\, Cnr Warwick Road and Marmion Avenue\, Duncraig\, WA\, Australia
CATEGORIES:Free,Games,Library Events,Social
ATTACH;FMTTYPE=image/jpeg:https://seniorocity.com.au/wp-content/uploads/2026/01/Jigsaw-group.jpg
GEO:-31.8348164;115.7644252
X-APPLE-STRUCTURED-LOCATION;VALUE=URI;X-ADDRESS=Duncraig Library Cnr Warwick Road and Marmion Avenue Duncraig WA Australia;X-APPLE-RADIUS=500;X-TITLE=Cnr Warwick Road and Marmion Avenue:geo:115.7644252,-31.8348164
END:VEVENT
BEGIN:VEVENT
DTSTART;TZID=Australia/Perth:20261118T140000
DTEND;TZID=Australia/Perth:20261118T160000
DTSTAMP:20260420T185944
CREATED:20260119T022352Z
LAST-MODIFIED:20260119T022352Z
UID:10862523-1795010400-1795017600@seniorocity.com.au
SUMMARY:Jigsaw group
DESCRIPTION:Challenge your memory and spatial reasoning as you explore a variety of puzzles and connect with fellow puzzle lovers. \nIt’s a fun\, social way to keep your brain active and enjoy the satisfaction of solving puzzles together.
URL:https://seniorocity.com.au/whats-on-perth/jigsaw-group-2/2026-11-18/
LOCATION:Duncraig Library\, Cnr Warwick Road and Marmion Avenue\, Duncraig\, WA\, Australia
CATEGORIES:Free,Games,Library Events,Social
ATTACH;FMTTYPE=image/jpeg:https://seniorocity.com.au/wp-content/uploads/2026/01/Jigsaw-group.jpg
GEO:-31.8348164;115.7644252
X-APPLE-STRUCTURED-LOCATION;VALUE=URI;X-ADDRESS=Duncraig Library Cnr Warwick Road and Marmion Avenue Duncraig WA Australia;X-APPLE-RADIUS=500;X-TITLE=Cnr Warwick Road and Marmion Avenue:geo:115.7644252,-31.8348164
END:VEVENT
BEGIN:VEVENT
DTSTART;TZID=Australia/Perth:20261216T140000
DTEND;TZID=Australia/Perth:20261216T160000
DTSTAMP:20260420T185944
CREATED:20260119T022352Z
LAST-MODIFIED:20260119T022352Z
UID:10862524-1797429600-1797436800@seniorocity.com.au
SUMMARY:Jigsaw group
DESCRIPTION:Challenge your memory and spatial reasoning as you explore a variety of puzzles and connect with fellow puzzle lovers. \nIt’s a fun\, social way to keep your brain active and enjoy the satisfaction of solving puzzles together.
URL:https://seniorocity.com.au/whats-on-perth/jigsaw-group-2/2026-12-16/
LOCATION:Duncraig Library\, Cnr Warwick Road and Marmion Avenue\, Duncraig\, WA\, Australia
CATEGORIES:Free,Games,Library Events,Social
ATTACH;FMTTYPE=image/jpeg:https://seniorocity.com.au/wp-content/uploads/2026/01/Jigsaw-group.jpg
GEO:-31.8348164;115.7644252
X-APPLE-STRUCTURED-LOCATION;VALUE=URI;X-ADDRESS=Duncraig Library Cnr Warwick Road and Marmion Avenue Duncraig WA Australia;X-APPLE-RADIUS=500;X-TITLE=Cnr Warwick Road and Marmion Avenue:geo:115.7644252,-31.8348164
END:VEVENT
END:VCALENDAR