BEGIN:VCALENDAR
VERSION:2.0
PRODID:-//Seniorocity - Seniors / Over 55&#039;s Guide to Perth - ECPv6.15.11//NONSGML v1.0//EN
CALSCALE:GREGORIAN
METHOD:PUBLISH
X-WR-CALNAME:Seniorocity - Seniors / Over 55&#039;s Guide to Perth
X-ORIGINAL-URL:https://seniorocity.com.au
X-WR-CALDESC:Events for Seniorocity - Seniors / Over 55&#039;s Guide to Perth
REFRESH-INTERVAL;VALUE=DURATION:PT1H
X-Robots-Tag:noindex
X-PUBLISHED-TTL:PT1H
BEGIN:VTIMEZONE
TZID:Australia/Perth
BEGIN:STANDARD
TZOFFSETFROM:+0800
TZOFFSETTO:+0800
TZNAME:AWST
DTSTART:20250101T000000
END:STANDARD
END:VTIMEZONE
BEGIN:VEVENT
DTSTART;TZID=Australia/Perth:20260506T133000
DTEND;TZID=Australia/Perth:20260506T143000
DTSTAMP:20260421T121629
CREATED:20260212T114613Z
LAST-MODIFIED:20260212T114613Z
UID:10863520-1778074200-1778077800@seniorocity.com.au
SUMMARY:Wednesday Book Club
DESCRIPTION:Explore best-selling authors such as Di Morrisey\, David Baldacci and Tana French each month in this diverse and welcoming group.\n\n\n\n\n\n\nFor adults and young people 16+ \nThis monthly program will be held in the Innovation Lab\, Ruth Faulkner Library \nIf you are looking for your next great read\, here is your chance to discuss and review books of all genres and meet like-minded readers. \nTo register your interest\, please complete the online Book Club Expression of Interest form or call (08) 9477 7150. We will contact you when an opening in the program becomes available.
URL:https://seniorocity.com.au/whats-on-perth/wednesday-book-club/2026-05-06/
LOCATION:Innovation Lab\, Ruth Faulkner Library\, 213 Wright Street\, Cloverdale\, WA\, 6105\, Australia
CATEGORIES:Club,Free,Library Events
ATTACH;FMTTYPE=image/png:https://seniorocity.com.au/wp-content/uploads/2026/02/Wednesday-Book-Club.png
END:VEVENT
BEGIN:VEVENT
DTSTART;TZID=Australia/Perth:20260603T133000
DTEND;TZID=Australia/Perth:20260603T143000
DTSTAMP:20260421T121629
CREATED:20260212T114613Z
LAST-MODIFIED:20260212T114613Z
UID:10863521-1780493400-1780497000@seniorocity.com.au
SUMMARY:Wednesday Book Club
DESCRIPTION:Explore best-selling authors such as Di Morrisey\, David Baldacci and Tana French each month in this diverse and welcoming group.\n\n\n\n\n\n\nFor adults and young people 16+ \nThis monthly program will be held in the Innovation Lab\, Ruth Faulkner Library \nIf you are looking for your next great read\, here is your chance to discuss and review books of all genres and meet like-minded readers. \nTo register your interest\, please complete the online Book Club Expression of Interest form or call (08) 9477 7150. We will contact you when an opening in the program becomes available.
URL:https://seniorocity.com.au/whats-on-perth/wednesday-book-club/2026-06-03/
LOCATION:Innovation Lab\, Ruth Faulkner Library\, 213 Wright Street\, Cloverdale\, WA\, 6105\, Australia
CATEGORIES:Club,Free,Library Events
ATTACH;FMTTYPE=image/png:https://seniorocity.com.au/wp-content/uploads/2026/02/Wednesday-Book-Club.png
END:VEVENT
BEGIN:VEVENT
DTSTART;TZID=Australia/Perth:20260701T133000
DTEND;TZID=Australia/Perth:20260701T143000
DTSTAMP:20260421T121629
CREATED:20260212T114613Z
LAST-MODIFIED:20260212T114613Z
UID:10863522-1782912600-1782916200@seniorocity.com.au
SUMMARY:Wednesday Book Club
DESCRIPTION:Explore best-selling authors such as Di Morrisey\, David Baldacci and Tana French each month in this diverse and welcoming group.\n\n\n\n\n\n\nFor adults and young people 16+ \nThis monthly program will be held in the Innovation Lab\, Ruth Faulkner Library \nIf you are looking for your next great read\, here is your chance to discuss and review books of all genres and meet like-minded readers. \nTo register your interest\, please complete the online Book Club Expression of Interest form or call (08) 9477 7150. We will contact you when an opening in the program becomes available.
URL:https://seniorocity.com.au/whats-on-perth/wednesday-book-club/2026-07-01/
LOCATION:Innovation Lab\, Ruth Faulkner Library\, 213 Wright Street\, Cloverdale\, WA\, 6105\, Australia
CATEGORIES:Club,Free,Library Events
ATTACH;FMTTYPE=image/png:https://seniorocity.com.au/wp-content/uploads/2026/02/Wednesday-Book-Club.png
END:VEVENT
BEGIN:VEVENT
DTSTART;TZID=Australia/Perth:20260805T133000
DTEND;TZID=Australia/Perth:20260805T143000
DTSTAMP:20260421T121629
CREATED:20260212T114613Z
LAST-MODIFIED:20260212T114613Z
UID:10863523-1785936600-1785940200@seniorocity.com.au
SUMMARY:Wednesday Book Club
DESCRIPTION:Explore best-selling authors such as Di Morrisey\, David Baldacci and Tana French each month in this diverse and welcoming group.\n\n\n\n\n\n\nFor adults and young people 16+ \nThis monthly program will be held in the Innovation Lab\, Ruth Faulkner Library \nIf you are looking for your next great read\, here is your chance to discuss and review books of all genres and meet like-minded readers. \nTo register your interest\, please complete the online Book Club Expression of Interest form or call (08) 9477 7150. We will contact you when an opening in the program becomes available.
URL:https://seniorocity.com.au/whats-on-perth/wednesday-book-club/2026-08-05/
LOCATION:Innovation Lab\, Ruth Faulkner Library\, 213 Wright Street\, Cloverdale\, WA\, 6105\, Australia
CATEGORIES:Club,Free,Library Events
ATTACH;FMTTYPE=image/png:https://seniorocity.com.au/wp-content/uploads/2026/02/Wednesday-Book-Club.png
END:VEVENT
BEGIN:VEVENT
DTSTART;TZID=Australia/Perth:20260902T133000
DTEND;TZID=Australia/Perth:20260902T143000
DTSTAMP:20260421T121629
CREATED:20260212T114613Z
LAST-MODIFIED:20260212T114613Z
UID:10863524-1788355800-1788359400@seniorocity.com.au
SUMMARY:Wednesday Book Club
DESCRIPTION:Explore best-selling authors such as Di Morrisey\, David Baldacci and Tana French each month in this diverse and welcoming group.\n\n\n\n\n\n\nFor adults and young people 16+ \nThis monthly program will be held in the Innovation Lab\, Ruth Faulkner Library \nIf you are looking for your next great read\, here is your chance to discuss and review books of all genres and meet like-minded readers. \nTo register your interest\, please complete the online Book Club Expression of Interest form or call (08) 9477 7150. We will contact you when an opening in the program becomes available.
URL:https://seniorocity.com.au/whats-on-perth/wednesday-book-club/2026-09-02/
LOCATION:Innovation Lab\, Ruth Faulkner Library\, 213 Wright Street\, Cloverdale\, WA\, 6105\, Australia
CATEGORIES:Club,Free,Library Events
ATTACH;FMTTYPE=image/png:https://seniorocity.com.au/wp-content/uploads/2026/02/Wednesday-Book-Club.png
END:VEVENT
BEGIN:VEVENT
DTSTART;TZID=Australia/Perth:20261007T133000
DTEND;TZID=Australia/Perth:20261007T143000
DTSTAMP:20260421T121629
CREATED:20260212T114613Z
LAST-MODIFIED:20260212T114613Z
UID:10863525-1791379800-1791383400@seniorocity.com.au
SUMMARY:Wednesday Book Club
DESCRIPTION:Explore best-selling authors such as Di Morrisey\, David Baldacci and Tana French each month in this diverse and welcoming group.\n\n\n\n\n\n\nFor adults and young people 16+ \nThis monthly program will be held in the Innovation Lab\, Ruth Faulkner Library \nIf you are looking for your next great read\, here is your chance to discuss and review books of all genres and meet like-minded readers. \nTo register your interest\, please complete the online Book Club Expression of Interest form or call (08) 9477 7150. We will contact you when an opening in the program becomes available.
URL:https://seniorocity.com.au/whats-on-perth/wednesday-book-club/2026-10-07/
LOCATION:Innovation Lab\, Ruth Faulkner Library\, 213 Wright Street\, Cloverdale\, WA\, 6105\, Australia
CATEGORIES:Club,Free,Library Events
ATTACH;FMTTYPE=image/png:https://seniorocity.com.au/wp-content/uploads/2026/02/Wednesday-Book-Club.png
END:VEVENT
BEGIN:VEVENT
DTSTART;TZID=Australia/Perth:20261104T133000
DTEND;TZID=Australia/Perth:20261104T143000
DTSTAMP:20260421T121629
CREATED:20260212T114613Z
LAST-MODIFIED:20260212T114613Z
UID:10863526-1793799000-1793802600@seniorocity.com.au
SUMMARY:Wednesday Book Club
DESCRIPTION:Explore best-selling authors such as Di Morrisey\, David Baldacci and Tana French each month in this diverse and welcoming group.\n\n\n\n\n\n\nFor adults and young people 16+ \nThis monthly program will be held in the Innovation Lab\, Ruth Faulkner Library \nIf you are looking for your next great read\, here is your chance to discuss and review books of all genres and meet like-minded readers. \nTo register your interest\, please complete the online Book Club Expression of Interest form or call (08) 9477 7150. We will contact you when an opening in the program becomes available.
URL:https://seniorocity.com.au/whats-on-perth/wednesday-book-club/2026-11-04/
LOCATION:Innovation Lab\, Ruth Faulkner Library\, 213 Wright Street\, Cloverdale\, WA\, 6105\, Australia
CATEGORIES:Club,Free,Library Events
ATTACH;FMTTYPE=image/png:https://seniorocity.com.au/wp-content/uploads/2026/02/Wednesday-Book-Club.png
END:VEVENT
BEGIN:VEVENT
DTSTART;TZID=Australia/Perth:20261202T133000
DTEND;TZID=Australia/Perth:20261202T143000
DTSTAMP:20260421T121629
CREATED:20260212T114613Z
LAST-MODIFIED:20260212T114613Z
UID:10863527-1796218200-1796221800@seniorocity.com.au
SUMMARY:Wednesday Book Club
DESCRIPTION:Explore best-selling authors such as Di Morrisey\, David Baldacci and Tana French each month in this diverse and welcoming group.\n\n\n\n\n\n\nFor adults and young people 16+ \nThis monthly program will be held in the Innovation Lab\, Ruth Faulkner Library \nIf you are looking for your next great read\, here is your chance to discuss and review books of all genres and meet like-minded readers. \nTo register your interest\, please complete the online Book Club Expression of Interest form or call (08) 9477 7150. We will contact you when an opening in the program becomes available.
URL:https://seniorocity.com.au/whats-on-perth/wednesday-book-club/2026-12-02/
LOCATION:Innovation Lab\, Ruth Faulkner Library\, 213 Wright Street\, Cloverdale\, WA\, 6105\, Australia
CATEGORIES:Club,Free,Library Events
ATTACH;FMTTYPE=image/png:https://seniorocity.com.au/wp-content/uploads/2026/02/Wednesday-Book-Club.png
END:VEVENT
END:VCALENDAR