BEGIN:VCALENDAR
VERSION:2.0
PRODID:-//Seniorocity - Seniors / Over 55&#039;s Guide to Perth - ECPv6.15.11//NONSGML v1.0//EN
CALSCALE:GREGORIAN
METHOD:PUBLISH
X-WR-CALNAME:Seniorocity - Seniors / Over 55&#039;s Guide to Perth
X-ORIGINAL-URL:https://seniorocity.com.au
X-WR-CALDESC:Events for Seniorocity - Seniors / Over 55&#039;s Guide to Perth
REFRESH-INTERVAL;VALUE=DURATION:PT1H
X-Robots-Tag:noindex
X-PUBLISHED-TTL:PT1H
BEGIN:VTIMEZONE
TZID:Australia/Perth
BEGIN:STANDARD
TZOFFSETFROM:+0800
TZOFFSETTO:+0800
TZNAME:AWST
DTSTART:20250101T000000
END:STANDARD
END:VTIMEZONE
BEGIN:VEVENT
DTSTART;TZID=Australia/Perth:20260513T193000
DTEND;TZID=Australia/Perth:20260513T210000
DTSTAMP:20260422T040804
CREATED:20260215T141057Z
LAST-MODIFIED:20260215T141057Z
UID:10863651-1778700600-1778706000@seniorocity.com.au
SUMMARY:The singing circle Fremantle
DESCRIPTION:A safe place for people to meet and sing. \n\n\nSing for the love of it\, for the fun of it\, to feed your soul and let our songs do the talking. \nNo performances\, just a safe space to explore your voice and sing. No experience or skill necessary\, just enthusiasm! \nFREE! Bookings required. \n 
URL:https://seniorocity.com.au/whats-on-perth/the-singing-circle-fremantle/2026-05-13/
LOCATION:North Fremantle Community Hall\, 2 Thompson Road\, North Fremantle\, WA\, 6159\, Australia
CATEGORIES:Free,Meet New People,Music Event,Social
ATTACH;FMTTYPE=image/jpeg:https://seniorocity.com.au/wp-content/uploads/2026/02/The-singing-circle-Fremantle.jpg
END:VEVENT
BEGIN:VEVENT
DTSTART;TZID=Australia/Perth:20260610T193000
DTEND;TZID=Australia/Perth:20260610T210000
DTSTAMP:20260422T040804
CREATED:20260215T141057Z
LAST-MODIFIED:20260215T141057Z
UID:10863652-1781119800-1781125200@seniorocity.com.au
SUMMARY:The singing circle Fremantle
DESCRIPTION:A safe place for people to meet and sing. \n\n\nSing for the love of it\, for the fun of it\, to feed your soul and let our songs do the talking. \nNo performances\, just a safe space to explore your voice and sing. No experience or skill necessary\, just enthusiasm! \nFREE! Bookings required. \n 
URL:https://seniorocity.com.au/whats-on-perth/the-singing-circle-fremantle/2026-06-10/
LOCATION:North Fremantle Community Hall\, 2 Thompson Road\, North Fremantle\, WA\, 6159\, Australia
CATEGORIES:Free,Meet New People,Music Event,Social
ATTACH;FMTTYPE=image/jpeg:https://seniorocity.com.au/wp-content/uploads/2026/02/The-singing-circle-Fremantle.jpg
END:VEVENT
BEGIN:VEVENT
DTSTART;TZID=Australia/Perth:20260708T193000
DTEND;TZID=Australia/Perth:20260708T210000
DTSTAMP:20260422T040804
CREATED:20260215T141057Z
LAST-MODIFIED:20260215T141057Z
UID:10863653-1783539000-1783544400@seniorocity.com.au
SUMMARY:The singing circle Fremantle
DESCRIPTION:A safe place for people to meet and sing. \n\n\nSing for the love of it\, for the fun of it\, to feed your soul and let our songs do the talking. \nNo performances\, just a safe space to explore your voice and sing. No experience or skill necessary\, just enthusiasm! \nFREE! Bookings required. \n 
URL:https://seniorocity.com.au/whats-on-perth/the-singing-circle-fremantle/2026-07-08/
LOCATION:North Fremantle Community Hall\, 2 Thompson Road\, North Fremantle\, WA\, 6159\, Australia
CATEGORIES:Free,Meet New People,Music Event,Social
ATTACH;FMTTYPE=image/jpeg:https://seniorocity.com.au/wp-content/uploads/2026/02/The-singing-circle-Fremantle.jpg
END:VEVENT
BEGIN:VEVENT
DTSTART;TZID=Australia/Perth:20260812T193000
DTEND;TZID=Australia/Perth:20260812T210000
DTSTAMP:20260422T040804
CREATED:20260215T141057Z
LAST-MODIFIED:20260215T141057Z
UID:10863654-1786563000-1786568400@seniorocity.com.au
SUMMARY:The singing circle Fremantle
DESCRIPTION:A safe place for people to meet and sing. \n\n\nSing for the love of it\, for the fun of it\, to feed your soul and let our songs do the talking. \nNo performances\, just a safe space to explore your voice and sing. No experience or skill necessary\, just enthusiasm! \nFREE! Bookings required. \n 
URL:https://seniorocity.com.au/whats-on-perth/the-singing-circle-fremantle/2026-08-12/
LOCATION:North Fremantle Community Hall\, 2 Thompson Road\, North Fremantle\, WA\, 6159\, Australia
CATEGORIES:Free,Meet New People,Music Event,Social
ATTACH;FMTTYPE=image/jpeg:https://seniorocity.com.au/wp-content/uploads/2026/02/The-singing-circle-Fremantle.jpg
END:VEVENT
BEGIN:VEVENT
DTSTART;TZID=Australia/Perth:20260909T193000
DTEND;TZID=Australia/Perth:20260909T210000
DTSTAMP:20260422T040804
CREATED:20260215T141057Z
LAST-MODIFIED:20260215T141057Z
UID:10863655-1788982200-1788987600@seniorocity.com.au
SUMMARY:The singing circle Fremantle
DESCRIPTION:A safe place for people to meet and sing. \n\n\nSing for the love of it\, for the fun of it\, to feed your soul and let our songs do the talking. \nNo performances\, just a safe space to explore your voice and sing. No experience or skill necessary\, just enthusiasm! \nFREE! Bookings required. \n 
URL:https://seniorocity.com.au/whats-on-perth/the-singing-circle-fremantle/2026-09-09/
LOCATION:North Fremantle Community Hall\, 2 Thompson Road\, North Fremantle\, WA\, 6159\, Australia
CATEGORIES:Free,Meet New People,Music Event,Social
ATTACH;FMTTYPE=image/jpeg:https://seniorocity.com.au/wp-content/uploads/2026/02/The-singing-circle-Fremantle.jpg
END:VEVENT
BEGIN:VEVENT
DTSTART;TZID=Australia/Perth:20261014T193000
DTEND;TZID=Australia/Perth:20261014T210000
DTSTAMP:20260422T040804
CREATED:20260215T141057Z
LAST-MODIFIED:20260215T141057Z
UID:10863656-1792006200-1792011600@seniorocity.com.au
SUMMARY:The singing circle Fremantle
DESCRIPTION:A safe place for people to meet and sing. \n\n\nSing for the love of it\, for the fun of it\, to feed your soul and let our songs do the talking. \nNo performances\, just a safe space to explore your voice and sing. No experience or skill necessary\, just enthusiasm! \nFREE! Bookings required. \n 
URL:https://seniorocity.com.au/whats-on-perth/the-singing-circle-fremantle/2026-10-14/
LOCATION:North Fremantle Community Hall\, 2 Thompson Road\, North Fremantle\, WA\, 6159\, Australia
CATEGORIES:Free,Meet New People,Music Event,Social
ATTACH;FMTTYPE=image/jpeg:https://seniorocity.com.au/wp-content/uploads/2026/02/The-singing-circle-Fremantle.jpg
END:VEVENT
BEGIN:VEVENT
DTSTART;TZID=Australia/Perth:20261111T193000
DTEND;TZID=Australia/Perth:20261111T210000
DTSTAMP:20260422T040804
CREATED:20260215T141057Z
LAST-MODIFIED:20260215T141057Z
UID:10863657-1794425400-1794430800@seniorocity.com.au
SUMMARY:The singing circle Fremantle
DESCRIPTION:A safe place for people to meet and sing. \n\n\nSing for the love of it\, for the fun of it\, to feed your soul and let our songs do the talking. \nNo performances\, just a safe space to explore your voice and sing. No experience or skill necessary\, just enthusiasm! \nFREE! Bookings required. \n 
URL:https://seniorocity.com.au/whats-on-perth/the-singing-circle-fremantle/2026-11-11/
LOCATION:North Fremantle Community Hall\, 2 Thompson Road\, North Fremantle\, WA\, 6159\, Australia
CATEGORIES:Free,Meet New People,Music Event,Social
ATTACH;FMTTYPE=image/jpeg:https://seniorocity.com.au/wp-content/uploads/2026/02/The-singing-circle-Fremantle.jpg
END:VEVENT
BEGIN:VEVENT
DTSTART;TZID=Australia/Perth:20261209T193000
DTEND;TZID=Australia/Perth:20261209T210000
DTSTAMP:20260422T040804
CREATED:20260215T141057Z
LAST-MODIFIED:20260215T141057Z
UID:10863658-1796844600-1796850000@seniorocity.com.au
SUMMARY:The singing circle Fremantle
DESCRIPTION:A safe place for people to meet and sing. \n\n\nSing for the love of it\, for the fun of it\, to feed your soul and let our songs do the talking. \nNo performances\, just a safe space to explore your voice and sing. No experience or skill necessary\, just enthusiasm! \nFREE! Bookings required. \n 
URL:https://seniorocity.com.au/whats-on-perth/the-singing-circle-fremantle/2026-12-09/
LOCATION:North Fremantle Community Hall\, 2 Thompson Road\, North Fremantle\, WA\, 6159\, Australia
CATEGORIES:Free,Meet New People,Music Event,Social
ATTACH;FMTTYPE=image/jpeg:https://seniorocity.com.au/wp-content/uploads/2026/02/The-singing-circle-Fremantle.jpg
END:VEVENT
END:VCALENDAR