BEGIN:VCALENDAR
VERSION:2.0
PRODID:-//Seniorocity - Seniors / Over 55&#039;s Guide to Perth - ECPv6.15.11//NONSGML v1.0//EN
CALSCALE:GREGORIAN
METHOD:PUBLISH
X-WR-CALNAME:Seniorocity - Seniors / Over 55&#039;s Guide to Perth
X-ORIGINAL-URL:https://seniorocity.com.au
X-WR-CALDESC:Events for Seniorocity - Seniors / Over 55&#039;s Guide to Perth
REFRESH-INTERVAL;VALUE=DURATION:PT1H
X-Robots-Tag:noindex
X-PUBLISHED-TTL:PT1H
BEGIN:VTIMEZONE
TZID:Australia/Perth
BEGIN:STANDARD
TZOFFSETFROM:+0800
TZOFFSETTO:+0800
TZNAME:AWST
DTSTART:20250101T000000
END:STANDARD
END:VTIMEZONE
BEGIN:VEVENT
DTSTART;TZID=Australia/Perth:20260423T140000
DTEND;TZID=Australia/Perth:20260423T160000
DTSTAMP:20260422T071301
CREATED:20260303T141231Z
LAST-MODIFIED:20260303T141231Z
UID:10864051-1776952800-1776960000@seniorocity.com.au
SUMMARY:Board Games Group
DESCRIPTION:Board Games – Fun for everyone \nFor anyone who loves to play board games or wants to learn to play. Bring a friend or neighbour. Games like bingo\, Mexican train and scrabble are played regularly.
URL:https://seniorocity.com.au/whats-on-perth/board-games-group/2026-04-23/
LOCATION:Blue Gum Community Centre\, 33 Moolyeen Road\, Brentwood\, WA\, 6153\, Australia
CATEGORIES:Games,Meet New People,Social
ATTACH;FMTTYPE=image/jpeg:https://seniorocity.com.au/wp-content/uploads/2026/03/Board-Games-Group.jpg
END:VEVENT
BEGIN:VEVENT
DTSTART;TZID=Australia/Perth:20260430T140000
DTEND;TZID=Australia/Perth:20260430T160000
DTSTAMP:20260422T071301
CREATED:20260303T141231Z
LAST-MODIFIED:20260303T141231Z
UID:10864052-1777557600-1777564800@seniorocity.com.au
SUMMARY:Board Games Group
DESCRIPTION:Board Games – Fun for everyone \nFor anyone who loves to play board games or wants to learn to play. Bring a friend or neighbour. Games like bingo\, Mexican train and scrabble are played regularly.
URL:https://seniorocity.com.au/whats-on-perth/board-games-group/2026-04-30/
LOCATION:Blue Gum Community Centre\, 33 Moolyeen Road\, Brentwood\, WA\, 6153\, Australia
CATEGORIES:Games,Meet New People,Social
ATTACH;FMTTYPE=image/jpeg:https://seniorocity.com.au/wp-content/uploads/2026/03/Board-Games-Group.jpg
END:VEVENT
BEGIN:VEVENT
DTSTART;TZID=Australia/Perth:20260507T140000
DTEND;TZID=Australia/Perth:20260507T160000
DTSTAMP:20260422T071301
CREATED:20260303T141231Z
LAST-MODIFIED:20260303T141231Z
UID:10864053-1778162400-1778169600@seniorocity.com.au
SUMMARY:Board Games Group
DESCRIPTION:Board Games – Fun for everyone \nFor anyone who loves to play board games or wants to learn to play. Bring a friend or neighbour. Games like bingo\, Mexican train and scrabble are played regularly.
URL:https://seniorocity.com.au/whats-on-perth/board-games-group/2026-05-07/
LOCATION:Blue Gum Community Centre\, 33 Moolyeen Road\, Brentwood\, WA\, 6153\, Australia
CATEGORIES:Games,Meet New People,Social
ATTACH;FMTTYPE=image/jpeg:https://seniorocity.com.au/wp-content/uploads/2026/03/Board-Games-Group.jpg
END:VEVENT
BEGIN:VEVENT
DTSTART;TZID=Australia/Perth:20260514T140000
DTEND;TZID=Australia/Perth:20260514T160000
DTSTAMP:20260422T071301
CREATED:20260303T141231Z
LAST-MODIFIED:20260303T141231Z
UID:10864054-1778767200-1778774400@seniorocity.com.au
SUMMARY:Board Games Group
DESCRIPTION:Board Games – Fun for everyone \nFor anyone who loves to play board games or wants to learn to play. Bring a friend or neighbour. Games like bingo\, Mexican train and scrabble are played regularly.
URL:https://seniorocity.com.au/whats-on-perth/board-games-group/2026-05-14/
LOCATION:Blue Gum Community Centre\, 33 Moolyeen Road\, Brentwood\, WA\, 6153\, Australia
CATEGORIES:Games,Meet New People,Social
ATTACH;FMTTYPE=image/jpeg:https://seniorocity.com.au/wp-content/uploads/2026/03/Board-Games-Group.jpg
END:VEVENT
BEGIN:VEVENT
DTSTART;TZID=Australia/Perth:20260521T140000
DTEND;TZID=Australia/Perth:20260521T160000
DTSTAMP:20260422T071301
CREATED:20260303T141231Z
LAST-MODIFIED:20260303T141231Z
UID:10864055-1779372000-1779379200@seniorocity.com.au
SUMMARY:Board Games Group
DESCRIPTION:Board Games – Fun for everyone \nFor anyone who loves to play board games or wants to learn to play. Bring a friend or neighbour. Games like bingo\, Mexican train and scrabble are played regularly.
URL:https://seniorocity.com.au/whats-on-perth/board-games-group/2026-05-21/
LOCATION:Blue Gum Community Centre\, 33 Moolyeen Road\, Brentwood\, WA\, 6153\, Australia
CATEGORIES:Games,Meet New People,Social
ATTACH;FMTTYPE=image/jpeg:https://seniorocity.com.au/wp-content/uploads/2026/03/Board-Games-Group.jpg
END:VEVENT
BEGIN:VEVENT
DTSTART;TZID=Australia/Perth:20260528T140000
DTEND;TZID=Australia/Perth:20260528T160000
DTSTAMP:20260422T071301
CREATED:20260303T141231Z
LAST-MODIFIED:20260303T141231Z
UID:10864056-1779976800-1779984000@seniorocity.com.au
SUMMARY:Board Games Group
DESCRIPTION:Board Games – Fun for everyone \nFor anyone who loves to play board games or wants to learn to play. Bring a friend or neighbour. Games like bingo\, Mexican train and scrabble are played regularly.
URL:https://seniorocity.com.au/whats-on-perth/board-games-group/2026-05-28/
LOCATION:Blue Gum Community Centre\, 33 Moolyeen Road\, Brentwood\, WA\, 6153\, Australia
CATEGORIES:Games,Meet New People,Social
ATTACH;FMTTYPE=image/jpeg:https://seniorocity.com.au/wp-content/uploads/2026/03/Board-Games-Group.jpg
END:VEVENT
BEGIN:VEVENT
DTSTART;TZID=Australia/Perth:20260604T140000
DTEND;TZID=Australia/Perth:20260604T160000
DTSTAMP:20260422T071301
CREATED:20260303T141231Z
LAST-MODIFIED:20260303T141231Z
UID:10864057-1780581600-1780588800@seniorocity.com.au
SUMMARY:Board Games Group
DESCRIPTION:Board Games – Fun for everyone \nFor anyone who loves to play board games or wants to learn to play. Bring a friend or neighbour. Games like bingo\, Mexican train and scrabble are played regularly.
URL:https://seniorocity.com.au/whats-on-perth/board-games-group/2026-06-04/
LOCATION:Blue Gum Community Centre\, 33 Moolyeen Road\, Brentwood\, WA\, 6153\, Australia
CATEGORIES:Games,Meet New People,Social
ATTACH;FMTTYPE=image/jpeg:https://seniorocity.com.au/wp-content/uploads/2026/03/Board-Games-Group.jpg
END:VEVENT
BEGIN:VEVENT
DTSTART;TZID=Australia/Perth:20260611T140000
DTEND;TZID=Australia/Perth:20260611T160000
DTSTAMP:20260422T071301
CREATED:20260303T141231Z
LAST-MODIFIED:20260303T141231Z
UID:10864058-1781186400-1781193600@seniorocity.com.au
SUMMARY:Board Games Group
DESCRIPTION:Board Games – Fun for everyone \nFor anyone who loves to play board games or wants to learn to play. Bring a friend or neighbour. Games like bingo\, Mexican train and scrabble are played regularly.
URL:https://seniorocity.com.au/whats-on-perth/board-games-group/2026-06-11/
LOCATION:Blue Gum Community Centre\, 33 Moolyeen Road\, Brentwood\, WA\, 6153\, Australia
CATEGORIES:Games,Meet New People,Social
ATTACH;FMTTYPE=image/jpeg:https://seniorocity.com.au/wp-content/uploads/2026/03/Board-Games-Group.jpg
END:VEVENT
BEGIN:VEVENT
DTSTART;TZID=Australia/Perth:20260618T140000
DTEND;TZID=Australia/Perth:20260618T160000
DTSTAMP:20260422T071301
CREATED:20260303T141231Z
LAST-MODIFIED:20260303T141231Z
UID:10864059-1781791200-1781798400@seniorocity.com.au
SUMMARY:Board Games Group
DESCRIPTION:Board Games – Fun for everyone \nFor anyone who loves to play board games or wants to learn to play. Bring a friend or neighbour. Games like bingo\, Mexican train and scrabble are played regularly.
URL:https://seniorocity.com.au/whats-on-perth/board-games-group/2026-06-18/
LOCATION:Blue Gum Community Centre\, 33 Moolyeen Road\, Brentwood\, WA\, 6153\, Australia
CATEGORIES:Games,Meet New People,Social
ATTACH;FMTTYPE=image/jpeg:https://seniorocity.com.au/wp-content/uploads/2026/03/Board-Games-Group.jpg
END:VEVENT
BEGIN:VEVENT
DTSTART;TZID=Australia/Perth:20260625T140000
DTEND;TZID=Australia/Perth:20260625T160000
DTSTAMP:20260422T071301
CREATED:20260303T141231Z
LAST-MODIFIED:20260303T141231Z
UID:10864060-1782396000-1782403200@seniorocity.com.au
SUMMARY:Board Games Group
DESCRIPTION:Board Games – Fun for everyone \nFor anyone who loves to play board games or wants to learn to play. Bring a friend or neighbour. Games like bingo\, Mexican train and scrabble are played regularly.
URL:https://seniorocity.com.au/whats-on-perth/board-games-group/2026-06-25/
LOCATION:Blue Gum Community Centre\, 33 Moolyeen Road\, Brentwood\, WA\, 6153\, Australia
CATEGORIES:Games,Meet New People,Social
ATTACH;FMTTYPE=image/jpeg:https://seniorocity.com.au/wp-content/uploads/2026/03/Board-Games-Group.jpg
END:VEVENT
BEGIN:VEVENT
DTSTART;TZID=Australia/Perth:20260702T140000
DTEND;TZID=Australia/Perth:20260702T160000
DTSTAMP:20260422T071301
CREATED:20260303T141231Z
LAST-MODIFIED:20260303T141231Z
UID:10864061-1783000800-1783008000@seniorocity.com.au
SUMMARY:Board Games Group
DESCRIPTION:Board Games – Fun for everyone \nFor anyone who loves to play board games or wants to learn to play. Bring a friend or neighbour. Games like bingo\, Mexican train and scrabble are played regularly.
URL:https://seniorocity.com.au/whats-on-perth/board-games-group/2026-07-02/
LOCATION:Blue Gum Community Centre\, 33 Moolyeen Road\, Brentwood\, WA\, 6153\, Australia
CATEGORIES:Games,Meet New People,Social
ATTACH;FMTTYPE=image/jpeg:https://seniorocity.com.au/wp-content/uploads/2026/03/Board-Games-Group.jpg
END:VEVENT
BEGIN:VEVENT
DTSTART;TZID=Australia/Perth:20260709T140000
DTEND;TZID=Australia/Perth:20260709T160000
DTSTAMP:20260422T071301
CREATED:20260303T141231Z
LAST-MODIFIED:20260303T141231Z
UID:10864062-1783605600-1783612800@seniorocity.com.au
SUMMARY:Board Games Group
DESCRIPTION:Board Games – Fun for everyone \nFor anyone who loves to play board games or wants to learn to play. Bring a friend or neighbour. Games like bingo\, Mexican train and scrabble are played regularly.
URL:https://seniorocity.com.au/whats-on-perth/board-games-group/2026-07-09/
LOCATION:Blue Gum Community Centre\, 33 Moolyeen Road\, Brentwood\, WA\, 6153\, Australia
CATEGORIES:Games,Meet New People,Social
ATTACH;FMTTYPE=image/jpeg:https://seniorocity.com.au/wp-content/uploads/2026/03/Board-Games-Group.jpg
END:VEVENT
BEGIN:VEVENT
DTSTART;TZID=Australia/Perth:20260716T140000
DTEND;TZID=Australia/Perth:20260716T160000
DTSTAMP:20260422T071301
CREATED:20260303T141231Z
LAST-MODIFIED:20260303T141231Z
UID:10864063-1784210400-1784217600@seniorocity.com.au
SUMMARY:Board Games Group
DESCRIPTION:Board Games – Fun for everyone \nFor anyone who loves to play board games or wants to learn to play. Bring a friend or neighbour. Games like bingo\, Mexican train and scrabble are played regularly.
URL:https://seniorocity.com.au/whats-on-perth/board-games-group/2026-07-16/
LOCATION:Blue Gum Community Centre\, 33 Moolyeen Road\, Brentwood\, WA\, 6153\, Australia
CATEGORIES:Games,Meet New People,Social
ATTACH;FMTTYPE=image/jpeg:https://seniorocity.com.au/wp-content/uploads/2026/03/Board-Games-Group.jpg
END:VEVENT
BEGIN:VEVENT
DTSTART;TZID=Australia/Perth:20260723T140000
DTEND;TZID=Australia/Perth:20260723T160000
DTSTAMP:20260422T071301
CREATED:20260303T141231Z
LAST-MODIFIED:20260303T141231Z
UID:10864064-1784815200-1784822400@seniorocity.com.au
SUMMARY:Board Games Group
DESCRIPTION:Board Games – Fun for everyone \nFor anyone who loves to play board games or wants to learn to play. Bring a friend or neighbour. Games like bingo\, Mexican train and scrabble are played regularly.
URL:https://seniorocity.com.au/whats-on-perth/board-games-group/2026-07-23/
LOCATION:Blue Gum Community Centre\, 33 Moolyeen Road\, Brentwood\, WA\, 6153\, Australia
CATEGORIES:Games,Meet New People,Social
ATTACH;FMTTYPE=image/jpeg:https://seniorocity.com.au/wp-content/uploads/2026/03/Board-Games-Group.jpg
END:VEVENT
BEGIN:VEVENT
DTSTART;TZID=Australia/Perth:20260730T140000
DTEND;TZID=Australia/Perth:20260730T160000
DTSTAMP:20260422T071301
CREATED:20260303T141231Z
LAST-MODIFIED:20260303T141231Z
UID:10864065-1785420000-1785427200@seniorocity.com.au
SUMMARY:Board Games Group
DESCRIPTION:Board Games – Fun for everyone \nFor anyone who loves to play board games or wants to learn to play. Bring a friend or neighbour. Games like bingo\, Mexican train and scrabble are played regularly.
URL:https://seniorocity.com.au/whats-on-perth/board-games-group/2026-07-30/
LOCATION:Blue Gum Community Centre\, 33 Moolyeen Road\, Brentwood\, WA\, 6153\, Australia
CATEGORIES:Games,Meet New People,Social
ATTACH;FMTTYPE=image/jpeg:https://seniorocity.com.au/wp-content/uploads/2026/03/Board-Games-Group.jpg
END:VEVENT
BEGIN:VEVENT
DTSTART;TZID=Australia/Perth:20260806T140000
DTEND;TZID=Australia/Perth:20260806T160000
DTSTAMP:20260422T071301
CREATED:20260303T141231Z
LAST-MODIFIED:20260303T141231Z
UID:10864066-1786024800-1786032000@seniorocity.com.au
SUMMARY:Board Games Group
DESCRIPTION:Board Games – Fun for everyone \nFor anyone who loves to play board games or wants to learn to play. Bring a friend or neighbour. Games like bingo\, Mexican train and scrabble are played regularly.
URL:https://seniorocity.com.au/whats-on-perth/board-games-group/2026-08-06/
LOCATION:Blue Gum Community Centre\, 33 Moolyeen Road\, Brentwood\, WA\, 6153\, Australia
CATEGORIES:Games,Meet New People,Social
ATTACH;FMTTYPE=image/jpeg:https://seniorocity.com.au/wp-content/uploads/2026/03/Board-Games-Group.jpg
END:VEVENT
BEGIN:VEVENT
DTSTART;TZID=Australia/Perth:20260813T140000
DTEND;TZID=Australia/Perth:20260813T160000
DTSTAMP:20260422T071301
CREATED:20260303T141231Z
LAST-MODIFIED:20260303T141231Z
UID:10864067-1786629600-1786636800@seniorocity.com.au
SUMMARY:Board Games Group
DESCRIPTION:Board Games – Fun for everyone \nFor anyone who loves to play board games or wants to learn to play. Bring a friend or neighbour. Games like bingo\, Mexican train and scrabble are played regularly.
URL:https://seniorocity.com.au/whats-on-perth/board-games-group/2026-08-13/
LOCATION:Blue Gum Community Centre\, 33 Moolyeen Road\, Brentwood\, WA\, 6153\, Australia
CATEGORIES:Games,Meet New People,Social
ATTACH;FMTTYPE=image/jpeg:https://seniorocity.com.au/wp-content/uploads/2026/03/Board-Games-Group.jpg
END:VEVENT
BEGIN:VEVENT
DTSTART;TZID=Australia/Perth:20260820T140000
DTEND;TZID=Australia/Perth:20260820T160000
DTSTAMP:20260422T071301
CREATED:20260303T141231Z
LAST-MODIFIED:20260303T141231Z
UID:10864068-1787234400-1787241600@seniorocity.com.au
SUMMARY:Board Games Group
DESCRIPTION:Board Games – Fun for everyone \nFor anyone who loves to play board games or wants to learn to play. Bring a friend or neighbour. Games like bingo\, Mexican train and scrabble are played regularly.
URL:https://seniorocity.com.au/whats-on-perth/board-games-group/2026-08-20/
LOCATION:Blue Gum Community Centre\, 33 Moolyeen Road\, Brentwood\, WA\, 6153\, Australia
CATEGORIES:Games,Meet New People,Social
ATTACH;FMTTYPE=image/jpeg:https://seniorocity.com.au/wp-content/uploads/2026/03/Board-Games-Group.jpg
END:VEVENT
BEGIN:VEVENT
DTSTART;TZID=Australia/Perth:20260827T140000
DTEND;TZID=Australia/Perth:20260827T160000
DTSTAMP:20260422T071301
CREATED:20260303T141231Z
LAST-MODIFIED:20260303T141231Z
UID:10864069-1787839200-1787846400@seniorocity.com.au
SUMMARY:Board Games Group
DESCRIPTION:Board Games – Fun for everyone \nFor anyone who loves to play board games or wants to learn to play. Bring a friend or neighbour. Games like bingo\, Mexican train and scrabble are played regularly.
URL:https://seniorocity.com.au/whats-on-perth/board-games-group/2026-08-27/
LOCATION:Blue Gum Community Centre\, 33 Moolyeen Road\, Brentwood\, WA\, 6153\, Australia
CATEGORIES:Games,Meet New People,Social
ATTACH;FMTTYPE=image/jpeg:https://seniorocity.com.au/wp-content/uploads/2026/03/Board-Games-Group.jpg
END:VEVENT
BEGIN:VEVENT
DTSTART;TZID=Australia/Perth:20260903T140000
DTEND;TZID=Australia/Perth:20260903T160000
DTSTAMP:20260422T071301
CREATED:20260303T141231Z
LAST-MODIFIED:20260303T141231Z
UID:10864070-1788444000-1788451200@seniorocity.com.au
SUMMARY:Board Games Group
DESCRIPTION:Board Games – Fun for everyone \nFor anyone who loves to play board games or wants to learn to play. Bring a friend or neighbour. Games like bingo\, Mexican train and scrabble are played regularly.
URL:https://seniorocity.com.au/whats-on-perth/board-games-group/2026-09-03/
LOCATION:Blue Gum Community Centre\, 33 Moolyeen Road\, Brentwood\, WA\, 6153\, Australia
CATEGORIES:Games,Meet New People,Social
ATTACH;FMTTYPE=image/jpeg:https://seniorocity.com.au/wp-content/uploads/2026/03/Board-Games-Group.jpg
END:VEVENT
BEGIN:VEVENT
DTSTART;TZID=Australia/Perth:20260910T140000
DTEND;TZID=Australia/Perth:20260910T160000
DTSTAMP:20260422T071301
CREATED:20260303T141231Z
LAST-MODIFIED:20260303T141231Z
UID:10864071-1789048800-1789056000@seniorocity.com.au
SUMMARY:Board Games Group
DESCRIPTION:Board Games – Fun for everyone \nFor anyone who loves to play board games or wants to learn to play. Bring a friend or neighbour. Games like bingo\, Mexican train and scrabble are played regularly.
URL:https://seniorocity.com.au/whats-on-perth/board-games-group/2026-09-10/
LOCATION:Blue Gum Community Centre\, 33 Moolyeen Road\, Brentwood\, WA\, 6153\, Australia
CATEGORIES:Games,Meet New People,Social
ATTACH;FMTTYPE=image/jpeg:https://seniorocity.com.au/wp-content/uploads/2026/03/Board-Games-Group.jpg
END:VEVENT
BEGIN:VEVENT
DTSTART;TZID=Australia/Perth:20260917T140000
DTEND;TZID=Australia/Perth:20260917T160000
DTSTAMP:20260422T071301
CREATED:20260303T141231Z
LAST-MODIFIED:20260303T141231Z
UID:10864072-1789653600-1789660800@seniorocity.com.au
SUMMARY:Board Games Group
DESCRIPTION:Board Games – Fun for everyone \nFor anyone who loves to play board games or wants to learn to play. Bring a friend or neighbour. Games like bingo\, Mexican train and scrabble are played regularly.
URL:https://seniorocity.com.au/whats-on-perth/board-games-group/2026-09-17/
LOCATION:Blue Gum Community Centre\, 33 Moolyeen Road\, Brentwood\, WA\, 6153\, Australia
CATEGORIES:Games,Meet New People,Social
ATTACH;FMTTYPE=image/jpeg:https://seniorocity.com.au/wp-content/uploads/2026/03/Board-Games-Group.jpg
END:VEVENT
BEGIN:VEVENT
DTSTART;TZID=Australia/Perth:20260924T140000
DTEND;TZID=Australia/Perth:20260924T160000
DTSTAMP:20260422T071301
CREATED:20260303T141231Z
LAST-MODIFIED:20260303T141231Z
UID:10864073-1790258400-1790265600@seniorocity.com.au
SUMMARY:Board Games Group
DESCRIPTION:Board Games – Fun for everyone \nFor anyone who loves to play board games or wants to learn to play. Bring a friend or neighbour. Games like bingo\, Mexican train and scrabble are played regularly.
URL:https://seniorocity.com.au/whats-on-perth/board-games-group/2026-09-24/
LOCATION:Blue Gum Community Centre\, 33 Moolyeen Road\, Brentwood\, WA\, 6153\, Australia
CATEGORIES:Games,Meet New People,Social
ATTACH;FMTTYPE=image/jpeg:https://seniorocity.com.au/wp-content/uploads/2026/03/Board-Games-Group.jpg
END:VEVENT
BEGIN:VEVENT
DTSTART;TZID=Australia/Perth:20261001T140000
DTEND;TZID=Australia/Perth:20261001T160000
DTSTAMP:20260422T071301
CREATED:20260303T141231Z
LAST-MODIFIED:20260303T141231Z
UID:10864074-1790863200-1790870400@seniorocity.com.au
SUMMARY:Board Games Group
DESCRIPTION:Board Games – Fun for everyone \nFor anyone who loves to play board games or wants to learn to play. Bring a friend or neighbour. Games like bingo\, Mexican train and scrabble are played regularly.
URL:https://seniorocity.com.au/whats-on-perth/board-games-group/2026-10-01/
LOCATION:Blue Gum Community Centre\, 33 Moolyeen Road\, Brentwood\, WA\, 6153\, Australia
CATEGORIES:Games,Meet New People,Social
ATTACH;FMTTYPE=image/jpeg:https://seniorocity.com.au/wp-content/uploads/2026/03/Board-Games-Group.jpg
END:VEVENT
BEGIN:VEVENT
DTSTART;TZID=Australia/Perth:20261008T140000
DTEND;TZID=Australia/Perth:20261008T160000
DTSTAMP:20260422T071301
CREATED:20260303T141231Z
LAST-MODIFIED:20260303T141231Z
UID:10864075-1791468000-1791475200@seniorocity.com.au
SUMMARY:Board Games Group
DESCRIPTION:Board Games – Fun for everyone \nFor anyone who loves to play board games or wants to learn to play. Bring a friend or neighbour. Games like bingo\, Mexican train and scrabble are played regularly.
URL:https://seniorocity.com.au/whats-on-perth/board-games-group/2026-10-08/
LOCATION:Blue Gum Community Centre\, 33 Moolyeen Road\, Brentwood\, WA\, 6153\, Australia
CATEGORIES:Games,Meet New People,Social
ATTACH;FMTTYPE=image/jpeg:https://seniorocity.com.au/wp-content/uploads/2026/03/Board-Games-Group.jpg
END:VEVENT
BEGIN:VEVENT
DTSTART;TZID=Australia/Perth:20261015T140000
DTEND;TZID=Australia/Perth:20261015T160000
DTSTAMP:20260422T071301
CREATED:20260303T141231Z
LAST-MODIFIED:20260303T141231Z
UID:10864076-1792072800-1792080000@seniorocity.com.au
SUMMARY:Board Games Group
DESCRIPTION:Board Games – Fun for everyone \nFor anyone who loves to play board games or wants to learn to play. Bring a friend or neighbour. Games like bingo\, Mexican train and scrabble are played regularly.
URL:https://seniorocity.com.au/whats-on-perth/board-games-group/2026-10-15/
LOCATION:Blue Gum Community Centre\, 33 Moolyeen Road\, Brentwood\, WA\, 6153\, Australia
CATEGORIES:Games,Meet New People,Social
ATTACH;FMTTYPE=image/jpeg:https://seniorocity.com.au/wp-content/uploads/2026/03/Board-Games-Group.jpg
END:VEVENT
BEGIN:VEVENT
DTSTART;TZID=Australia/Perth:20261022T140000
DTEND;TZID=Australia/Perth:20261022T160000
DTSTAMP:20260422T071301
CREATED:20260303T141231Z
LAST-MODIFIED:20260303T141231Z
UID:10864077-1792677600-1792684800@seniorocity.com.au
SUMMARY:Board Games Group
DESCRIPTION:Board Games – Fun for everyone \nFor anyone who loves to play board games or wants to learn to play. Bring a friend or neighbour. Games like bingo\, Mexican train and scrabble are played regularly.
URL:https://seniorocity.com.au/whats-on-perth/board-games-group/2026-10-22/
LOCATION:Blue Gum Community Centre\, 33 Moolyeen Road\, Brentwood\, WA\, 6153\, Australia
CATEGORIES:Games,Meet New People,Social
ATTACH;FMTTYPE=image/jpeg:https://seniorocity.com.au/wp-content/uploads/2026/03/Board-Games-Group.jpg
END:VEVENT
BEGIN:VEVENT
DTSTART;TZID=Australia/Perth:20261029T140000
DTEND;TZID=Australia/Perth:20261029T160000
DTSTAMP:20260422T071301
CREATED:20260303T141231Z
LAST-MODIFIED:20260303T141231Z
UID:10864078-1793282400-1793289600@seniorocity.com.au
SUMMARY:Board Games Group
DESCRIPTION:Board Games – Fun for everyone \nFor anyone who loves to play board games or wants to learn to play. Bring a friend or neighbour. Games like bingo\, Mexican train and scrabble are played regularly.
URL:https://seniorocity.com.au/whats-on-perth/board-games-group/2026-10-29/
LOCATION:Blue Gum Community Centre\, 33 Moolyeen Road\, Brentwood\, WA\, 6153\, Australia
CATEGORIES:Games,Meet New People,Social
ATTACH;FMTTYPE=image/jpeg:https://seniorocity.com.au/wp-content/uploads/2026/03/Board-Games-Group.jpg
END:VEVENT
BEGIN:VEVENT
DTSTART;TZID=Australia/Perth:20261105T140000
DTEND;TZID=Australia/Perth:20261105T160000
DTSTAMP:20260422T071301
CREATED:20260303T141231Z
LAST-MODIFIED:20260303T141231Z
UID:10864079-1793887200-1793894400@seniorocity.com.au
SUMMARY:Board Games Group
DESCRIPTION:Board Games – Fun for everyone \nFor anyone who loves to play board games or wants to learn to play. Bring a friend or neighbour. Games like bingo\, Mexican train and scrabble are played regularly.
URL:https://seniorocity.com.au/whats-on-perth/board-games-group/2026-11-05/
LOCATION:Blue Gum Community Centre\, 33 Moolyeen Road\, Brentwood\, WA\, 6153\, Australia
CATEGORIES:Games,Meet New People,Social
ATTACH;FMTTYPE=image/jpeg:https://seniorocity.com.au/wp-content/uploads/2026/03/Board-Games-Group.jpg
END:VEVENT
BEGIN:VEVENT
DTSTART;TZID=Australia/Perth:20261112T140000
DTEND;TZID=Australia/Perth:20261112T160000
DTSTAMP:20260422T071301
CREATED:20260303T141231Z
LAST-MODIFIED:20260303T141231Z
UID:10864080-1794492000-1794499200@seniorocity.com.au
SUMMARY:Board Games Group
DESCRIPTION:Board Games – Fun for everyone \nFor anyone who loves to play board games or wants to learn to play. Bring a friend or neighbour. Games like bingo\, Mexican train and scrabble are played regularly.
URL:https://seniorocity.com.au/whats-on-perth/board-games-group/2026-11-12/
LOCATION:Blue Gum Community Centre\, 33 Moolyeen Road\, Brentwood\, WA\, 6153\, Australia
CATEGORIES:Games,Meet New People,Social
ATTACH;FMTTYPE=image/jpeg:https://seniorocity.com.au/wp-content/uploads/2026/03/Board-Games-Group.jpg
END:VEVENT
END:VCALENDAR