BEGIN:VCALENDAR
VERSION:2.0
PRODID:-//Seniorocity - Seniors / Over 55&#039;s Guide to Perth - ECPv6.15.11//NONSGML v1.0//EN
CALSCALE:GREGORIAN
METHOD:PUBLISH
X-WR-CALNAME:Seniorocity - Seniors / Over 55&#039;s Guide to Perth
X-ORIGINAL-URL:https://seniorocity.com.au
X-WR-CALDESC:Events for Seniorocity - Seniors / Over 55&#039;s Guide to Perth
REFRESH-INTERVAL;VALUE=DURATION:PT1H
X-Robots-Tag:noindex
X-PUBLISHED-TTL:PT1H
BEGIN:VTIMEZONE
TZID:Australia/Perth
BEGIN:STANDARD
TZOFFSETFROM:+0800
TZOFFSETTO:+0800
TZNAME:AWST
DTSTART:20250101T000000
END:STANDARD
END:VTIMEZONE
BEGIN:VEVENT
DTSTART;TZID=Australia/Perth:20260428T100000
DTEND;TZID=Australia/Perth:20260428T110000
DTSTAMP:20260421T195304
CREATED:20260415T075143Z
LAST-MODIFIED:20260415T075143Z
UID:10865670-1777370400-1777374000@seniorocity.com.au
SUMMARY:Active Ageing Armadale (Term 2)
DESCRIPTION:Every Tuesday\, for nine weeks\, you will be exercising to the Geri-Fit® program videos\, which are progressive workouts including a range of exercises. This program is for people aged 60 years and older. \nExpressions of interest for the program close 5pm\, Friday 3rd April 2026. \nTo express your interest\, email health@armadale.wa.gov.au. Places are limited and you must be registered to attend. \nYou will be notified if you are successful in securing a place for the program on Thursday 9th April 2026. \nPlease Note: Due to the popularity of this program\, this program is open to City of Armadale residents only. If you live outside the City of Armadale\, please get in touch with your local council to find out what available programs they have on offer. Thanks for understanding. \nSee website for FAQ \nI have further questions\, who can I contact? \nPlease contact the Community Health Promotion Officer\, Chloe Irvin on (08) 9394 5855 or via email health@armadale.wa.gov.au.
URL:https://seniorocity.com.au/whats-on-perth/active-ageing-armadale-term-2/2026-04-28/
LOCATION:Seville Grove Library\, 78 Champion Drive\, Seville Grove\, WA\, 6112\, Australia
CATEGORIES:Activity Class,Free,Health
ATTACH;FMTTYPE=image/jpeg:https://seniorocity.com.au/wp-content/uploads/2026/04/Active-Ageing-Armadale-Term-2.jpg
END:VEVENT
BEGIN:VEVENT
DTSTART;TZID=Australia/Perth:20260505T100000
DTEND;TZID=Australia/Perth:20260505T110000
DTSTAMP:20260421T195304
CREATED:20260415T075143Z
LAST-MODIFIED:20260415T075143Z
UID:10865671-1777975200-1777978800@seniorocity.com.au
SUMMARY:Active Ageing Armadale (Term 2)
DESCRIPTION:Every Tuesday\, for nine weeks\, you will be exercising to the Geri-Fit® program videos\, which are progressive workouts including a range of exercises. This program is for people aged 60 years and older. \nExpressions of interest for the program close 5pm\, Friday 3rd April 2026. \nTo express your interest\, email health@armadale.wa.gov.au. Places are limited and you must be registered to attend. \nYou will be notified if you are successful in securing a place for the program on Thursday 9th April 2026. \nPlease Note: Due to the popularity of this program\, this program is open to City of Armadale residents only. If you live outside the City of Armadale\, please get in touch with your local council to find out what available programs they have on offer. Thanks for understanding. \nSee website for FAQ \nI have further questions\, who can I contact? \nPlease contact the Community Health Promotion Officer\, Chloe Irvin on (08) 9394 5855 or via email health@armadale.wa.gov.au.
URL:https://seniorocity.com.au/whats-on-perth/active-ageing-armadale-term-2/2026-05-05/
LOCATION:Seville Grove Library\, 78 Champion Drive\, Seville Grove\, WA\, 6112\, Australia
CATEGORIES:Activity Class,Free,Health
ATTACH;FMTTYPE=image/jpeg:https://seniorocity.com.au/wp-content/uploads/2026/04/Active-Ageing-Armadale-Term-2.jpg
END:VEVENT
BEGIN:VEVENT
DTSTART;TZID=Australia/Perth:20260512T100000
DTEND;TZID=Australia/Perth:20260512T110000
DTSTAMP:20260421T195304
CREATED:20260415T075143Z
LAST-MODIFIED:20260415T075143Z
UID:10865672-1778580000-1778583600@seniorocity.com.au
SUMMARY:Active Ageing Armadale (Term 2)
DESCRIPTION:Every Tuesday\, for nine weeks\, you will be exercising to the Geri-Fit® program videos\, which are progressive workouts including a range of exercises. This program is for people aged 60 years and older. \nExpressions of interest for the program close 5pm\, Friday 3rd April 2026. \nTo express your interest\, email health@armadale.wa.gov.au. Places are limited and you must be registered to attend. \nYou will be notified if you are successful in securing a place for the program on Thursday 9th April 2026. \nPlease Note: Due to the popularity of this program\, this program is open to City of Armadale residents only. If you live outside the City of Armadale\, please get in touch with your local council to find out what available programs they have on offer. Thanks for understanding. \nSee website for FAQ \nI have further questions\, who can I contact? \nPlease contact the Community Health Promotion Officer\, Chloe Irvin on (08) 9394 5855 or via email health@armadale.wa.gov.au.
URL:https://seniorocity.com.au/whats-on-perth/active-ageing-armadale-term-2/2026-05-12/
LOCATION:Seville Grove Library\, 78 Champion Drive\, Seville Grove\, WA\, 6112\, Australia
CATEGORIES:Activity Class,Free,Health
ATTACH;FMTTYPE=image/jpeg:https://seniorocity.com.au/wp-content/uploads/2026/04/Active-Ageing-Armadale-Term-2.jpg
END:VEVENT
BEGIN:VEVENT
DTSTART;TZID=Australia/Perth:20260519T100000
DTEND;TZID=Australia/Perth:20260519T110000
DTSTAMP:20260421T195304
CREATED:20260415T075143Z
LAST-MODIFIED:20260415T075143Z
UID:10865673-1779184800-1779188400@seniorocity.com.au
SUMMARY:Active Ageing Armadale (Term 2)
DESCRIPTION:Every Tuesday\, for nine weeks\, you will be exercising to the Geri-Fit® program videos\, which are progressive workouts including a range of exercises. This program is for people aged 60 years and older. \nExpressions of interest for the program close 5pm\, Friday 3rd April 2026. \nTo express your interest\, email health@armadale.wa.gov.au. Places are limited and you must be registered to attend. \nYou will be notified if you are successful in securing a place for the program on Thursday 9th April 2026. \nPlease Note: Due to the popularity of this program\, this program is open to City of Armadale residents only. If you live outside the City of Armadale\, please get in touch with your local council to find out what available programs they have on offer. Thanks for understanding. \nSee website for FAQ \nI have further questions\, who can I contact? \nPlease contact the Community Health Promotion Officer\, Chloe Irvin on (08) 9394 5855 or via email health@armadale.wa.gov.au.
URL:https://seniorocity.com.au/whats-on-perth/active-ageing-armadale-term-2/2026-05-19/
LOCATION:Seville Grove Library\, 78 Champion Drive\, Seville Grove\, WA\, 6112\, Australia
CATEGORIES:Activity Class,Free,Health
ATTACH;FMTTYPE=image/jpeg:https://seniorocity.com.au/wp-content/uploads/2026/04/Active-Ageing-Armadale-Term-2.jpg
END:VEVENT
BEGIN:VEVENT
DTSTART;TZID=Australia/Perth:20260526T100000
DTEND;TZID=Australia/Perth:20260526T110000
DTSTAMP:20260421T195304
CREATED:20260415T075143Z
LAST-MODIFIED:20260415T075143Z
UID:10865674-1779789600-1779793200@seniorocity.com.au
SUMMARY:Active Ageing Armadale (Term 2)
DESCRIPTION:Every Tuesday\, for nine weeks\, you will be exercising to the Geri-Fit® program videos\, which are progressive workouts including a range of exercises. This program is for people aged 60 years and older. \nExpressions of interest for the program close 5pm\, Friday 3rd April 2026. \nTo express your interest\, email health@armadale.wa.gov.au. Places are limited and you must be registered to attend. \nYou will be notified if you are successful in securing a place for the program on Thursday 9th April 2026. \nPlease Note: Due to the popularity of this program\, this program is open to City of Armadale residents only. If you live outside the City of Armadale\, please get in touch with your local council to find out what available programs they have on offer. Thanks for understanding. \nSee website for FAQ \nI have further questions\, who can I contact? \nPlease contact the Community Health Promotion Officer\, Chloe Irvin on (08) 9394 5855 or via email health@armadale.wa.gov.au.
URL:https://seniorocity.com.au/whats-on-perth/active-ageing-armadale-term-2/2026-05-26/
LOCATION:Seville Grove Library\, 78 Champion Drive\, Seville Grove\, WA\, 6112\, Australia
CATEGORIES:Activity Class,Free,Health
ATTACH;FMTTYPE=image/jpeg:https://seniorocity.com.au/wp-content/uploads/2026/04/Active-Ageing-Armadale-Term-2.jpg
END:VEVENT
BEGIN:VEVENT
DTSTART;TZID=Australia/Perth:20260602T100000
DTEND;TZID=Australia/Perth:20260602T110000
DTSTAMP:20260421T195304
CREATED:20260415T075143Z
LAST-MODIFIED:20260415T075143Z
UID:10865675-1780394400-1780398000@seniorocity.com.au
SUMMARY:Active Ageing Armadale (Term 2)
DESCRIPTION:Every Tuesday\, for nine weeks\, you will be exercising to the Geri-Fit® program videos\, which are progressive workouts including a range of exercises. This program is for people aged 60 years and older. \nExpressions of interest for the program close 5pm\, Friday 3rd April 2026. \nTo express your interest\, email health@armadale.wa.gov.au. Places are limited and you must be registered to attend. \nYou will be notified if you are successful in securing a place for the program on Thursday 9th April 2026. \nPlease Note: Due to the popularity of this program\, this program is open to City of Armadale residents only. If you live outside the City of Armadale\, please get in touch with your local council to find out what available programs they have on offer. Thanks for understanding. \nSee website for FAQ \nI have further questions\, who can I contact? \nPlease contact the Community Health Promotion Officer\, Chloe Irvin on (08) 9394 5855 or via email health@armadale.wa.gov.au.
URL:https://seniorocity.com.au/whats-on-perth/active-ageing-armadale-term-2/2026-06-02/
LOCATION:Seville Grove Library\, 78 Champion Drive\, Seville Grove\, WA\, 6112\, Australia
CATEGORIES:Activity Class,Free,Health
ATTACH;FMTTYPE=image/jpeg:https://seniorocity.com.au/wp-content/uploads/2026/04/Active-Ageing-Armadale-Term-2.jpg
END:VEVENT
BEGIN:VEVENT
DTSTART;TZID=Australia/Perth:20260609T100000
DTEND;TZID=Australia/Perth:20260609T110000
DTSTAMP:20260421T195304
CREATED:20260415T075143Z
LAST-MODIFIED:20260415T075143Z
UID:10865676-1780999200-1781002800@seniorocity.com.au
SUMMARY:Active Ageing Armadale (Term 2)
DESCRIPTION:Every Tuesday\, for nine weeks\, you will be exercising to the Geri-Fit® program videos\, which are progressive workouts including a range of exercises. This program is for people aged 60 years and older. \nExpressions of interest for the program close 5pm\, Friday 3rd April 2026. \nTo express your interest\, email health@armadale.wa.gov.au. Places are limited and you must be registered to attend. \nYou will be notified if you are successful in securing a place for the program on Thursday 9th April 2026. \nPlease Note: Due to the popularity of this program\, this program is open to City of Armadale residents only. If you live outside the City of Armadale\, please get in touch with your local council to find out what available programs they have on offer. Thanks for understanding. \nSee website for FAQ \nI have further questions\, who can I contact? \nPlease contact the Community Health Promotion Officer\, Chloe Irvin on (08) 9394 5855 or via email health@armadale.wa.gov.au.
URL:https://seniorocity.com.au/whats-on-perth/active-ageing-armadale-term-2/2026-06-09/
LOCATION:Seville Grove Library\, 78 Champion Drive\, Seville Grove\, WA\, 6112\, Australia
CATEGORIES:Activity Class,Free,Health
ATTACH;FMTTYPE=image/jpeg:https://seniorocity.com.au/wp-content/uploads/2026/04/Active-Ageing-Armadale-Term-2.jpg
END:VEVENT
BEGIN:VEVENT
DTSTART;TZID=Australia/Perth:20260616T100000
DTEND;TZID=Australia/Perth:20260616T110000
DTSTAMP:20260421T195304
CREATED:20260415T075143Z
LAST-MODIFIED:20260415T075143Z
UID:10865677-1781604000-1781607600@seniorocity.com.au
SUMMARY:Active Ageing Armadale (Term 2)
DESCRIPTION:Every Tuesday\, for nine weeks\, you will be exercising to the Geri-Fit® program videos\, which are progressive workouts including a range of exercises. This program is for people aged 60 years and older. \nExpressions of interest for the program close 5pm\, Friday 3rd April 2026. \nTo express your interest\, email health@armadale.wa.gov.au. Places are limited and you must be registered to attend. \nYou will be notified if you are successful in securing a place for the program on Thursday 9th April 2026. \nPlease Note: Due to the popularity of this program\, this program is open to City of Armadale residents only. If you live outside the City of Armadale\, please get in touch with your local council to find out what available programs they have on offer. Thanks for understanding. \nSee website for FAQ \nI have further questions\, who can I contact? \nPlease contact the Community Health Promotion Officer\, Chloe Irvin on (08) 9394 5855 or via email health@armadale.wa.gov.au.
URL:https://seniorocity.com.au/whats-on-perth/active-ageing-armadale-term-2/2026-06-16/
LOCATION:Seville Grove Library\, 78 Champion Drive\, Seville Grove\, WA\, 6112\, Australia
CATEGORIES:Activity Class,Free,Health
ATTACH;FMTTYPE=image/jpeg:https://seniorocity.com.au/wp-content/uploads/2026/04/Active-Ageing-Armadale-Term-2.jpg
END:VEVENT
END:VCALENDAR