BEGIN:VCALENDAR
VERSION:2.0
PRODID:-//Seniorocity - Seniors / Over 55&#039;s Guide to Perth - ECPv6.15.11//NONSGML v1.0//EN
CALSCALE:GREGORIAN
METHOD:PUBLISH
X-WR-CALNAME:Seniorocity - Seniors / Over 55&#039;s Guide to Perth
X-ORIGINAL-URL:https://seniorocity.com.au
X-WR-CALDESC:Events for Seniorocity - Seniors / Over 55&#039;s Guide to Perth
REFRESH-INTERVAL;VALUE=DURATION:PT1H
X-Robots-Tag:noindex
X-PUBLISHED-TTL:PT1H
BEGIN:VTIMEZONE
TZID:Australia/Perth
BEGIN:STANDARD
TZOFFSETFROM:+0800
TZOFFSETTO:+0800
TZNAME:AWST
DTSTART:20250101T000000
END:STANDARD
END:VTIMEZONE
BEGIN:VEVENT
DTSTART;TZID=Australia/Perth:20260508T093000
DTEND;TZID=Australia/Perth:20260508T113000
DTSTAMP:20260422T030701
CREATED:20260415T134026Z
LAST-MODIFIED:20260415T134026Z
UID:10865683-1778232600-1778239800@seniorocity.com.au
SUMMARY:Kelmscott Come Write In
DESCRIPTION:Writing groups provide an interactive and supportive environment\, offering mentoring and encouragement throughout your writing endeavours. \nNote: Fees apply\, payable to the writing group.
URL:https://seniorocity.com.au/whats-on-perth/kelmscott-come-write-in-2/2026-05-08/
LOCATION:Kelmscott Library\, 2784 Albany Highway\, Kelmscott\, WA\, 6111\, Australia
CATEGORIES:Free,Library Events,Writers Groups
ATTACH;FMTTYPE=image/jpeg:https://seniorocity.com.au/wp-content/uploads/2026/04/Kelmscott-Come-Write-In.jpg
GEO:-32.1126577;116.0146208
X-APPLE-STRUCTURED-LOCATION;VALUE=URI;X-ADDRESS=Kelmscott Library 2784 Albany Highway Kelmscott WA 6111 Australia;X-APPLE-RADIUS=500;X-TITLE=2784 Albany Highway:geo:116.0146208,-32.1126577
END:VEVENT
BEGIN:VEVENT
DTSTART;TZID=Australia/Perth:20260612T093000
DTEND;TZID=Australia/Perth:20260612T113000
DTSTAMP:20260422T030701
CREATED:20260415T134026Z
LAST-MODIFIED:20260415T134026Z
UID:10865684-1781256600-1781263800@seniorocity.com.au
SUMMARY:Kelmscott Come Write In
DESCRIPTION:Writing groups provide an interactive and supportive environment\, offering mentoring and encouragement throughout your writing endeavours. \nNote: Fees apply\, payable to the writing group.
URL:https://seniorocity.com.au/whats-on-perth/kelmscott-come-write-in-2/2026-06-12/
LOCATION:Kelmscott Library\, 2784 Albany Highway\, Kelmscott\, WA\, 6111\, Australia
CATEGORIES:Free,Library Events,Writers Groups
ATTACH;FMTTYPE=image/jpeg:https://seniorocity.com.au/wp-content/uploads/2026/04/Kelmscott-Come-Write-In.jpg
GEO:-32.1126577;116.0146208
X-APPLE-STRUCTURED-LOCATION;VALUE=URI;X-ADDRESS=Kelmscott Library 2784 Albany Highway Kelmscott WA 6111 Australia;X-APPLE-RADIUS=500;X-TITLE=2784 Albany Highway:geo:116.0146208,-32.1126577
END:VEVENT
BEGIN:VEVENT
DTSTART;TZID=Australia/Perth:20260710T093000
DTEND;TZID=Australia/Perth:20260710T113000
DTSTAMP:20260422T030701
CREATED:20260415T134026Z
LAST-MODIFIED:20260415T134026Z
UID:10865685-1783675800-1783683000@seniorocity.com.au
SUMMARY:Kelmscott Come Write In
DESCRIPTION:Writing groups provide an interactive and supportive environment\, offering mentoring and encouragement throughout your writing endeavours. \nNote: Fees apply\, payable to the writing group.
URL:https://seniorocity.com.au/whats-on-perth/kelmscott-come-write-in-2/2026-07-10/
LOCATION:Kelmscott Library\, 2784 Albany Highway\, Kelmscott\, WA\, 6111\, Australia
CATEGORIES:Free,Library Events,Writers Groups
ATTACH;FMTTYPE=image/jpeg:https://seniorocity.com.au/wp-content/uploads/2026/04/Kelmscott-Come-Write-In.jpg
GEO:-32.1126577;116.0146208
X-APPLE-STRUCTURED-LOCATION;VALUE=URI;X-ADDRESS=Kelmscott Library 2784 Albany Highway Kelmscott WA 6111 Australia;X-APPLE-RADIUS=500;X-TITLE=2784 Albany Highway:geo:116.0146208,-32.1126577
END:VEVENT
BEGIN:VEVENT
DTSTART;TZID=Australia/Perth:20260814T093000
DTEND;TZID=Australia/Perth:20260814T113000
DTSTAMP:20260422T030701
CREATED:20260415T134026Z
LAST-MODIFIED:20260415T134026Z
UID:10865686-1786699800-1786707000@seniorocity.com.au
SUMMARY:Kelmscott Come Write In
DESCRIPTION:Writing groups provide an interactive and supportive environment\, offering mentoring and encouragement throughout your writing endeavours. \nNote: Fees apply\, payable to the writing group.
URL:https://seniorocity.com.au/whats-on-perth/kelmscott-come-write-in-2/2026-08-14/
LOCATION:Kelmscott Library\, 2784 Albany Highway\, Kelmscott\, WA\, 6111\, Australia
CATEGORIES:Free,Library Events,Writers Groups
ATTACH;FMTTYPE=image/jpeg:https://seniorocity.com.au/wp-content/uploads/2026/04/Kelmscott-Come-Write-In.jpg
GEO:-32.1126577;116.0146208
X-APPLE-STRUCTURED-LOCATION;VALUE=URI;X-ADDRESS=Kelmscott Library 2784 Albany Highway Kelmscott WA 6111 Australia;X-APPLE-RADIUS=500;X-TITLE=2784 Albany Highway:geo:116.0146208,-32.1126577
END:VEVENT
BEGIN:VEVENT
DTSTART;TZID=Australia/Perth:20260911T093000
DTEND;TZID=Australia/Perth:20260911T113000
DTSTAMP:20260422T030701
CREATED:20260415T134026Z
LAST-MODIFIED:20260415T134026Z
UID:10865687-1789119000-1789126200@seniorocity.com.au
SUMMARY:Kelmscott Come Write In
DESCRIPTION:Writing groups provide an interactive and supportive environment\, offering mentoring and encouragement throughout your writing endeavours. \nNote: Fees apply\, payable to the writing group.
URL:https://seniorocity.com.au/whats-on-perth/kelmscott-come-write-in-2/2026-09-11/
LOCATION:Kelmscott Library\, 2784 Albany Highway\, Kelmscott\, WA\, 6111\, Australia
CATEGORIES:Free,Library Events,Writers Groups
ATTACH;FMTTYPE=image/jpeg:https://seniorocity.com.au/wp-content/uploads/2026/04/Kelmscott-Come-Write-In.jpg
GEO:-32.1126577;116.0146208
X-APPLE-STRUCTURED-LOCATION;VALUE=URI;X-ADDRESS=Kelmscott Library 2784 Albany Highway Kelmscott WA 6111 Australia;X-APPLE-RADIUS=500;X-TITLE=2784 Albany Highway:geo:116.0146208,-32.1126577
END:VEVENT
BEGIN:VEVENT
DTSTART;TZID=Australia/Perth:20261009T093000
DTEND;TZID=Australia/Perth:20261009T113000
DTSTAMP:20260422T030701
CREATED:20260415T134026Z
LAST-MODIFIED:20260415T134026Z
UID:10865688-1791538200-1791545400@seniorocity.com.au
SUMMARY:Kelmscott Come Write In
DESCRIPTION:Writing groups provide an interactive and supportive environment\, offering mentoring and encouragement throughout your writing endeavours. \nNote: Fees apply\, payable to the writing group.
URL:https://seniorocity.com.au/whats-on-perth/kelmscott-come-write-in-2/2026-10-09/
LOCATION:Kelmscott Library\, 2784 Albany Highway\, Kelmscott\, WA\, 6111\, Australia
CATEGORIES:Free,Library Events,Writers Groups
ATTACH;FMTTYPE=image/jpeg:https://seniorocity.com.au/wp-content/uploads/2026/04/Kelmscott-Come-Write-In.jpg
GEO:-32.1126577;116.0146208
X-APPLE-STRUCTURED-LOCATION;VALUE=URI;X-ADDRESS=Kelmscott Library 2784 Albany Highway Kelmscott WA 6111 Australia;X-APPLE-RADIUS=500;X-TITLE=2784 Albany Highway:geo:116.0146208,-32.1126577
END:VEVENT
BEGIN:VEVENT
DTSTART;TZID=Australia/Perth:20261113T093000
DTEND;TZID=Australia/Perth:20261113T113000
DTSTAMP:20260422T030701
CREATED:20260415T134026Z
LAST-MODIFIED:20260415T134026Z
UID:10865689-1794562200-1794569400@seniorocity.com.au
SUMMARY:Kelmscott Come Write In
DESCRIPTION:Writing groups provide an interactive and supportive environment\, offering mentoring and encouragement throughout your writing endeavours. \nNote: Fees apply\, payable to the writing group.
URL:https://seniorocity.com.au/whats-on-perth/kelmscott-come-write-in-2/2026-11-13/
LOCATION:Kelmscott Library\, 2784 Albany Highway\, Kelmscott\, WA\, 6111\, Australia
CATEGORIES:Free,Library Events,Writers Groups
ATTACH;FMTTYPE=image/jpeg:https://seniorocity.com.au/wp-content/uploads/2026/04/Kelmscott-Come-Write-In.jpg
GEO:-32.1126577;116.0146208
X-APPLE-STRUCTURED-LOCATION;VALUE=URI;X-ADDRESS=Kelmscott Library 2784 Albany Highway Kelmscott WA 6111 Australia;X-APPLE-RADIUS=500;X-TITLE=2784 Albany Highway:geo:116.0146208,-32.1126577
END:VEVENT
BEGIN:VEVENT
DTSTART;TZID=Australia/Perth:20261211T093000
DTEND;TZID=Australia/Perth:20261211T113000
DTSTAMP:20260422T030701
CREATED:20260415T134026Z
LAST-MODIFIED:20260415T134026Z
UID:10865690-1796981400-1796988600@seniorocity.com.au
SUMMARY:Kelmscott Come Write In
DESCRIPTION:Writing groups provide an interactive and supportive environment\, offering mentoring and encouragement throughout your writing endeavours. \nNote: Fees apply\, payable to the writing group.
URL:https://seniorocity.com.au/whats-on-perth/kelmscott-come-write-in-2/2026-12-11/
LOCATION:Kelmscott Library\, 2784 Albany Highway\, Kelmscott\, WA\, 6111\, Australia
CATEGORIES:Free,Library Events,Writers Groups
ATTACH;FMTTYPE=image/jpeg:https://seniorocity.com.au/wp-content/uploads/2026/04/Kelmscott-Come-Write-In.jpg
GEO:-32.1126577;116.0146208
X-APPLE-STRUCTURED-LOCATION;VALUE=URI;X-ADDRESS=Kelmscott Library 2784 Albany Highway Kelmscott WA 6111 Australia;X-APPLE-RADIUS=500;X-TITLE=2784 Albany Highway:geo:116.0146208,-32.1126577
END:VEVENT
END:VCALENDAR