BEGIN:VCALENDAR
VERSION:2.0
PRODID:-//Seniorocity - Seniors / Over 55&#039;s Guide to Perth - ECPv6.15.11//NONSGML v1.0//EN
CALSCALE:GREGORIAN
METHOD:PUBLISH
X-WR-CALNAME:Seniorocity - Seniors / Over 55&#039;s Guide to Perth
X-ORIGINAL-URL:https://seniorocity.com.au
X-WR-CALDESC:Events for Seniorocity - Seniors / Over 55&#039;s Guide to Perth
REFRESH-INTERVAL;VALUE=DURATION:PT1H
X-Robots-Tag:noindex
X-PUBLISHED-TTL:PT1H
BEGIN:VTIMEZONE
TZID:Australia/Perth
BEGIN:STANDARD
TZOFFSETFROM:+0800
TZOFFSETTO:+0800
TZNAME:AWST
DTSTART:20250101T000000
END:STANDARD
END:VTIMEZONE
BEGIN:VEVENT
DTSTART;TZID=Australia/Perth:20260428T100000
DTEND;TZID=Australia/Perth:20260428T120000
DTSTAMP:20260421T195417
CREATED:20260417T040258Z
LAST-MODIFIED:20260417T040258Z
UID:10865858-1777370400-1777377600@seniorocity.com.au
SUMMARY:1-on-1 Tech Help | Tuesdays
DESCRIPTION:If you need help using your laptop\, iPad or mobile phone\, simply bring along your charged device and talk to one of our friendly volunteers who will be around to assist you.
URL:https://seniorocity.com.au/whats-on-perth/1-on-1-tech-help-tuesdays/2026-04-28/
LOCATION:The Fremantle Library at Walyalup Civic Centre\, 151 High St\, Fremantle WA 6160\, Fremantle\, WA\, 6160\, Australia
CATEGORIES:Free,Library Events,Tech
ATTACH;FMTTYPE=image/jpeg:https://seniorocity.com.au/wp-content/uploads/2026/04/1-on-1-Tech-Help-Tuesdays.jpg
END:VEVENT
BEGIN:VEVENT
DTSTART;TZID=Australia/Perth:20260505T100000
DTEND;TZID=Australia/Perth:20260505T120000
DTSTAMP:20260421T195417
CREATED:20260417T040258Z
LAST-MODIFIED:20260417T040258Z
UID:10865859-1777975200-1777982400@seniorocity.com.au
SUMMARY:1-on-1 Tech Help | Tuesdays
DESCRIPTION:If you need help using your laptop\, iPad or mobile phone\, simply bring along your charged device and talk to one of our friendly volunteers who will be around to assist you.
URL:https://seniorocity.com.au/whats-on-perth/1-on-1-tech-help-tuesdays/2026-05-05/
LOCATION:The Fremantle Library at Walyalup Civic Centre\, 151 High St\, Fremantle WA 6160\, Fremantle\, WA\, 6160\, Australia
CATEGORIES:Free,Library Events,Tech
ATTACH;FMTTYPE=image/jpeg:https://seniorocity.com.au/wp-content/uploads/2026/04/1-on-1-Tech-Help-Tuesdays.jpg
END:VEVENT
BEGIN:VEVENT
DTSTART;TZID=Australia/Perth:20260512T100000
DTEND;TZID=Australia/Perth:20260512T120000
DTSTAMP:20260421T195417
CREATED:20260417T040258Z
LAST-MODIFIED:20260417T040258Z
UID:10865860-1778580000-1778587200@seniorocity.com.au
SUMMARY:1-on-1 Tech Help | Tuesdays
DESCRIPTION:If you need help using your laptop\, iPad or mobile phone\, simply bring along your charged device and talk to one of our friendly volunteers who will be around to assist you.
URL:https://seniorocity.com.au/whats-on-perth/1-on-1-tech-help-tuesdays/2026-05-12/
LOCATION:The Fremantle Library at Walyalup Civic Centre\, 151 High St\, Fremantle WA 6160\, Fremantle\, WA\, 6160\, Australia
CATEGORIES:Free,Library Events,Tech
ATTACH;FMTTYPE=image/jpeg:https://seniorocity.com.au/wp-content/uploads/2026/04/1-on-1-Tech-Help-Tuesdays.jpg
END:VEVENT
BEGIN:VEVENT
DTSTART;TZID=Australia/Perth:20260519T100000
DTEND;TZID=Australia/Perth:20260519T120000
DTSTAMP:20260421T195417
CREATED:20260417T040258Z
LAST-MODIFIED:20260417T040258Z
UID:10865861-1779184800-1779192000@seniorocity.com.au
SUMMARY:1-on-1 Tech Help | Tuesdays
DESCRIPTION:If you need help using your laptop\, iPad or mobile phone\, simply bring along your charged device and talk to one of our friendly volunteers who will be around to assist you.
URL:https://seniorocity.com.au/whats-on-perth/1-on-1-tech-help-tuesdays/2026-05-19/
LOCATION:The Fremantle Library at Walyalup Civic Centre\, 151 High St\, Fremantle WA 6160\, Fremantle\, WA\, 6160\, Australia
CATEGORIES:Free,Library Events,Tech
ATTACH;FMTTYPE=image/jpeg:https://seniorocity.com.au/wp-content/uploads/2026/04/1-on-1-Tech-Help-Tuesdays.jpg
END:VEVENT
BEGIN:VEVENT
DTSTART;TZID=Australia/Perth:20260526T100000
DTEND;TZID=Australia/Perth:20260526T120000
DTSTAMP:20260421T195417
CREATED:20260417T040258Z
LAST-MODIFIED:20260417T040258Z
UID:10865862-1779789600-1779796800@seniorocity.com.au
SUMMARY:1-on-1 Tech Help | Tuesdays
DESCRIPTION:If you need help using your laptop\, iPad or mobile phone\, simply bring along your charged device and talk to one of our friendly volunteers who will be around to assist you.
URL:https://seniorocity.com.au/whats-on-perth/1-on-1-tech-help-tuesdays/2026-05-26/
LOCATION:The Fremantle Library at Walyalup Civic Centre\, 151 High St\, Fremantle WA 6160\, Fremantle\, WA\, 6160\, Australia
CATEGORIES:Free,Library Events,Tech
ATTACH;FMTTYPE=image/jpeg:https://seniorocity.com.au/wp-content/uploads/2026/04/1-on-1-Tech-Help-Tuesdays.jpg
END:VEVENT
BEGIN:VEVENT
DTSTART;TZID=Australia/Perth:20260602T100000
DTEND;TZID=Australia/Perth:20260602T120000
DTSTAMP:20260421T195417
CREATED:20260417T040258Z
LAST-MODIFIED:20260417T040258Z
UID:10865863-1780394400-1780401600@seniorocity.com.au
SUMMARY:1-on-1 Tech Help | Tuesdays
DESCRIPTION:If you need help using your laptop\, iPad or mobile phone\, simply bring along your charged device and talk to one of our friendly volunteers who will be around to assist you.
URL:https://seniorocity.com.au/whats-on-perth/1-on-1-tech-help-tuesdays/2026-06-02/
LOCATION:The Fremantle Library at Walyalup Civic Centre\, 151 High St\, Fremantle WA 6160\, Fremantle\, WA\, 6160\, Australia
CATEGORIES:Free,Library Events,Tech
ATTACH;FMTTYPE=image/jpeg:https://seniorocity.com.au/wp-content/uploads/2026/04/1-on-1-Tech-Help-Tuesdays.jpg
END:VEVENT
BEGIN:VEVENT
DTSTART;TZID=Australia/Perth:20260609T100000
DTEND;TZID=Australia/Perth:20260609T120000
DTSTAMP:20260421T195417
CREATED:20260417T040258Z
LAST-MODIFIED:20260417T040258Z
UID:10865864-1780999200-1781006400@seniorocity.com.au
SUMMARY:1-on-1 Tech Help | Tuesdays
DESCRIPTION:If you need help using your laptop\, iPad or mobile phone\, simply bring along your charged device and talk to one of our friendly volunteers who will be around to assist you.
URL:https://seniorocity.com.au/whats-on-perth/1-on-1-tech-help-tuesdays/2026-06-09/
LOCATION:The Fremantle Library at Walyalup Civic Centre\, 151 High St\, Fremantle WA 6160\, Fremantle\, WA\, 6160\, Australia
CATEGORIES:Free,Library Events,Tech
ATTACH;FMTTYPE=image/jpeg:https://seniorocity.com.au/wp-content/uploads/2026/04/1-on-1-Tech-Help-Tuesdays.jpg
END:VEVENT
BEGIN:VEVENT
DTSTART;TZID=Australia/Perth:20260616T100000
DTEND;TZID=Australia/Perth:20260616T120000
DTSTAMP:20260421T195417
CREATED:20260417T040258Z
LAST-MODIFIED:20260417T040258Z
UID:10865865-1781604000-1781611200@seniorocity.com.au
SUMMARY:1-on-1 Tech Help | Tuesdays
DESCRIPTION:If you need help using your laptop\, iPad or mobile phone\, simply bring along your charged device and talk to one of our friendly volunteers who will be around to assist you.
URL:https://seniorocity.com.au/whats-on-perth/1-on-1-tech-help-tuesdays/2026-06-16/
LOCATION:The Fremantle Library at Walyalup Civic Centre\, 151 High St\, Fremantle WA 6160\, Fremantle\, WA\, 6160\, Australia
CATEGORIES:Free,Library Events,Tech
ATTACH;FMTTYPE=image/jpeg:https://seniorocity.com.au/wp-content/uploads/2026/04/1-on-1-Tech-Help-Tuesdays.jpg
END:VEVENT
BEGIN:VEVENT
DTSTART;TZID=Australia/Perth:20260623T100000
DTEND;TZID=Australia/Perth:20260623T120000
DTSTAMP:20260421T195417
CREATED:20260417T040258Z
LAST-MODIFIED:20260417T040258Z
UID:10865866-1782208800-1782216000@seniorocity.com.au
SUMMARY:1-on-1 Tech Help | Tuesdays
DESCRIPTION:If you need help using your laptop\, iPad or mobile phone\, simply bring along your charged device and talk to one of our friendly volunteers who will be around to assist you.
URL:https://seniorocity.com.au/whats-on-perth/1-on-1-tech-help-tuesdays/2026-06-23/
LOCATION:The Fremantle Library at Walyalup Civic Centre\, 151 High St\, Fremantle WA 6160\, Fremantle\, WA\, 6160\, Australia
CATEGORIES:Free,Library Events,Tech
ATTACH;FMTTYPE=image/jpeg:https://seniorocity.com.au/wp-content/uploads/2026/04/1-on-1-Tech-Help-Tuesdays.jpg
END:VEVENT
BEGIN:VEVENT
DTSTART;TZID=Australia/Perth:20260630T100000
DTEND;TZID=Australia/Perth:20260630T120000
DTSTAMP:20260421T195417
CREATED:20260417T040258Z
LAST-MODIFIED:20260417T040258Z
UID:10865867-1782813600-1782820800@seniorocity.com.au
SUMMARY:1-on-1 Tech Help | Tuesdays
DESCRIPTION:If you need help using your laptop\, iPad or mobile phone\, simply bring along your charged device and talk to one of our friendly volunteers who will be around to assist you.
URL:https://seniorocity.com.au/whats-on-perth/1-on-1-tech-help-tuesdays/2026-06-30/
LOCATION:The Fremantle Library at Walyalup Civic Centre\, 151 High St\, Fremantle WA 6160\, Fremantle\, WA\, 6160\, Australia
CATEGORIES:Free,Library Events,Tech
ATTACH;FMTTYPE=image/jpeg:https://seniorocity.com.au/wp-content/uploads/2026/04/1-on-1-Tech-Help-Tuesdays.jpg
END:VEVENT
BEGIN:VEVENT
DTSTART;TZID=Australia/Perth:20260707T100000
DTEND;TZID=Australia/Perth:20260707T120000
DTSTAMP:20260421T195417
CREATED:20260417T040258Z
LAST-MODIFIED:20260417T040258Z
UID:10865868-1783418400-1783425600@seniorocity.com.au
SUMMARY:1-on-1 Tech Help | Tuesdays
DESCRIPTION:If you need help using your laptop\, iPad or mobile phone\, simply bring along your charged device and talk to one of our friendly volunteers who will be around to assist you.
URL:https://seniorocity.com.au/whats-on-perth/1-on-1-tech-help-tuesdays/2026-07-07/
LOCATION:The Fremantle Library at Walyalup Civic Centre\, 151 High St\, Fremantle WA 6160\, Fremantle\, WA\, 6160\, Australia
CATEGORIES:Free,Library Events,Tech
ATTACH;FMTTYPE=image/jpeg:https://seniorocity.com.au/wp-content/uploads/2026/04/1-on-1-Tech-Help-Tuesdays.jpg
END:VEVENT
BEGIN:VEVENT
DTSTART;TZID=Australia/Perth:20260714T100000
DTEND;TZID=Australia/Perth:20260714T120000
DTSTAMP:20260421T195417
CREATED:20260417T040258Z
LAST-MODIFIED:20260417T040258Z
UID:10865869-1784023200-1784030400@seniorocity.com.au
SUMMARY:1-on-1 Tech Help | Tuesdays
DESCRIPTION:If you need help using your laptop\, iPad or mobile phone\, simply bring along your charged device and talk to one of our friendly volunteers who will be around to assist you.
URL:https://seniorocity.com.au/whats-on-perth/1-on-1-tech-help-tuesdays/2026-07-14/
LOCATION:The Fremantle Library at Walyalup Civic Centre\, 151 High St\, Fremantle WA 6160\, Fremantle\, WA\, 6160\, Australia
CATEGORIES:Free,Library Events,Tech
ATTACH;FMTTYPE=image/jpeg:https://seniorocity.com.au/wp-content/uploads/2026/04/1-on-1-Tech-Help-Tuesdays.jpg
END:VEVENT
BEGIN:VEVENT
DTSTART;TZID=Australia/Perth:20260721T100000
DTEND;TZID=Australia/Perth:20260721T120000
DTSTAMP:20260421T195417
CREATED:20260417T040258Z
LAST-MODIFIED:20260417T040258Z
UID:10865870-1784628000-1784635200@seniorocity.com.au
SUMMARY:1-on-1 Tech Help | Tuesdays
DESCRIPTION:If you need help using your laptop\, iPad or mobile phone\, simply bring along your charged device and talk to one of our friendly volunteers who will be around to assist you.
URL:https://seniorocity.com.au/whats-on-perth/1-on-1-tech-help-tuesdays/2026-07-21/
LOCATION:The Fremantle Library at Walyalup Civic Centre\, 151 High St\, Fremantle WA 6160\, Fremantle\, WA\, 6160\, Australia
CATEGORIES:Free,Library Events,Tech
ATTACH;FMTTYPE=image/jpeg:https://seniorocity.com.au/wp-content/uploads/2026/04/1-on-1-Tech-Help-Tuesdays.jpg
END:VEVENT
BEGIN:VEVENT
DTSTART;TZID=Australia/Perth:20260728T100000
DTEND;TZID=Australia/Perth:20260728T120000
DTSTAMP:20260421T195417
CREATED:20260417T040258Z
LAST-MODIFIED:20260417T040258Z
UID:10865871-1785232800-1785240000@seniorocity.com.au
SUMMARY:1-on-1 Tech Help | Tuesdays
DESCRIPTION:If you need help using your laptop\, iPad or mobile phone\, simply bring along your charged device and talk to one of our friendly volunteers who will be around to assist you.
URL:https://seniorocity.com.au/whats-on-perth/1-on-1-tech-help-tuesdays/2026-07-28/
LOCATION:The Fremantle Library at Walyalup Civic Centre\, 151 High St\, Fremantle WA 6160\, Fremantle\, WA\, 6160\, Australia
CATEGORIES:Free,Library Events,Tech
ATTACH;FMTTYPE=image/jpeg:https://seniorocity.com.au/wp-content/uploads/2026/04/1-on-1-Tech-Help-Tuesdays.jpg
END:VEVENT
BEGIN:VEVENT
DTSTART;TZID=Australia/Perth:20260804T100000
DTEND;TZID=Australia/Perth:20260804T120000
DTSTAMP:20260421T195417
CREATED:20260417T040258Z
LAST-MODIFIED:20260417T040258Z
UID:10865872-1785837600-1785844800@seniorocity.com.au
SUMMARY:1-on-1 Tech Help | Tuesdays
DESCRIPTION:If you need help using your laptop\, iPad or mobile phone\, simply bring along your charged device and talk to one of our friendly volunteers who will be around to assist you.
URL:https://seniorocity.com.au/whats-on-perth/1-on-1-tech-help-tuesdays/2026-08-04/
LOCATION:The Fremantle Library at Walyalup Civic Centre\, 151 High St\, Fremantle WA 6160\, Fremantle\, WA\, 6160\, Australia
CATEGORIES:Free,Library Events,Tech
ATTACH;FMTTYPE=image/jpeg:https://seniorocity.com.au/wp-content/uploads/2026/04/1-on-1-Tech-Help-Tuesdays.jpg
END:VEVENT
BEGIN:VEVENT
DTSTART;TZID=Australia/Perth:20260811T100000
DTEND;TZID=Australia/Perth:20260811T120000
DTSTAMP:20260421T195417
CREATED:20260417T040258Z
LAST-MODIFIED:20260417T040258Z
UID:10865873-1786442400-1786449600@seniorocity.com.au
SUMMARY:1-on-1 Tech Help | Tuesdays
DESCRIPTION:If you need help using your laptop\, iPad or mobile phone\, simply bring along your charged device and talk to one of our friendly volunteers who will be around to assist you.
URL:https://seniorocity.com.au/whats-on-perth/1-on-1-tech-help-tuesdays/2026-08-11/
LOCATION:The Fremantle Library at Walyalup Civic Centre\, 151 High St\, Fremantle WA 6160\, Fremantle\, WA\, 6160\, Australia
CATEGORIES:Free,Library Events,Tech
ATTACH;FMTTYPE=image/jpeg:https://seniorocity.com.au/wp-content/uploads/2026/04/1-on-1-Tech-Help-Tuesdays.jpg
END:VEVENT
BEGIN:VEVENT
DTSTART;TZID=Australia/Perth:20260818T100000
DTEND;TZID=Australia/Perth:20260818T120000
DTSTAMP:20260421T195417
CREATED:20260417T040258Z
LAST-MODIFIED:20260417T040258Z
UID:10865874-1787047200-1787054400@seniorocity.com.au
SUMMARY:1-on-1 Tech Help | Tuesdays
DESCRIPTION:If you need help using your laptop\, iPad or mobile phone\, simply bring along your charged device and talk to one of our friendly volunteers who will be around to assist you.
URL:https://seniorocity.com.au/whats-on-perth/1-on-1-tech-help-tuesdays/2026-08-18/
LOCATION:The Fremantle Library at Walyalup Civic Centre\, 151 High St\, Fremantle WA 6160\, Fremantle\, WA\, 6160\, Australia
CATEGORIES:Free,Library Events,Tech
ATTACH;FMTTYPE=image/jpeg:https://seniorocity.com.au/wp-content/uploads/2026/04/1-on-1-Tech-Help-Tuesdays.jpg
END:VEVENT
BEGIN:VEVENT
DTSTART;TZID=Australia/Perth:20260825T100000
DTEND;TZID=Australia/Perth:20260825T120000
DTSTAMP:20260421T195417
CREATED:20260417T040258Z
LAST-MODIFIED:20260417T040258Z
UID:10865875-1787652000-1787659200@seniorocity.com.au
SUMMARY:1-on-1 Tech Help | Tuesdays
DESCRIPTION:If you need help using your laptop\, iPad or mobile phone\, simply bring along your charged device and talk to one of our friendly volunteers who will be around to assist you.
URL:https://seniorocity.com.au/whats-on-perth/1-on-1-tech-help-tuesdays/2026-08-25/
LOCATION:The Fremantle Library at Walyalup Civic Centre\, 151 High St\, Fremantle WA 6160\, Fremantle\, WA\, 6160\, Australia
CATEGORIES:Free,Library Events,Tech
ATTACH;FMTTYPE=image/jpeg:https://seniorocity.com.au/wp-content/uploads/2026/04/1-on-1-Tech-Help-Tuesdays.jpg
END:VEVENT
BEGIN:VEVENT
DTSTART;TZID=Australia/Perth:20260901T100000
DTEND;TZID=Australia/Perth:20260901T120000
DTSTAMP:20260421T195417
CREATED:20260417T040258Z
LAST-MODIFIED:20260417T040258Z
UID:10865876-1788256800-1788264000@seniorocity.com.au
SUMMARY:1-on-1 Tech Help | Tuesdays
DESCRIPTION:If you need help using your laptop\, iPad or mobile phone\, simply bring along your charged device and talk to one of our friendly volunteers who will be around to assist you.
URL:https://seniorocity.com.au/whats-on-perth/1-on-1-tech-help-tuesdays/2026-09-01/
LOCATION:The Fremantle Library at Walyalup Civic Centre\, 151 High St\, Fremantle WA 6160\, Fremantle\, WA\, 6160\, Australia
CATEGORIES:Free,Library Events,Tech
ATTACH;FMTTYPE=image/jpeg:https://seniorocity.com.au/wp-content/uploads/2026/04/1-on-1-Tech-Help-Tuesdays.jpg
END:VEVENT
BEGIN:VEVENT
DTSTART;TZID=Australia/Perth:20260908T100000
DTEND;TZID=Australia/Perth:20260908T120000
DTSTAMP:20260421T195417
CREATED:20260417T040258Z
LAST-MODIFIED:20260417T040258Z
UID:10865877-1788861600-1788868800@seniorocity.com.au
SUMMARY:1-on-1 Tech Help | Tuesdays
DESCRIPTION:If you need help using your laptop\, iPad or mobile phone\, simply bring along your charged device and talk to one of our friendly volunteers who will be around to assist you.
URL:https://seniorocity.com.au/whats-on-perth/1-on-1-tech-help-tuesdays/2026-09-08/
LOCATION:The Fremantle Library at Walyalup Civic Centre\, 151 High St\, Fremantle WA 6160\, Fremantle\, WA\, 6160\, Australia
CATEGORIES:Free,Library Events,Tech
ATTACH;FMTTYPE=image/jpeg:https://seniorocity.com.au/wp-content/uploads/2026/04/1-on-1-Tech-Help-Tuesdays.jpg
END:VEVENT
BEGIN:VEVENT
DTSTART;TZID=Australia/Perth:20260915T100000
DTEND;TZID=Australia/Perth:20260915T120000
DTSTAMP:20260421T195417
CREATED:20260417T040258Z
LAST-MODIFIED:20260417T040258Z
UID:10865878-1789466400-1789473600@seniorocity.com.au
SUMMARY:1-on-1 Tech Help | Tuesdays
DESCRIPTION:If you need help using your laptop\, iPad or mobile phone\, simply bring along your charged device and talk to one of our friendly volunteers who will be around to assist you.
URL:https://seniorocity.com.au/whats-on-perth/1-on-1-tech-help-tuesdays/2026-09-15/
LOCATION:The Fremantle Library at Walyalup Civic Centre\, 151 High St\, Fremantle WA 6160\, Fremantle\, WA\, 6160\, Australia
CATEGORIES:Free,Library Events,Tech
ATTACH;FMTTYPE=image/jpeg:https://seniorocity.com.au/wp-content/uploads/2026/04/1-on-1-Tech-Help-Tuesdays.jpg
END:VEVENT
BEGIN:VEVENT
DTSTART;TZID=Australia/Perth:20260922T100000
DTEND;TZID=Australia/Perth:20260922T120000
DTSTAMP:20260421T195417
CREATED:20260417T040258Z
LAST-MODIFIED:20260417T040258Z
UID:10865879-1790071200-1790078400@seniorocity.com.au
SUMMARY:1-on-1 Tech Help | Tuesdays
DESCRIPTION:If you need help using your laptop\, iPad or mobile phone\, simply bring along your charged device and talk to one of our friendly volunteers who will be around to assist you.
URL:https://seniorocity.com.au/whats-on-perth/1-on-1-tech-help-tuesdays/2026-09-22/
LOCATION:The Fremantle Library at Walyalup Civic Centre\, 151 High St\, Fremantle WA 6160\, Fremantle\, WA\, 6160\, Australia
CATEGORIES:Free,Library Events,Tech
ATTACH;FMTTYPE=image/jpeg:https://seniorocity.com.au/wp-content/uploads/2026/04/1-on-1-Tech-Help-Tuesdays.jpg
END:VEVENT
BEGIN:VEVENT
DTSTART;TZID=Australia/Perth:20260929T100000
DTEND;TZID=Australia/Perth:20260929T120000
DTSTAMP:20260421T195417
CREATED:20260417T040258Z
LAST-MODIFIED:20260417T040258Z
UID:10865880-1790676000-1790683200@seniorocity.com.au
SUMMARY:1-on-1 Tech Help | Tuesdays
DESCRIPTION:If you need help using your laptop\, iPad or mobile phone\, simply bring along your charged device and talk to one of our friendly volunteers who will be around to assist you.
URL:https://seniorocity.com.au/whats-on-perth/1-on-1-tech-help-tuesdays/2026-09-29/
LOCATION:The Fremantle Library at Walyalup Civic Centre\, 151 High St\, Fremantle WA 6160\, Fremantle\, WA\, 6160\, Australia
CATEGORIES:Free,Library Events,Tech
ATTACH;FMTTYPE=image/jpeg:https://seniorocity.com.au/wp-content/uploads/2026/04/1-on-1-Tech-Help-Tuesdays.jpg
END:VEVENT
BEGIN:VEVENT
DTSTART;TZID=Australia/Perth:20261006T100000
DTEND;TZID=Australia/Perth:20261006T120000
DTSTAMP:20260421T195417
CREATED:20260417T040258Z
LAST-MODIFIED:20260417T040258Z
UID:10865881-1791280800-1791288000@seniorocity.com.au
SUMMARY:1-on-1 Tech Help | Tuesdays
DESCRIPTION:If you need help using your laptop\, iPad or mobile phone\, simply bring along your charged device and talk to one of our friendly volunteers who will be around to assist you.
URL:https://seniorocity.com.au/whats-on-perth/1-on-1-tech-help-tuesdays/2026-10-06/
LOCATION:The Fremantle Library at Walyalup Civic Centre\, 151 High St\, Fremantle WA 6160\, Fremantle\, WA\, 6160\, Australia
CATEGORIES:Free,Library Events,Tech
ATTACH;FMTTYPE=image/jpeg:https://seniorocity.com.au/wp-content/uploads/2026/04/1-on-1-Tech-Help-Tuesdays.jpg
END:VEVENT
BEGIN:VEVENT
DTSTART;TZID=Australia/Perth:20261013T100000
DTEND;TZID=Australia/Perth:20261013T120000
DTSTAMP:20260421T195417
CREATED:20260417T040258Z
LAST-MODIFIED:20260417T040258Z
UID:10865882-1791885600-1791892800@seniorocity.com.au
SUMMARY:1-on-1 Tech Help | Tuesdays
DESCRIPTION:If you need help using your laptop\, iPad or mobile phone\, simply bring along your charged device and talk to one of our friendly volunteers who will be around to assist you.
URL:https://seniorocity.com.au/whats-on-perth/1-on-1-tech-help-tuesdays/2026-10-13/
LOCATION:The Fremantle Library at Walyalup Civic Centre\, 151 High St\, Fremantle WA 6160\, Fremantle\, WA\, 6160\, Australia
CATEGORIES:Free,Library Events,Tech
ATTACH;FMTTYPE=image/jpeg:https://seniorocity.com.au/wp-content/uploads/2026/04/1-on-1-Tech-Help-Tuesdays.jpg
END:VEVENT
BEGIN:VEVENT
DTSTART;TZID=Australia/Perth:20261020T100000
DTEND;TZID=Australia/Perth:20261020T120000
DTSTAMP:20260421T195417
CREATED:20260417T040258Z
LAST-MODIFIED:20260417T040258Z
UID:10865883-1792490400-1792497600@seniorocity.com.au
SUMMARY:1-on-1 Tech Help | Tuesdays
DESCRIPTION:If you need help using your laptop\, iPad or mobile phone\, simply bring along your charged device and talk to one of our friendly volunteers who will be around to assist you.
URL:https://seniorocity.com.au/whats-on-perth/1-on-1-tech-help-tuesdays/2026-10-20/
LOCATION:The Fremantle Library at Walyalup Civic Centre\, 151 High St\, Fremantle WA 6160\, Fremantle\, WA\, 6160\, Australia
CATEGORIES:Free,Library Events,Tech
ATTACH;FMTTYPE=image/jpeg:https://seniorocity.com.au/wp-content/uploads/2026/04/1-on-1-Tech-Help-Tuesdays.jpg
END:VEVENT
BEGIN:VEVENT
DTSTART;TZID=Australia/Perth:20261027T100000
DTEND;TZID=Australia/Perth:20261027T120000
DTSTAMP:20260421T195417
CREATED:20260417T040258Z
LAST-MODIFIED:20260417T040258Z
UID:10865884-1793095200-1793102400@seniorocity.com.au
SUMMARY:1-on-1 Tech Help | Tuesdays
DESCRIPTION:If you need help using your laptop\, iPad or mobile phone\, simply bring along your charged device and talk to one of our friendly volunteers who will be around to assist you.
URL:https://seniorocity.com.au/whats-on-perth/1-on-1-tech-help-tuesdays/2026-10-27/
LOCATION:The Fremantle Library at Walyalup Civic Centre\, 151 High St\, Fremantle WA 6160\, Fremantle\, WA\, 6160\, Australia
CATEGORIES:Free,Library Events,Tech
ATTACH;FMTTYPE=image/jpeg:https://seniorocity.com.au/wp-content/uploads/2026/04/1-on-1-Tech-Help-Tuesdays.jpg
END:VEVENT
BEGIN:VEVENT
DTSTART;TZID=Australia/Perth:20261103T100000
DTEND;TZID=Australia/Perth:20261103T120000
DTSTAMP:20260421T195417
CREATED:20260417T040258Z
LAST-MODIFIED:20260417T040258Z
UID:10865885-1793700000-1793707200@seniorocity.com.au
SUMMARY:1-on-1 Tech Help | Tuesdays
DESCRIPTION:If you need help using your laptop\, iPad or mobile phone\, simply bring along your charged device and talk to one of our friendly volunteers who will be around to assist you.
URL:https://seniorocity.com.au/whats-on-perth/1-on-1-tech-help-tuesdays/2026-11-03/
LOCATION:The Fremantle Library at Walyalup Civic Centre\, 151 High St\, Fremantle WA 6160\, Fremantle\, WA\, 6160\, Australia
CATEGORIES:Free,Library Events,Tech
ATTACH;FMTTYPE=image/jpeg:https://seniorocity.com.au/wp-content/uploads/2026/04/1-on-1-Tech-Help-Tuesdays.jpg
END:VEVENT
BEGIN:VEVENT
DTSTART;TZID=Australia/Perth:20261110T100000
DTEND;TZID=Australia/Perth:20261110T120000
DTSTAMP:20260421T195417
CREATED:20260417T040258Z
LAST-MODIFIED:20260417T040258Z
UID:10865886-1794304800-1794312000@seniorocity.com.au
SUMMARY:1-on-1 Tech Help | Tuesdays
DESCRIPTION:If you need help using your laptop\, iPad or mobile phone\, simply bring along your charged device and talk to one of our friendly volunteers who will be around to assist you.
URL:https://seniorocity.com.au/whats-on-perth/1-on-1-tech-help-tuesdays/2026-11-10/
LOCATION:The Fremantle Library at Walyalup Civic Centre\, 151 High St\, Fremantle WA 6160\, Fremantle\, WA\, 6160\, Australia
CATEGORIES:Free,Library Events,Tech
ATTACH;FMTTYPE=image/jpeg:https://seniorocity.com.au/wp-content/uploads/2026/04/1-on-1-Tech-Help-Tuesdays.jpg
END:VEVENT
BEGIN:VEVENT
DTSTART;TZID=Australia/Perth:20261117T100000
DTEND;TZID=Australia/Perth:20261117T120000
DTSTAMP:20260421T195417
CREATED:20260417T040258Z
LAST-MODIFIED:20260417T040258Z
UID:10865887-1794909600-1794916800@seniorocity.com.au
SUMMARY:1-on-1 Tech Help | Tuesdays
DESCRIPTION:If you need help using your laptop\, iPad or mobile phone\, simply bring along your charged device and talk to one of our friendly volunteers who will be around to assist you.
URL:https://seniorocity.com.au/whats-on-perth/1-on-1-tech-help-tuesdays/2026-11-17/
LOCATION:The Fremantle Library at Walyalup Civic Centre\, 151 High St\, Fremantle WA 6160\, Fremantle\, WA\, 6160\, Australia
CATEGORIES:Free,Library Events,Tech
ATTACH;FMTTYPE=image/jpeg:https://seniorocity.com.au/wp-content/uploads/2026/04/1-on-1-Tech-Help-Tuesdays.jpg
END:VEVENT
END:VCALENDAR