BEGIN:VCALENDAR
VERSION:2.0
PRODID:-//Seniorocity - Seniors / Over 55&#039;s Guide to Perth - ECPv6.15.11//NONSGML v1.0//EN
CALSCALE:GREGORIAN
METHOD:PUBLISH
X-WR-CALNAME:Seniorocity - Seniors / Over 55&#039;s Guide to Perth
X-ORIGINAL-URL:https://seniorocity.com.au
X-WR-CALDESC:Events for Seniorocity - Seniors / Over 55&#039;s Guide to Perth
REFRESH-INTERVAL;VALUE=DURATION:PT1H
X-Robots-Tag:noindex
X-PUBLISHED-TTL:PT1H
BEGIN:VTIMEZONE
TZID:Australia/Perth
BEGIN:STANDARD
TZOFFSETFROM:+0800
TZOFFSETTO:+0800
TZNAME:AWST
DTSTART:20250101T000000
END:STANDARD
END:VTIMEZONE
BEGIN:VEVENT
DTSTART;TZID=Australia/Perth:20260427T100000
DTEND;TZID=Australia/Perth:20260427T110000
DTSTAMP:20260420T161526
CREATED:20260418T142152Z
LAST-MODIFIED:20260418T142152Z
UID:10865982-1777284000-1777287600@seniorocity.com.au
SUMMARY:Click 2 Learn
DESCRIPTION:New to tech or in need of a refresher? Join us for these beginner classes at the library. \n18 May: Phone keyboard customisation \n25 May: Phone accessibility features \n08 June: Phone safety & emergency settings \n15 June: Phone notification settings \nPlease bring your mobile phone. \n  \nBookings are essential and can be made online\, in person or over the phone.
URL:https://seniorocity.com.au/whats-on-perth/click-2-learn-2/2026-04-27/
LOCATION:Victoria Park Library\, 27 Sussex St\, East Victoria Park\, WA\, 6101\, Australia
CATEGORIES:Free,Library Events,Tech
ATTACH;FMTTYPE=image/jpeg:https://seniorocity.com.au/wp-content/uploads/2026/04/Click-2-Learn.jpg
GEO:-31.984312;115.90001
X-APPLE-STRUCTURED-LOCATION;VALUE=URI;X-ADDRESS=Victoria Park Library 27 Sussex St East Victoria Park WA 6101 Australia;X-APPLE-RADIUS=500;X-TITLE=27 Sussex St:geo:115.90001,-31.984312
END:VEVENT
BEGIN:VEVENT
DTSTART;TZID=Australia/Perth:20260504T100000
DTEND;TZID=Australia/Perth:20260504T110000
DTSTAMP:20260420T161526
CREATED:20260418T142152Z
LAST-MODIFIED:20260418T142152Z
UID:10865983-1777888800-1777892400@seniorocity.com.au
SUMMARY:Click 2 Learn
DESCRIPTION:New to tech or in need of a refresher? Join us for these beginner classes at the library. \n18 May: Phone keyboard customisation \n25 May: Phone accessibility features \n08 June: Phone safety & emergency settings \n15 June: Phone notification settings \nPlease bring your mobile phone. \n  \nBookings are essential and can be made online\, in person or over the phone.
URL:https://seniorocity.com.au/whats-on-perth/click-2-learn-2/2026-05-04/
LOCATION:Victoria Park Library\, 27 Sussex St\, East Victoria Park\, WA\, 6101\, Australia
CATEGORIES:Free,Library Events,Tech
ATTACH;FMTTYPE=image/jpeg:https://seniorocity.com.au/wp-content/uploads/2026/04/Click-2-Learn.jpg
GEO:-31.984312;115.90001
X-APPLE-STRUCTURED-LOCATION;VALUE=URI;X-ADDRESS=Victoria Park Library 27 Sussex St East Victoria Park WA 6101 Australia;X-APPLE-RADIUS=500;X-TITLE=27 Sussex St:geo:115.90001,-31.984312
END:VEVENT
BEGIN:VEVENT
DTSTART;TZID=Australia/Perth:20260511T100000
DTEND;TZID=Australia/Perth:20260511T110000
DTSTAMP:20260420T161526
CREATED:20260418T142152Z
LAST-MODIFIED:20260418T142152Z
UID:10865984-1778493600-1778497200@seniorocity.com.au
SUMMARY:Click 2 Learn
DESCRIPTION:New to tech or in need of a refresher? Join us for these beginner classes at the library. \n18 May: Phone keyboard customisation \n25 May: Phone accessibility features \n08 June: Phone safety & emergency settings \n15 June: Phone notification settings \nPlease bring your mobile phone. \n  \nBookings are essential and can be made online\, in person or over the phone.
URL:https://seniorocity.com.au/whats-on-perth/click-2-learn-2/2026-05-11/
LOCATION:Victoria Park Library\, 27 Sussex St\, East Victoria Park\, WA\, 6101\, Australia
CATEGORIES:Free,Library Events,Tech
ATTACH;FMTTYPE=image/jpeg:https://seniorocity.com.au/wp-content/uploads/2026/04/Click-2-Learn.jpg
GEO:-31.984312;115.90001
X-APPLE-STRUCTURED-LOCATION;VALUE=URI;X-ADDRESS=Victoria Park Library 27 Sussex St East Victoria Park WA 6101 Australia;X-APPLE-RADIUS=500;X-TITLE=27 Sussex St:geo:115.90001,-31.984312
END:VEVENT
END:VCALENDAR