BEGIN:VCALENDAR
VERSION:2.0
PRODID:-//Seniorocity - Seniors / Over 55&#039;s Guide to Perth - ECPv6.15.11//NONSGML v1.0//EN
CALSCALE:GREGORIAN
METHOD:PUBLISH
X-WR-CALNAME:Seniorocity - Seniors / Over 55&#039;s Guide to Perth
X-ORIGINAL-URL:https://seniorocity.com.au
X-WR-CALDESC:Events for Seniorocity - Seniors / Over 55&#039;s Guide to Perth
REFRESH-INTERVAL;VALUE=DURATION:PT1H
X-Robots-Tag:noindex
X-PUBLISHED-TTL:PT1H
BEGIN:VTIMEZONE
TZID:Australia/Perth
BEGIN:STANDARD
TZOFFSETFROM:+0800
TZOFFSETTO:+0800
TZNAME:AWST
DTSTART:20250101T000000
END:STANDARD
END:VTIMEZONE
BEGIN:VEVENT
DTSTART;TZID=Australia/Perth:20260502T103000
DTEND;TZID=Australia/Perth:20260502T113000
DTSTAMP:20260420T204118
CREATED:20260418T145747Z
LAST-MODIFIED:20260418T145748Z
UID:10865986-1777717800-1777721400@seniorocity.com.au
SUMMARY:Reusable Gift Wrapping Workshops
DESCRIPTION:Wrap It Up with Casper from Happy Wrap Co! Join us for a fun and sustainable gift-wrapping experience with Casper\, the head wrapper at Happy Wrap Co! \nCasper is on a mission to make celebrations joyful and eco-friendly by swapping single-use wrapping for reusable\, planet-friendly alternatives. \nAt these pop-up sessions\, you’ll learn creative ways to wrap gifts using beautiful fabric perfect for reducing waste while keeping your presents looking fabulous. \nEvent highlights\n\nLive demonstrations: Discover easy techniques for wrapping with reusable materials.\nSustainability tips: Learn how small changes can make a big difference for the environment.\nFree giveaway packs: While stocks last\, one per household!\n\nTo claim your pack\, please bring proof of residence (driver’s license\, rates notice\, or utility bill). City of Stirling households will be prioritised. \nWhy join?\nBecause gift-giving should be fun\, stylish\, and kind to the planet! Casper’s motto is simple: Big on joy\, tiny on waste. Let’s celebrate smarter together. \nEvent sessions\n\nSaturday 2 May | 10.30am – 11.30am | Stirling Libraries – Mirrabooka | Register now\nThursday 7 May | 5.30pm – 6.30pm | Stirling Libraries – Dianella | Register now
URL:https://seniorocity.com.au/whats-on-perth/reusable-gift-wrapping-workshops/2026-05-02/
CATEGORIES:Craft,Library Events,Workshop
ATTACH;FMTTYPE=image/jpeg:https://seniorocity.com.au/wp-content/uploads/2026/04/Reusable-Gift-Wrapping-Workshops.jpg
END:VEVENT
BEGIN:VEVENT
DTSTART;TZID=Australia/Perth:20260507T173000
DTEND;TZID=Australia/Perth:20260507T183000
DTSTAMP:20260420T204118
CREATED:20260418T145747Z
LAST-MODIFIED:20260418T145748Z
UID:10865987-1778175000-1778178600@seniorocity.com.au
SUMMARY:Reusable Gift Wrapping Workshops
DESCRIPTION:Wrap It Up with Casper from Happy Wrap Co! Join us for a fun and sustainable gift-wrapping experience with Casper\, the head wrapper at Happy Wrap Co! \nCasper is on a mission to make celebrations joyful and eco-friendly by swapping single-use wrapping for reusable\, planet-friendly alternatives. \nAt these pop-up sessions\, you’ll learn creative ways to wrap gifts using beautiful fabric perfect for reducing waste while keeping your presents looking fabulous. \nEvent highlights\n\nLive demonstrations: Discover easy techniques for wrapping with reusable materials.\nSustainability tips: Learn how small changes can make a big difference for the environment.\nFree giveaway packs: While stocks last\, one per household!\n\nTo claim your pack\, please bring proof of residence (driver’s license\, rates notice\, or utility bill). City of Stirling households will be prioritised. \nWhy join?\nBecause gift-giving should be fun\, stylish\, and kind to the planet! Casper’s motto is simple: Big on joy\, tiny on waste. Let’s celebrate smarter together. \nEvent sessions\n\nSaturday 2 May | 10.30am – 11.30am | Stirling Libraries – Mirrabooka | Register now\nThursday 7 May | 5.30pm – 6.30pm | Stirling Libraries – Dianella | Register now
URL:https://seniorocity.com.au/whats-on-perth/reusable-gift-wrapping-workshops/2026-05-07/
CATEGORIES:Craft,Library Events,Workshop
ATTACH;FMTTYPE=image/jpeg:https://seniorocity.com.au/wp-content/uploads/2026/04/Reusable-Gift-Wrapping-Workshops.jpg
END:VEVENT
END:VCALENDAR