BEGIN:VCALENDAR
VERSION:2.0
PRODID:-//Seniorocity - Seniors / Over 55&#039;s Guide to Perth - ECPv6.15.11//NONSGML v1.0//EN
CALSCALE:GREGORIAN
METHOD:PUBLISH
X-WR-CALNAME:Seniorocity - Seniors / Over 55&#039;s Guide to Perth
X-ORIGINAL-URL:https://seniorocity.com.au
X-WR-CALDESC:Events for Seniorocity - Seniors / Over 55&#039;s Guide to Perth
REFRESH-INTERVAL;VALUE=DURATION:PT1H
X-Robots-Tag:noindex
X-PUBLISHED-TTL:PT1H
BEGIN:VTIMEZONE
TZID:Australia/Perth
BEGIN:STANDARD
TZOFFSETFROM:+0800
TZOFFSETTO:+0800
TZNAME:AWST
DTSTART:20250101T000000
END:STANDARD
END:VTIMEZONE
BEGIN:VEVENT
DTSTART;TZID=Australia/Perth:20260506T180000
DTEND;TZID=Australia/Perth:20260506T200000
DTSTAMP:20260420T204015
CREATED:20260418T152433Z
LAST-MODIFIED:20260418T152433Z
UID:10865988-1778090400-1778097600@seniorocity.com.au
SUMMARY:Out Where The Watercolours Are
DESCRIPTION:Out Where the Watercolours Are is a joint exhibition by two Perth-based artists\, showcasing original watercolour works inspired by the Western Australian landscape. \nFrom coastal scenes to inland ranges\, the collection captures moments from road trips\, time spent working in the Pilbara\, and a love for native wildlife and flora. Each piece reflects a personal connection to place\, translated through colour\, light\, and texture. \nThe exhibition is open Wednesday to Saturday\, 10.00am–3.-00pm. Join us for the opening night with champagne from 6.00–8.00pm on Wednesday 6 May\, or meet the artists on Sunday 10 May from 3.00pm–4.00pm. \n 
URL:https://seniorocity.com.au/whats-on-perth/out-where-the-watercolours-are/2026-05-06/
LOCATION:Stirling Community Centres – Bob Daniel – Inglewood\, 895 Beaufort Street\, Perth\, WA\, 6052\, Australia
CATEGORIES:Exhibition,Free
ATTACH;FMTTYPE=image/png:https://seniorocity.com.au/wp-content/uploads/2026/04/Out-Where-The-Watercolours-Are.png
END:VEVENT
BEGIN:VEVENT
DTSTART;TZID=Australia/Perth:20260507T100000
DTEND;TZID=Australia/Perth:20260507T150000
DTSTAMP:20260420T204015
CREATED:20260418T152433Z
LAST-MODIFIED:20260418T152433Z
UID:10865989-1778148000-1778166000@seniorocity.com.au
SUMMARY:Out Where The Watercolours Are
DESCRIPTION:Out Where the Watercolours Are is a joint exhibition by two Perth-based artists\, showcasing original watercolour works inspired by the Western Australian landscape. \nFrom coastal scenes to inland ranges\, the collection captures moments from road trips\, time spent working in the Pilbara\, and a love for native wildlife and flora. Each piece reflects a personal connection to place\, translated through colour\, light\, and texture. \nThe exhibition is open Wednesday to Saturday\, 10.00am–3.-00pm. Join us for the opening night with champagne from 6.00–8.00pm on Wednesday 6 May\, or meet the artists on Sunday 10 May from 3.00pm–4.00pm. \n 
URL:https://seniorocity.com.au/whats-on-perth/out-where-the-watercolours-are/2026-05-07/
LOCATION:Stirling Community Centres – Bob Daniel – Inglewood\, 895 Beaufort Street\, Perth\, WA\, 6052\, Australia
CATEGORIES:Exhibition,Free
ATTACH;FMTTYPE=image/png:https://seniorocity.com.au/wp-content/uploads/2026/04/Out-Where-The-Watercolours-Are.png
END:VEVENT
BEGIN:VEVENT
DTSTART;TZID=Australia/Perth:20260508T100000
DTEND;TZID=Australia/Perth:20260508T150000
DTSTAMP:20260420T204015
CREATED:20260418T152433Z
LAST-MODIFIED:20260418T152433Z
UID:10865990-1778234400-1778252400@seniorocity.com.au
SUMMARY:Out Where The Watercolours Are
DESCRIPTION:Out Where the Watercolours Are is a joint exhibition by two Perth-based artists\, showcasing original watercolour works inspired by the Western Australian landscape. \nFrom coastal scenes to inland ranges\, the collection captures moments from road trips\, time spent working in the Pilbara\, and a love for native wildlife and flora. Each piece reflects a personal connection to place\, translated through colour\, light\, and texture. \nThe exhibition is open Wednesday to Saturday\, 10.00am–3.-00pm. Join us for the opening night with champagne from 6.00–8.00pm on Wednesday 6 May\, or meet the artists on Sunday 10 May from 3.00pm–4.00pm. \n 
URL:https://seniorocity.com.au/whats-on-perth/out-where-the-watercolours-are/2026-05-08/
LOCATION:Stirling Community Centres – Bob Daniel – Inglewood\, 895 Beaufort Street\, Perth\, WA\, 6052\, Australia
CATEGORIES:Exhibition,Free
ATTACH;FMTTYPE=image/png:https://seniorocity.com.au/wp-content/uploads/2026/04/Out-Where-The-Watercolours-Are.png
END:VEVENT
BEGIN:VEVENT
DTSTART;TZID=Australia/Perth:20260509T100000
DTEND;TZID=Australia/Perth:20260509T150000
DTSTAMP:20260420T204015
CREATED:20260418T152433Z
LAST-MODIFIED:20260418T152433Z
UID:10865991-1778320800-1778338800@seniorocity.com.au
SUMMARY:Out Where The Watercolours Are
DESCRIPTION:Out Where the Watercolours Are is a joint exhibition by two Perth-based artists\, showcasing original watercolour works inspired by the Western Australian landscape. \nFrom coastal scenes to inland ranges\, the collection captures moments from road trips\, time spent working in the Pilbara\, and a love for native wildlife and flora. Each piece reflects a personal connection to place\, translated through colour\, light\, and texture. \nThe exhibition is open Wednesday to Saturday\, 10.00am–3.-00pm. Join us for the opening night with champagne from 6.00–8.00pm on Wednesday 6 May\, or meet the artists on Sunday 10 May from 3.00pm–4.00pm. \n 
URL:https://seniorocity.com.au/whats-on-perth/out-where-the-watercolours-are/2026-05-09/
LOCATION:Stirling Community Centres – Bob Daniel – Inglewood\, 895 Beaufort Street\, Perth\, WA\, 6052\, Australia
CATEGORIES:Exhibition,Free
ATTACH;FMTTYPE=image/png:https://seniorocity.com.au/wp-content/uploads/2026/04/Out-Where-The-Watercolours-Are.png
END:VEVENT
BEGIN:VEVENT
DTSTART;TZID=Australia/Perth:20260510T150000
DTEND;TZID=Australia/Perth:20260510T160000
DTSTAMP:20260420T204015
CREATED:20260418T152433Z
LAST-MODIFIED:20260418T152433Z
UID:10865992-1778425200-1778428800@seniorocity.com.au
SUMMARY:Out Where The Watercolours Are
DESCRIPTION:Out Where the Watercolours Are is a joint exhibition by two Perth-based artists\, showcasing original watercolour works inspired by the Western Australian landscape. \nFrom coastal scenes to inland ranges\, the collection captures moments from road trips\, time spent working in the Pilbara\, and a love for native wildlife and flora. Each piece reflects a personal connection to place\, translated through colour\, light\, and texture. \nThe exhibition is open Wednesday to Saturday\, 10.00am–3.-00pm. Join us for the opening night with champagne from 6.00–8.00pm on Wednesday 6 May\, or meet the artists on Sunday 10 May from 3.00pm–4.00pm. \n 
URL:https://seniorocity.com.au/whats-on-perth/out-where-the-watercolours-are/2026-05-10/
LOCATION:Stirling Community Centres – Bob Daniel – Inglewood\, 895 Beaufort Street\, Perth\, WA\, 6052\, Australia
CATEGORIES:Exhibition,Free
ATTACH;FMTTYPE=image/png:https://seniorocity.com.au/wp-content/uploads/2026/04/Out-Where-The-Watercolours-Are.png
END:VEVENT
BEGIN:VEVENT
DTSTART;TZID=Australia/Perth:20260513T100000
DTEND;TZID=Australia/Perth:20260513T150000
DTSTAMP:20260420T204015
CREATED:20260418T152433Z
LAST-MODIFIED:20260418T152433Z
UID:10865993-1778666400-1778684400@seniorocity.com.au
SUMMARY:Out Where The Watercolours Are
DESCRIPTION:Out Where the Watercolours Are is a joint exhibition by two Perth-based artists\, showcasing original watercolour works inspired by the Western Australian landscape. \nFrom coastal scenes to inland ranges\, the collection captures moments from road trips\, time spent working in the Pilbara\, and a love for native wildlife and flora. Each piece reflects a personal connection to place\, translated through colour\, light\, and texture. \nThe exhibition is open Wednesday to Saturday\, 10.00am–3.-00pm. Join us for the opening night with champagne from 6.00–8.00pm on Wednesday 6 May\, or meet the artists on Sunday 10 May from 3.00pm–4.00pm. \n 
URL:https://seniorocity.com.au/whats-on-perth/out-where-the-watercolours-are/2026-05-13/
LOCATION:Stirling Community Centres – Bob Daniel – Inglewood\, 895 Beaufort Street\, Perth\, WA\, 6052\, Australia
CATEGORIES:Exhibition,Free
ATTACH;FMTTYPE=image/png:https://seniorocity.com.au/wp-content/uploads/2026/04/Out-Where-The-Watercolours-Are.png
END:VEVENT
BEGIN:VEVENT
DTSTART;TZID=Australia/Perth:20260514T100000
DTEND;TZID=Australia/Perth:20260514T150000
DTSTAMP:20260420T204015
CREATED:20260418T152433Z
LAST-MODIFIED:20260418T152433Z
UID:10865994-1778752800-1778770800@seniorocity.com.au
SUMMARY:Out Where The Watercolours Are
DESCRIPTION:Out Where the Watercolours Are is a joint exhibition by two Perth-based artists\, showcasing original watercolour works inspired by the Western Australian landscape. \nFrom coastal scenes to inland ranges\, the collection captures moments from road trips\, time spent working in the Pilbara\, and a love for native wildlife and flora. Each piece reflects a personal connection to place\, translated through colour\, light\, and texture. \nThe exhibition is open Wednesday to Saturday\, 10.00am–3.-00pm. Join us for the opening night with champagne from 6.00–8.00pm on Wednesday 6 May\, or meet the artists on Sunday 10 May from 3.00pm–4.00pm. \n 
URL:https://seniorocity.com.au/whats-on-perth/out-where-the-watercolours-are/2026-05-14/
LOCATION:Stirling Community Centres – Bob Daniel – Inglewood\, 895 Beaufort Street\, Perth\, WA\, 6052\, Australia
CATEGORIES:Exhibition,Free
ATTACH;FMTTYPE=image/png:https://seniorocity.com.au/wp-content/uploads/2026/04/Out-Where-The-Watercolours-Are.png
END:VEVENT
BEGIN:VEVENT
DTSTART;TZID=Australia/Perth:20260515T100000
DTEND;TZID=Australia/Perth:20260515T150000
DTSTAMP:20260420T204015
CREATED:20260418T152433Z
LAST-MODIFIED:20260418T152433Z
UID:10865995-1778839200-1778857200@seniorocity.com.au
SUMMARY:Out Where The Watercolours Are
DESCRIPTION:Out Where the Watercolours Are is a joint exhibition by two Perth-based artists\, showcasing original watercolour works inspired by the Western Australian landscape. \nFrom coastal scenes to inland ranges\, the collection captures moments from road trips\, time spent working in the Pilbara\, and a love for native wildlife and flora. Each piece reflects a personal connection to place\, translated through colour\, light\, and texture. \nThe exhibition is open Wednesday to Saturday\, 10.00am–3.-00pm. Join us for the opening night with champagne from 6.00–8.00pm on Wednesday 6 May\, or meet the artists on Sunday 10 May from 3.00pm–4.00pm. \n 
URL:https://seniorocity.com.au/whats-on-perth/out-where-the-watercolours-are/2026-05-15/
LOCATION:Stirling Community Centres – Bob Daniel – Inglewood\, 895 Beaufort Street\, Perth\, WA\, 6052\, Australia
CATEGORIES:Exhibition,Free
ATTACH;FMTTYPE=image/png:https://seniorocity.com.au/wp-content/uploads/2026/04/Out-Where-The-Watercolours-Are.png
END:VEVENT
BEGIN:VEVENT
DTSTART;TZID=Australia/Perth:20260516T100000
DTEND;TZID=Australia/Perth:20260516T150000
DTSTAMP:20260420T204015
CREATED:20260418T152433Z
LAST-MODIFIED:20260418T152433Z
UID:10865996-1778925600-1778943600@seniorocity.com.au
SUMMARY:Out Where The Watercolours Are
DESCRIPTION:Out Where the Watercolours Are is a joint exhibition by two Perth-based artists\, showcasing original watercolour works inspired by the Western Australian landscape. \nFrom coastal scenes to inland ranges\, the collection captures moments from road trips\, time spent working in the Pilbara\, and a love for native wildlife and flora. Each piece reflects a personal connection to place\, translated through colour\, light\, and texture. \nThe exhibition is open Wednesday to Saturday\, 10.00am–3.-00pm. Join us for the opening night with champagne from 6.00–8.00pm on Wednesday 6 May\, or meet the artists on Sunday 10 May from 3.00pm–4.00pm. \n 
URL:https://seniorocity.com.au/whats-on-perth/out-where-the-watercolours-are/2026-05-16/
LOCATION:Stirling Community Centres – Bob Daniel – Inglewood\, 895 Beaufort Street\, Perth\, WA\, 6052\, Australia
CATEGORIES:Exhibition,Free
ATTACH;FMTTYPE=image/png:https://seniorocity.com.au/wp-content/uploads/2026/04/Out-Where-The-Watercolours-Are.png
END:VEVENT
END:VCALENDAR