BEGIN:VCALENDAR
VERSION:2.0
PRODID:-//Seniorocity - Seniors / Over 55&#039;s Guide to Perth - ECPv6.15.11//NONSGML v1.0//EN
CALSCALE:GREGORIAN
METHOD:PUBLISH
X-WR-CALNAME:Seniorocity - Seniors / Over 55&#039;s Guide to Perth
X-ORIGINAL-URL:https://seniorocity.com.au
X-WR-CALDESC:Events for Seniorocity - Seniors / Over 55&#039;s Guide to Perth
REFRESH-INTERVAL;VALUE=DURATION:PT1H
X-Robots-Tag:noindex
X-PUBLISHED-TTL:PT1H
BEGIN:VTIMEZONE
TZID:Australia/Perth
BEGIN:STANDARD
TZOFFSETFROM:+0800
TZOFFSETTO:+0800
TZNAME:AWST
DTSTART:20250101T000000
END:STANDARD
END:VTIMEZONE
BEGIN:VEVENT
DTSTART;TZID=Australia/Perth:20260510T110000
DTEND;TZID=Australia/Perth:20260510T120000
DTSTAMP:20260424T013308
CREATED:20260423T134029Z
LAST-MODIFIED:20260423T134029Z
UID:10866105-1778410800-1778414400@seniorocity.com.au
SUMMARY:Boatshed Tours at the Claremont Museum
DESCRIPTION:The Claremont Museum is proud to host this special event series which will see participants discover the stories of the last boat building shed on the Swan River. \nStep back in time as you marvel at the wonderful artefacts on display in this centuries old wooden building. \nThe Boatshed Tours will be taken by local resident Chris Mews (whose family donated the shed to the Claremont Museum) as he shares his passion and knowledge surrounding this historical gem. \nThis is a free event however bookings are essential. \nTo book\, simply click here and select your preferred date.
URL:https://seniorocity.com.au/whats-on-perth/boatshed-tours-at-the-claremont-museum/2026-05-10/
LOCATION:Claremont Museum\, Mrs Herbert's Park\, 66 Victoria Ave\, Claremont\, WA\, 6010\, Australia
CATEGORIES:Free,Museum,Tour
ATTACH;FMTTYPE=image/jpeg:https://seniorocity.com.au/wp-content/uploads/2026/04/Boatshed-Tours-at-the-Claremont-Museum.jpg
END:VEVENT
BEGIN:VEVENT
DTSTART;TZID=Australia/Perth:20260917T110000
DTEND;TZID=Australia/Perth:20260917T120000
DTSTAMP:20260424T013308
CREATED:20260423T134029Z
LAST-MODIFIED:20260423T134029Z
UID:10866106-1789642800-1789646400@seniorocity.com.au
SUMMARY:Boatshed Tours at the Claremont Museum
DESCRIPTION:The Claremont Museum is proud to host this special event series which will see participants discover the stories of the last boat building shed on the Swan River. \nStep back in time as you marvel at the wonderful artefacts on display in this centuries old wooden building. \nThe Boatshed Tours will be taken by local resident Chris Mews (whose family donated the shed to the Claremont Museum) as he shares his passion and knowledge surrounding this historical gem. \nThis is a free event however bookings are essential. \nTo book\, simply click here and select your preferred date.
URL:https://seniorocity.com.au/whats-on-perth/boatshed-tours-at-the-claremont-museum/2026-09-17/
LOCATION:Claremont Museum\, Mrs Herbert's Park\, 66 Victoria Ave\, Claremont\, WA\, 6010\, Australia
CATEGORIES:Free,Museum,Tour
ATTACH;FMTTYPE=image/jpeg:https://seniorocity.com.au/wp-content/uploads/2026/04/Boatshed-Tours-at-the-Claremont-Museum.jpg
END:VEVENT
BEGIN:VEVENT
DTSTART;TZID=Australia/Perth:20261011T110000
DTEND;TZID=Australia/Perth:20261011T120000
DTSTAMP:20260424T013308
CREATED:20260423T134029Z
LAST-MODIFIED:20260423T134029Z
UID:10866107-1791716400-1791720000@seniorocity.com.au
SUMMARY:Boatshed Tours at the Claremont Museum
DESCRIPTION:The Claremont Museum is proud to host this special event series which will see participants discover the stories of the last boat building shed on the Swan River. \nStep back in time as you marvel at the wonderful artefacts on display in this centuries old wooden building. \nThe Boatshed Tours will be taken by local resident Chris Mews (whose family donated the shed to the Claremont Museum) as he shares his passion and knowledge surrounding this historical gem. \nThis is a free event however bookings are essential. \nTo book\, simply click here and select your preferred date.
URL:https://seniorocity.com.au/whats-on-perth/boatshed-tours-at-the-claremont-museum/2026-10-11/
LOCATION:Claremont Museum\, Mrs Herbert's Park\, 66 Victoria Ave\, Claremont\, WA\, 6010\, Australia
CATEGORIES:Free,Museum,Tour
ATTACH;FMTTYPE=image/jpeg:https://seniorocity.com.au/wp-content/uploads/2026/04/Boatshed-Tours-at-the-Claremont-Museum.jpg
END:VEVENT
BEGIN:VEVENT
DTSTART;TZID=Australia/Perth:20261119T110000
DTEND;TZID=Australia/Perth:20261119T120000
DTSTAMP:20260424T013308
CREATED:20260423T134029Z
LAST-MODIFIED:20260423T134029Z
UID:10866108-1795086000-1795089600@seniorocity.com.au
SUMMARY:Boatshed Tours at the Claremont Museum
DESCRIPTION:The Claremont Museum is proud to host this special event series which will see participants discover the stories of the last boat building shed on the Swan River. \nStep back in time as you marvel at the wonderful artefacts on display in this centuries old wooden building. \nThe Boatshed Tours will be taken by local resident Chris Mews (whose family donated the shed to the Claremont Museum) as he shares his passion and knowledge surrounding this historical gem. \nThis is a free event however bookings are essential. \nTo book\, simply click here and select your preferred date.
URL:https://seniorocity.com.au/whats-on-perth/boatshed-tours-at-the-claremont-museum/2026-11-19/
LOCATION:Claremont Museum\, Mrs Herbert's Park\, 66 Victoria Ave\, Claremont\, WA\, 6010\, Australia
CATEGORIES:Free,Museum,Tour
ATTACH;FMTTYPE=image/jpeg:https://seniorocity.com.au/wp-content/uploads/2026/04/Boatshed-Tours-at-the-Claremont-Museum.jpg
END:VEVENT
END:VCALENDAR